BEGIN:VCALENDAR
VERSION:2.0
PRODID:-//Clayton Bocce League
METHOD:PUBLISH
BEGIN:VTIMEZONE
TZID:America/Los_Angeles
X-LIC-LOCATION:America/Los_Angeles
BEGIN:DAYLIGHT
TZOFFSETFROM:-0800
TZOFFSETTO:-0700
TZNAME:PDT
DTSTART:20070311T020000
RRULE:FREQ=YEARLY;BYMONTH=3;BYDAY=2SU
END:DAYLIGHT
BEGIN:STANDARD
TZOFFSETFROM:-0700
TZOFFSETTO:-0800
TZNAME:PST
DTSTART:20071104T020000
RRULE:FREQ=YEARLY;BYMONTH=11;BYDAY=1SU
END:STANDARD
END:VTIMEZONE
BEGIN:VEVENT
DTSTAMP:20260419T000000Z
UID:a95de7aa-5fe1-42a8-af86-fdc3a6db1803@ClaytonBocce
DTSTART;TZID=America/Los_Angeles:20260424T183000
DTEND;TZID=America/Los_Angeles:20260424T210000
STATUS:CONFIRMED
SUMMARY:BOCCE BUMS vs UNTOUCHABALLS
URL:/League/Schedule/3092
DESCRIPTION:Regular Season match: BOCCE BUMS vs UNTOUCHABALL
 S
LOCATION:Martinez Court 7
END:VEVENT
BEGIN:VEVENT
DTSTAMP:20260419T000000Z
UID:d64b2a4f-429d-4786-9560-31d803602c84@ClaytonBocce
DTSTART;TZID=America/Los_Angeles:20260501T183000
DTEND;TZID=America/Los_Angeles:20260501T210000
STATUS:CONFIRMED
SUMMARY:BOCCE BUMS vs SCUSI
URL:/League/Schedule/3092
DESCRIPTION:Regular Season match: BOCCE BUMS vs SCUSI
LOCATION:Martinez Court 12
END:VEVENT
BEGIN:VEVENT
DTSTAMP:20260419T000000Z
UID:9a7bbfd8-2b26-43e2-9ad4-5df881d09ea2@ClaytonBocce
DTSTART;TZID=America/Los_Angeles:20260508T183000
DTEND;TZID=America/Los_Angeles:20260508T210000
STATUS:CONFIRMED
SUMMARY:BOCCE BUMS vs BALLS "4" HIRE
URL:/League/Schedule/3092
DESCRIPTION:Regular Season match: BOCCE BUMS vs BALLS "4" HI
 RE
LOCATION:Martinez Court 2
END:VEVENT
BEGIN:VEVENT
DTSTAMP:20260419T000000Z
UID:ee3b6e2e-c5e9-433a-9d6d-b40c7059d961@ClaytonBocce
DTSTART;TZID=America/Los_Angeles:20260515T183000
DTEND;TZID=America/Los_Angeles:20260515T210000
STATUS:CONFIRMED
SUMMARY:BOCCE BUMS vs WANT SOME GET SOME
URL:/League/Schedule/3092
DESCRIPTION:Regular Season match: BOCCE BUMS vs WANT SOME GE
 T SOME
LOCATION:Martinez Court 6
END:VEVENT
BEGIN:VEVENT
DTSTAMP:20260419T000000Z
UID:6589844f-932e-4afd-81d7-7b9336c8c89d@ClaytonBocce
DTSTART;TZID=America/Los_Angeles:20260522T183000
DTEND;TZID=America/Los_Angeles:20260522T210000
STATUS:CONFIRMED
SUMMARY:BOCCE BUMS vs LA DOLCE VITA
URL:/League/Schedule/3092
DESCRIPTION:Regular Season match: BOCCE BUMS vs LA DOLCE VIT
 A
LOCATION:Martinez Court 9
END:VEVENT
BEGIN:VEVENT
DTSTAMP:20260419T000000Z
UID:780589ae-e298-4e22-a463-93a3d45149c4@ClaytonBocce
DTSTART;TZID=America/Los_Angeles:20260529T183000
DTEND;TZID=America/Los_Angeles:20260529T210000
STATUS:CONFIRMED
SUMMARY:BOCCE BUMS vs EVERY BOCCE WANG CHUNG TONIGHT
URL:/League/Schedule/3092
DESCRIPTION:Regular Season match: BOCCE BUMS vs EVERY BOCCE 
 WANG CHUNG TONIGHT
LOCATION:Martinez Court 10
END:VEVENT
BEGIN:VEVENT
DTSTAMP:20260419T000000Z
UID:76b77095-9ed2-4dc4-9210-ee33f24335d3@ClaytonBocce
DTSTART;TZID=America/Los_Angeles:20260612T183000
DTEND;TZID=America/Los_Angeles:20260612T210000
STATUS:CONFIRMED
SUMMARY:BOCCE BUMS vs UNTOUCHABALLS
URL:/League/Schedule/3092
DESCRIPTION:Regular Season match: BOCCE BUMS vs UNTOUCHABALL
 S
LOCATION:Martinez Court 3
END:VEVENT
BEGIN:VEVENT
DTSTAMP:20260419T000000Z
UID:d8142082-c6d2-4ef3-b8ab-8bdbdbf8dc2f@ClaytonBocce
DTSTART;TZID=America/Los_Angeles:20260619T183000
DTEND;TZID=America/Los_Angeles:20260619T210000
STATUS:CONFIRMED
SUMMARY:BOCCE BUMS vs SCUSI
URL:/League/Schedule/3092
DESCRIPTION:Regular Season match: BOCCE BUMS vs SCUSI
LOCATION:Martinez Court 5
END:VEVENT
BEGIN:VEVENT
DTSTAMP:20260419T000000Z
UID:71ed53ad-0787-4eb5-87b6-65b65b6666fc@ClaytonBocce
DTSTART;TZID=America/Los_Angeles:20260626T183000
DTEND;TZID=America/Los_Angeles:20260626T210000
STATUS:CONFIRMED
SUMMARY:BOCCE BUMS vs BALLS "4" HIRE
URL:/League/Schedule/3092
DESCRIPTION:Regular Season match: BOCCE BUMS vs BALLS "4" HI
 RE
LOCATION:Martinez Court 4
END:VEVENT
BEGIN:VEVENT
DTSTAMP:20260419T000000Z
UID:c5a2e3f3-69c6-44fb-a549-a9e0f5d019b5@ClaytonBocce
DTSTART;TZID=America/Los_Angeles:20260710T183000
DTEND;TZID=America/Los_Angeles:20260710T210000
STATUS:CONFIRMED
SUMMARY:BOCCE BUMS vs WANT SOME GET SOME
URL:/League/Schedule/3092
DESCRIPTION:Regular Season match: BOCCE BUMS vs WANT SOME GE
 T SOME
LOCATION:Martinez Court 14
END:VEVENT
BEGIN:VEVENT
DTSTAMP:20260419T000000Z
UID:fe7f5b7d-c89f-47ea-b1f9-4f1fe91ad00e@ClaytonBocce
DTSTART;TZID=America/Los_Angeles:20260717T183000
DTEND;TZID=America/Los_Angeles:20260717T210000
STATUS:CONFIRMED
SUMMARY:BOCCE BUMS vs LA DOLCE VITA
URL:/League/Schedule/3092
DESCRIPTION:Regular Season match: BOCCE BUMS vs LA DOLCE VIT
 A
LOCATION:Martinez Court 11
END:VEVENT
BEGIN:VEVENT
DTSTAMP:20260419T000000Z
UID:24665eda-f290-4537-b273-99e06ca23334@ClaytonBocce
DTSTART;TZID=America/Los_Angeles:20260724T183000
DTEND;TZID=America/Los_Angeles:20260724T210000
STATUS:CONFIRMED
SUMMARY:BOCCE BUMS vs EVERY BOCCE WANG CHUNG TONIGHT
URL:/League/Schedule/3092
DESCRIPTION:Regular Season match: BOCCE BUMS vs EVERY BOCCE 
 WANG CHUNG TONIGHT
LOCATION:Martinez Court 13
END:VEVENT
BEGIN:VEVENT
DTSTAMP:20260419T000000Z
UID:9aa5b71f-af25-4571-9e57-09e8cb11a287@ClaytonBocce
DTSTART;TZID=America/Los_Angeles:20260807T183000
DTEND;TZID=America/Los_Angeles:20260807T210000
STATUS:CONFIRMED
SUMMARY:BOCCE BUMS vs UNTOUCHABALLS
URL:/League/Schedule/3092
DESCRIPTION:Regular Season match: BOCCE BUMS vs UNTOUCHABALL
 S
LOCATION:Martinez Court 14
END:VEVENT
BEGIN:VEVENT
DTSTAMP:20260419T000000Z
UID:5524f538-990d-4c37-b852-b9fe46a1bcd7@ClaytonBocce
DTSTART;TZID=America/Los_Angeles:20260814T183000
DTEND;TZID=America/Los_Angeles:20260814T210000
STATUS:CONFIRMED
SUMMARY:BOCCE BUMS vs SCUSI
URL:/League/Schedule/3092
DESCRIPTION:Regular Season match: BOCCE BUMS vs SCUSI
LOCATION:Martinez Court 12
END:VEVENT
BEGIN:VEVENT
DTSTAMP:20260419T000000Z
UID:80d584ec-f65f-4302-936a-df9b88ae8e7d@ClaytonBocce
DTSTART;TZID=America/Los_Angeles:20260821T183000
DTEND;TZID=America/Los_Angeles:20260821T210000
STATUS:CONFIRMED
SUMMARY:BOCCE BUMS vs BALLS "4" HIRE
URL:/League/Schedule/3092
DESCRIPTION:Regular Season match: BOCCE BUMS vs BALLS "4" HI
 RE
LOCATION:Martinez Court 15
END:VEVENT
BEGIN:VEVENT
DTSTAMP:20260419T000000Z
UID:57c82227-ef0f-4eec-9b2e-29b37bb52510@ClaytonBocce
DTSTART;TZID=America/Los_Angeles:20260828T183000
DTEND;TZID=America/Los_Angeles:20260828T210000
STATUS:CONFIRMED
SUMMARY:BOCCE BUMS vs WANT SOME GET SOME
URL:/League/Schedule/3092
DESCRIPTION:Regular Season match: BOCCE BUMS vs WANT SOME GE
 T SOME
LOCATION:Martinez Court 5
END:VEVENT
BEGIN:VEVENT
DTSTAMP:20260419T000000Z
UID:9d8556c8-2262-44fd-b0a0-6ef9f5970098@ClaytonBocce
DTSTART;TZID=America/Los_Angeles:20260904T183000
DTEND;TZID=America/Los_Angeles:20260904T210000
STATUS:CONFIRMED
SUMMARY:BOCCE BUMS vs LA DOLCE VITA
URL:/League/Schedule/3092
DESCRIPTION:Regular Season match: BOCCE BUMS vs LA DOLCE VIT
 A
LOCATION:Martinez Court 6
END:VEVENT
BEGIN:VEVENT
DTSTAMP:20260419T000000Z
UID:fd042603-ad7d-457d-a54b-1e3924ca4bca@ClaytonBocce
DTSTART;TZID=America/Los_Angeles:20260911T183000
DTEND;TZID=America/Los_Angeles:20260911T210000
STATUS:CONFIRMED
SUMMARY:BOCCE BUMS vs EVERY BOCCE WANG CHUNG TONIGHT
URL:/League/Schedule/3092
DESCRIPTION:Regular Season match: BOCCE BUMS vs EVERY BOCCE 
 WANG CHUNG TONIGHT
LOCATION:Martinez Court 1
END:VEVENT
END:VCALENDAR
