BEGIN:VCALENDAR
VERSION:2.0
PRODID:-//Clayton Bocce League
METHOD:PUBLISH
BEGIN:VTIMEZONE
TZID:America/Los_Angeles
X-LIC-LOCATION:America/Los_Angeles
BEGIN:DAYLIGHT
TZOFFSETFROM:-0800
TZOFFSETTO:-0700
TZNAME:PDT
DTSTART:20070311T020000
RRULE:FREQ=YEARLY;BYMONTH=3;BYDAY=2SU
END:DAYLIGHT
BEGIN:STANDARD
TZOFFSETFROM:-0700
TZOFFSETTO:-0800
TZNAME:PST
DTSTART:20071104T020000
RRULE:FREQ=YEARLY;BYMONTH=11;BYDAY=1SU
END:STANDARD
END:VTIMEZONE
BEGIN:VEVENT
DTSTAMP:20260419T000000Z
UID:a95de7aa-5fe1-42a8-af86-fdc3a6db1803@ClaytonBocce
DTSTART;TZID=America/Los_Angeles:20260424T183000
DTEND;TZID=America/Los_Angeles:20260424T210000
STATUS:CONFIRMED
SUMMARY:UNTOUCHABALLS vs BOCCE BUMS
URL:/League/Schedule/3097
DESCRIPTION:Regular Season match: UNTOUCHABALLS vs BOCCE BUM
 S
LOCATION:Martinez Court 7
END:VEVENT
BEGIN:VEVENT
DTSTAMP:20260419T000000Z
UID:e2513002-6c10-4dda-9550-7c95e258ae31@ClaytonBocce
DTSTART;TZID=America/Los_Angeles:20260508T183000
DTEND;TZID=America/Los_Angeles:20260508T210000
STATUS:CONFIRMED
SUMMARY:UNTOUCHABALLS vs LA DOLCE VITA
URL:/League/Schedule/3097
DESCRIPTION:Regular Season match: UNTOUCHABALLS vs LA DOLCE 
 VITA
LOCATION:Martinez Court 4
END:VEVENT
BEGIN:VEVENT
DTSTAMP:20260419T000000Z
UID:a2f55215-a7bb-4164-9947-0aa9621a1470@ClaytonBocce
DTSTART;TZID=America/Los_Angeles:20260515T183000
DTEND;TZID=America/Los_Angeles:20260515T210000
STATUS:CONFIRMED
SUMMARY:UNTOUCHABALLS vs SCUSI
URL:/League/Schedule/3097
DESCRIPTION:Regular Season match: UNTOUCHABALLS vs SCUSI
LOCATION:Martinez Court 5
END:VEVENT
BEGIN:VEVENT
DTSTAMP:20260419T000000Z
UID:f1bc73a1-8ce3-49ae-99cf-99dc6a2022bf@ClaytonBocce
DTSTART;TZID=America/Los_Angeles:20260522T183000
DTEND;TZID=America/Los_Angeles:20260522T210000
STATUS:CONFIRMED
SUMMARY:UNTOUCHABALLS vs EVERY BOCCE WANG CHUNG TONIGHT
URL:/League/Schedule/3097
DESCRIPTION:Regular Season match: UNTOUCHABALLS vs EVERY BOC
 CE WANG CHUNG TONIGHT
LOCATION:Martinez Court 11
END:VEVENT
BEGIN:VEVENT
DTSTAMP:20260419T000000Z
UID:35c590ed-c93e-495c-9e33-1c37fac3bef1@ClaytonBocce
DTSTART;TZID=America/Los_Angeles:20260529T183000
DTEND;TZID=America/Los_Angeles:20260529T210000
STATUS:CONFIRMED
SUMMARY:UNTOUCHABALLS vs BALLS "4" HIRE
URL:/League/Schedule/3097
DESCRIPTION:Regular Season match: UNTOUCHABALLS vs BALLS "4"
  HIRE
LOCATION:Martinez Court 12
END:VEVENT
BEGIN:VEVENT
DTSTAMP:20260419T000000Z
UID:e2aaace5-b13f-42dc-8b21-73dbd8b370da@ClaytonBocce
DTSTART;TZID=America/Los_Angeles:20260605T183000
DTEND;TZID=America/Los_Angeles:20260605T210000
STATUS:CONFIRMED
SUMMARY:UNTOUCHABALLS vs WANT SOME GET SOME
URL:/League/Schedule/3097
DESCRIPTION:Regular Season match: UNTOUCHABALLS vs WANT SOME
  GET SOME
LOCATION:Martinez Court 15
END:VEVENT
BEGIN:VEVENT
DTSTAMP:20260419T000000Z
UID:76b77095-9ed2-4dc4-9210-ee33f24335d3@ClaytonBocce
DTSTART;TZID=America/Los_Angeles:20260612T183000
DTEND;TZID=America/Los_Angeles:20260612T210000
STATUS:CONFIRMED
SUMMARY:UNTOUCHABALLS vs BOCCE BUMS
URL:/League/Schedule/3097
DESCRIPTION:Regular Season match: UNTOUCHABALLS vs BOCCE BUM
 S
LOCATION:Martinez Court 3
END:VEVENT
BEGIN:VEVENT
DTSTAMP:20260419T000000Z
UID:47ddc1d8-a049-4079-bc9e-fe7b2a122f75@ClaytonBocce
DTSTART;TZID=America/Los_Angeles:20260626T183000
DTEND;TZID=America/Los_Angeles:20260626T210000
STATUS:CONFIRMED
SUMMARY:UNTOUCHABALLS vs LA DOLCE VITA
URL:/League/Schedule/3097
DESCRIPTION:Regular Season match: UNTOUCHABALLS vs LA DOLCE 
 VITA
LOCATION:Martinez Court 6
END:VEVENT
BEGIN:VEVENT
DTSTAMP:20260419T000000Z
UID:6f9b1ff7-59c9-4602-a2e5-4bdd729884e3@ClaytonBocce
DTSTART;TZID=America/Los_Angeles:20260710T183000
DTEND;TZID=America/Los_Angeles:20260710T210000
STATUS:CONFIRMED
SUMMARY:UNTOUCHABALLS vs SCUSI
URL:/League/Schedule/3097
DESCRIPTION:Regular Season match: UNTOUCHABALLS vs SCUSI
LOCATION:Martinez Court 13
END:VEVENT
BEGIN:VEVENT
DTSTAMP:20260419T000000Z
UID:afcf6016-a52a-4ff0-be6b-54ee7cf2da03@ClaytonBocce
DTSTART;TZID=America/Los_Angeles:20260717T183000
DTEND;TZID=America/Los_Angeles:20260717T210000
STATUS:CONFIRMED
SUMMARY:UNTOUCHABALLS vs EVERY BOCCE WANG CHUNG TONIGHT
URL:/League/Schedule/3097
DESCRIPTION:Regular Season match: UNTOUCHABALLS vs EVERY BOC
 CE WANG CHUNG TONIGHT
LOCATION:Martinez Court 15
END:VEVENT
BEGIN:VEVENT
DTSTAMP:20260419T000000Z
UID:c65f7378-ff69-4149-8d1c-8dd14fdf475e@ClaytonBocce
DTSTART;TZID=America/Los_Angeles:20260724T183000
DTEND;TZID=America/Los_Angeles:20260724T210000
STATUS:CONFIRMED
SUMMARY:UNTOUCHABALLS vs BALLS "4" HIRE
URL:/League/Schedule/3097
DESCRIPTION:Regular Season match: UNTOUCHABALLS vs BALLS "4"
  HIRE
LOCATION:Martinez Court 11
END:VEVENT
BEGIN:VEVENT
DTSTAMP:20260419T000000Z
UID:ee674da0-dbbe-4fa9-bd18-1059ba973f74@ClaytonBocce
DTSTART;TZID=America/Los_Angeles:20260731T183000
DTEND;TZID=America/Los_Angeles:20260731T210000
STATUS:CONFIRMED
SUMMARY:UNTOUCHABALLS vs WANT SOME GET SOME
URL:/League/Schedule/3097
DESCRIPTION:Regular Season match: UNTOUCHABALLS vs WANT SOME
  GET SOME
LOCATION:Martinez Court 1
END:VEVENT
BEGIN:VEVENT
DTSTAMP:20260419T000000Z
UID:9aa5b71f-af25-4571-9e57-09e8cb11a287@ClaytonBocce
DTSTART;TZID=America/Los_Angeles:20260807T183000
DTEND;TZID=America/Los_Angeles:20260807T210000
STATUS:CONFIRMED
SUMMARY:UNTOUCHABALLS vs BOCCE BUMS
URL:/League/Schedule/3097
DESCRIPTION:Regular Season match: UNTOUCHABALLS vs BOCCE BUM
 S
LOCATION:Martinez Court 14
END:VEVENT
BEGIN:VEVENT
DTSTAMP:20260419T000000Z
UID:bfd81135-8825-4cfb-ade0-a91d56469917@ClaytonBocce
DTSTART;TZID=America/Los_Angeles:20260821T183000
DTEND;TZID=America/Los_Angeles:20260821T210000
STATUS:CONFIRMED
SUMMARY:UNTOUCHABALLS vs LA DOLCE VITA
URL:/League/Schedule/3097
DESCRIPTION:Regular Season match: UNTOUCHABALLS vs LA DOLCE 
 VITA
LOCATION:Martinez Court 10
END:VEVENT
BEGIN:VEVENT
DTSTAMP:20260419T000000Z
UID:c670eee1-056a-4e8c-ab4d-22c224983fe1@ClaytonBocce
DTSTART;TZID=America/Los_Angeles:20260828T183000
DTEND;TZID=America/Los_Angeles:20260828T210000
STATUS:CONFIRMED
SUMMARY:UNTOUCHABALLS vs SCUSI
URL:/League/Schedule/3097
DESCRIPTION:Regular Season match: UNTOUCHABALLS vs SCUSI
LOCATION:Martinez Court 9
END:VEVENT
BEGIN:VEVENT
DTSTAMP:20260419T000000Z
UID:6eda8cfa-5f76-434b-badc-c22ba97a6ec5@ClaytonBocce
DTSTART;TZID=America/Los_Angeles:20260904T183000
DTEND;TZID=America/Los_Angeles:20260904T210000
STATUS:CONFIRMED
SUMMARY:UNTOUCHABALLS vs EVERY BOCCE WANG CHUNG TONIGHT
URL:/League/Schedule/3097
DESCRIPTION:Regular Season match: UNTOUCHABALLS vs EVERY BOC
 CE WANG CHUNG TONIGHT
LOCATION:Martinez Court 5
END:VEVENT
BEGIN:VEVENT
DTSTAMP:20260419T000000Z
UID:dff257f4-7188-4142-b771-575f4c90cc38@ClaytonBocce
DTSTART;TZID=America/Los_Angeles:20260911T183000
DTEND;TZID=America/Los_Angeles:20260911T210000
STATUS:CONFIRMED
SUMMARY:UNTOUCHABALLS vs BALLS "4" HIRE
URL:/League/Schedule/3097
DESCRIPTION:Regular Season match: UNTOUCHABALLS vs BALLS "4"
  HIRE
LOCATION:Martinez Court 8
END:VEVENT
BEGIN:VEVENT
DTSTAMP:20260419T000000Z
UID:30914d5f-43d6-4baf-b500-e063c94f1160@ClaytonBocce
DTSTART;TZID=America/Los_Angeles:20260918T183000
DTEND;TZID=America/Los_Angeles:20260918T210000
STATUS:CONFIRMED
SUMMARY:UNTOUCHABALLS vs WANT SOME GET SOME
URL:/League/Schedule/3097
DESCRIPTION:Regular Season match: UNTOUCHABALLS vs WANT SOME
  GET SOME
LOCATION:Martinez Court 4
END:VEVENT
END:VCALENDAR
