BEGIN:VCALENDAR
VERSION:2.0
PRODID:-//Clayton Bocce League
METHOD:PUBLISH
BEGIN:VTIMEZONE
TZID:America/Los_Angeles
X-LIC-LOCATION:America/Los_Angeles
BEGIN:DAYLIGHT
TZOFFSETFROM:-0800
TZOFFSETTO:-0700
TZNAME:PDT
DTSTART:20070311T020000
RRULE:FREQ=YEARLY;BYMONTH=3;BYDAY=2SU
END:DAYLIGHT
BEGIN:STANDARD
TZOFFSETFROM:-0700
TZOFFSETTO:-0800
TZNAME:PST
DTSTART:20071104T020000
RRULE:FREQ=YEARLY;BYMONTH=11;BYDAY=1SU
END:STANDARD
END:VTIMEZONE
BEGIN:VEVENT
DTSTAMP:20260419T000000Z
UID:41148dd6-6dd7-473f-bd45-e5fc9a8f763c@ClaytonBocce
DTSTART;TZID=America/Los_Angeles:20260424T183000
DTEND;TZID=America/Los_Angeles:20260424T210000
STATUS:CONFIRMED
SUMMARY:WANT SOME GET SOME vs BALLS "4" HIRE
URL:/League/Schedule/3094
DESCRIPTION:Regular Season match: WANT SOME GET SOME vs BALL
 S "4" HIRE
LOCATION:Martinez Court 9
END:VEVENT
BEGIN:VEVENT
DTSTAMP:20260419T000000Z
UID:2800e3bf-f316-4e00-a80d-6b45d35165e4@ClaytonBocce
DTSTART;TZID=America/Los_Angeles:20260501T183000
DTEND;TZID=America/Los_Angeles:20260501T210000
STATUS:CONFIRMED
SUMMARY:WANT SOME GET SOME vs LA DOLCE VITA
URL:/League/Schedule/3094
DESCRIPTION:Regular Season match: WANT SOME GET SOME vs LA D
 OLCE VITA
LOCATION:Martinez Court 13
END:VEVENT
BEGIN:VEVENT
DTSTAMP:20260419T000000Z
UID:ba58e11e-bfb2-4f0b-a089-ab731eeb367a@ClaytonBocce
DTSTART;TZID=America/Los_Angeles:20260508T183000
DTEND;TZID=America/Los_Angeles:20260508T210000
STATUS:CONFIRMED
SUMMARY:WANT SOME GET SOME vs EVERY BOCCE WANG CHUNG TONIGHT
URL:/League/Schedule/3094
DESCRIPTION:Regular Season match: WANT SOME GET SOME vs EVER
 Y BOCCE WANG CHUNG TONIGHT
LOCATION:Martinez Court 3
END:VEVENT
BEGIN:VEVENT
DTSTAMP:20260419T000000Z
UID:ee3b6e2e-c5e9-433a-9d6d-b40c7059d961@ClaytonBocce
DTSTART;TZID=America/Los_Angeles:20260515T183000
DTEND;TZID=America/Los_Angeles:20260515T210000
STATUS:CONFIRMED
SUMMARY:WANT SOME GET SOME vs BOCCE BUMS
URL:/League/Schedule/3094
DESCRIPTION:Regular Season match: WANT SOME GET SOME vs BOCC
 E BUMS
LOCATION:Martinez Court 6
END:VEVENT
BEGIN:VEVENT
DTSTAMP:20260419T000000Z
UID:63067b25-9068-4f93-804a-225d946b9759@ClaytonBocce
DTSTART;TZID=America/Los_Angeles:20260529T183000
DTEND;TZID=America/Los_Angeles:20260529T210000
STATUS:CONFIRMED
SUMMARY:WANT SOME GET SOME vs SCUSI
URL:/League/Schedule/3094
DESCRIPTION:Regular Season match: WANT SOME GET SOME vs SCUS
 I
LOCATION:Martinez Court 11
END:VEVENT
BEGIN:VEVENT
DTSTAMP:20260419T000000Z
UID:e2aaace5-b13f-42dc-8b21-73dbd8b370da@ClaytonBocce
DTSTART;TZID=America/Los_Angeles:20260605T183000
DTEND;TZID=America/Los_Angeles:20260605T210000
STATUS:CONFIRMED
SUMMARY:WANT SOME GET SOME vs UNTOUCHABALLS
URL:/League/Schedule/3094
DESCRIPTION:Regular Season match: WANT SOME GET SOME vs UNTO
 UCHABALLS
LOCATION:Martinez Court 15
END:VEVENT
BEGIN:VEVENT
DTSTAMP:20260419T000000Z
UID:93f6fb32-716e-4203-b28a-327f8f869766@ClaytonBocce
DTSTART;TZID=America/Los_Angeles:20260612T183000
DTEND;TZID=America/Los_Angeles:20260612T210000
STATUS:CONFIRMED
SUMMARY:WANT SOME GET SOME vs BALLS "4" HIRE
URL:/League/Schedule/3094
DESCRIPTION:Regular Season match: WANT SOME GET SOME vs BALL
 S "4" HIRE
LOCATION:Martinez Court 6
END:VEVENT
BEGIN:VEVENT
DTSTAMP:20260419T000000Z
UID:7c7e3e59-74c0-4567-9ade-75226734b52f@ClaytonBocce
DTSTART;TZID=America/Los_Angeles:20260619T183000
DTEND;TZID=America/Los_Angeles:20260619T210000
STATUS:CONFIRMED
SUMMARY:WANT SOME GET SOME vs LA DOLCE VITA
URL:/League/Schedule/3094
DESCRIPTION:Regular Season match: WANT SOME GET SOME vs LA D
 OLCE VITA
LOCATION:Martinez Court 2
END:VEVENT
BEGIN:VEVENT
DTSTAMP:20260419T000000Z
UID:686de49f-a292-4d20-a9ef-f173e1503d1d@ClaytonBocce
DTSTART;TZID=America/Los_Angeles:20260626T183000
DTEND;TZID=America/Los_Angeles:20260626T210000
STATUS:CONFIRMED
SUMMARY:WANT SOME GET SOME vs EVERY BOCCE WANG CHUNG TONIGHT
URL:/League/Schedule/3094
DESCRIPTION:Regular Season match: WANT SOME GET SOME vs EVER
 Y BOCCE WANG CHUNG TONIGHT
LOCATION:Martinez Court 5
END:VEVENT
BEGIN:VEVENT
DTSTAMP:20260419T000000Z
UID:c5a2e3f3-69c6-44fb-a549-a9e0f5d019b5@ClaytonBocce
DTSTART;TZID=America/Los_Angeles:20260710T183000
DTEND;TZID=America/Los_Angeles:20260710T210000
STATUS:CONFIRMED
SUMMARY:WANT SOME GET SOME vs BOCCE BUMS
URL:/League/Schedule/3094
DESCRIPTION:Regular Season match: WANT SOME GET SOME vs BOCC
 E BUMS
LOCATION:Martinez Court 14
END:VEVENT
BEGIN:VEVENT
DTSTAMP:20260419T000000Z
UID:08b02270-3cb7-409e-a7c0-1c6e63956958@ClaytonBocce
DTSTART;TZID=America/Los_Angeles:20260724T183000
DTEND;TZID=America/Los_Angeles:20260724T210000
STATUS:CONFIRMED
SUMMARY:WANT SOME GET SOME vs SCUSI
URL:/League/Schedule/3094
DESCRIPTION:Regular Season match: WANT SOME GET SOME vs SCUS
 I
LOCATION:Martinez Court 2
END:VEVENT
BEGIN:VEVENT
DTSTAMP:20260419T000000Z
UID:ee674da0-dbbe-4fa9-bd18-1059ba973f74@ClaytonBocce
DTSTART;TZID=America/Los_Angeles:20260731T183000
DTEND;TZID=America/Los_Angeles:20260731T210000
STATUS:CONFIRMED
SUMMARY:WANT SOME GET SOME vs UNTOUCHABALLS
URL:/League/Schedule/3094
DESCRIPTION:Regular Season match: WANT SOME GET SOME vs UNTO
 UCHABALLS
LOCATION:Martinez Court 1
END:VEVENT
BEGIN:VEVENT
DTSTAMP:20260419T000000Z
UID:4688ab80-915c-4734-9462-200e9af6523c@ClaytonBocce
DTSTART;TZID=America/Los_Angeles:20260807T183000
DTEND;TZID=America/Los_Angeles:20260807T210000
STATUS:CONFIRMED
SUMMARY:WANT SOME GET SOME vs BALLS "4" HIRE
URL:/League/Schedule/3094
DESCRIPTION:Regular Season match: WANT SOME GET SOME vs BALL
 S "4" HIRE
LOCATION:Martinez Court 13
END:VEVENT
BEGIN:VEVENT
DTSTAMP:20260419T000000Z
UID:0c9c61cf-291a-4474-919e-2a1f295d50bb@ClaytonBocce
DTSTART;TZID=America/Los_Angeles:20260814T183000
DTEND;TZID=America/Los_Angeles:20260814T210000
STATUS:CONFIRMED
SUMMARY:WANT SOME GET SOME vs LA DOLCE VITA
URL:/League/Schedule/3094
DESCRIPTION:Regular Season match: WANT SOME GET SOME vs LA D
 OLCE VITA
LOCATION:Martinez Court 7
END:VEVENT
BEGIN:VEVENT
DTSTAMP:20260419T000000Z
UID:02a7050a-2135-49ed-b299-dd2695775ada@ClaytonBocce
DTSTART;TZID=America/Los_Angeles:20260821T183000
DTEND;TZID=America/Los_Angeles:20260821T210000
STATUS:CONFIRMED
SUMMARY:WANT SOME GET SOME vs EVERY BOCCE WANG CHUNG TONIGHT
URL:/League/Schedule/3094
DESCRIPTION:Regular Season match: WANT SOME GET SOME vs EVER
 Y BOCCE WANG CHUNG TONIGHT
LOCATION:Martinez Court 12
END:VEVENT
BEGIN:VEVENT
DTSTAMP:20260419T000000Z
UID:57c82227-ef0f-4eec-9b2e-29b37bb52510@ClaytonBocce
DTSTART;TZID=America/Los_Angeles:20260828T183000
DTEND;TZID=America/Los_Angeles:20260828T210000
STATUS:CONFIRMED
SUMMARY:WANT SOME GET SOME vs BOCCE BUMS
URL:/League/Schedule/3094
DESCRIPTION:Regular Season match: WANT SOME GET SOME vs BOCC
 E BUMS
LOCATION:Martinez Court 5
END:VEVENT
BEGIN:VEVENT
DTSTAMP:20260419T000000Z
UID:5d164596-0bef-4cf9-86d9-f8c9d7ab6bb6@ClaytonBocce
DTSTART;TZID=America/Los_Angeles:20260911T183000
DTEND;TZID=America/Los_Angeles:20260911T210000
STATUS:CONFIRMED
SUMMARY:WANT SOME GET SOME vs SCUSI
URL:/League/Schedule/3094
DESCRIPTION:Regular Season match: WANT SOME GET SOME vs SCUS
 I
LOCATION:Martinez Court 10
END:VEVENT
BEGIN:VEVENT
DTSTAMP:20260419T000000Z
UID:30914d5f-43d6-4baf-b500-e063c94f1160@ClaytonBocce
DTSTART;TZID=America/Los_Angeles:20260918T183000
DTEND;TZID=America/Los_Angeles:20260918T210000
STATUS:CONFIRMED
SUMMARY:WANT SOME GET SOME vs UNTOUCHABALLS
URL:/League/Schedule/3094
DESCRIPTION:Regular Season match: WANT SOME GET SOME vs UNTO
 UCHABALLS
LOCATION:Martinez Court 4
END:VEVENT
END:VCALENDAR
