BEGIN:VCALENDAR
VERSION:2.0
PRODID:-//Clayton Bocce League
METHOD:PUBLISH
BEGIN:VTIMEZONE
TZID:America/Los_Angeles
X-LIC-LOCATION:America/Los_Angeles
BEGIN:DAYLIGHT
TZOFFSETFROM:-0800
TZOFFSETTO:-0700
TZNAME:PDT
DTSTART:20070311T020000
RRULE:FREQ=YEARLY;BYMONTH=3;BYDAY=2SU
END:DAYLIGHT
BEGIN:STANDARD
TZOFFSETFROM:-0700
TZOFFSETTO:-0800
TZNAME:PST
DTSTART:20071104T020000
RRULE:FREQ=YEARLY;BYMONTH=11;BYDAY=1SU
END:STANDARD
END:VTIMEZONE
BEGIN:VEVENT
DTSTAMP:20260419T000000Z
UID:41148dd6-6dd7-473f-bd45-e5fc9a8f763c@ClaytonBocce
DTSTART;TZID=America/Los_Angeles:20260424T183000
DTEND;TZID=America/Los_Angeles:20260424T210000
STATUS:CONFIRMED
SUMMARY:BALLS "4" HIRE vs WANT SOME GET SOME
URL:/League/Schedule/3095
DESCRIPTION:Regular Season match: BALLS "4" HIRE vs WANT SOM
 E GET SOME
LOCATION:Martinez Court 9
END:VEVENT
BEGIN:VEVENT
DTSTAMP:20260419T000000Z
UID:6461abe5-74fb-4088-af12-15deae37a09c@ClaytonBocce
DTSTART;TZID=America/Los_Angeles:20260501T183000
DTEND;TZID=America/Los_Angeles:20260501T210000
STATUS:CONFIRMED
SUMMARY:BALLS "4" HIRE vs EVERY BOCCE WANG CHUNG TONIGHT
URL:/League/Schedule/3095
DESCRIPTION:Regular Season match: BALLS "4" HIRE vs EVERY BO
 CCE WANG CHUNG TONIGHT
LOCATION:Martinez Court 14
END:VEVENT
BEGIN:VEVENT
DTSTAMP:20260419T000000Z
UID:9a7bbfd8-2b26-43e2-9ad4-5df881d09ea2@ClaytonBocce
DTSTART;TZID=America/Los_Angeles:20260508T183000
DTEND;TZID=America/Los_Angeles:20260508T210000
STATUS:CONFIRMED
SUMMARY:BALLS "4" HIRE vs BOCCE BUMS
URL:/League/Schedule/3095
DESCRIPTION:Regular Season match: BALLS "4" HIRE vs BOCCE BU
 MS
LOCATION:Martinez Court 2
END:VEVENT
BEGIN:VEVENT
DTSTAMP:20260419T000000Z
UID:d243bbe5-a709-40ac-92c3-d2d0f104ee2e@ClaytonBocce
DTSTART;TZID=America/Los_Angeles:20260522T183000
DTEND;TZID=America/Los_Angeles:20260522T210000
STATUS:CONFIRMED
SUMMARY:BALLS "4" HIRE vs SCUSI
URL:/League/Schedule/3095
DESCRIPTION:Regular Season match: BALLS "4" HIRE vs SCUSI
LOCATION:Martinez Court 10
END:VEVENT
BEGIN:VEVENT
DTSTAMP:20260419T000000Z
UID:35c590ed-c93e-495c-9e33-1c37fac3bef1@ClaytonBocce
DTSTART;TZID=America/Los_Angeles:20260529T183000
DTEND;TZID=America/Los_Angeles:20260529T210000
STATUS:CONFIRMED
SUMMARY:BALLS "4" HIRE vs UNTOUCHABALLS
URL:/League/Schedule/3095
DESCRIPTION:Regular Season match: BALLS "4" HIRE vs UNTOUCHA
 BALLS
LOCATION:Martinez Court 12
END:VEVENT
BEGIN:VEVENT
DTSTAMP:20260419T000000Z
UID:627dd0e0-f845-4a45-a99a-7f53f907fc56@ClaytonBocce
DTSTART;TZID=America/Los_Angeles:20260605T183000
DTEND;TZID=America/Los_Angeles:20260605T210000
STATUS:CONFIRMED
SUMMARY:BALLS "4" HIRE vs LA DOLCE VITA
URL:/League/Schedule/3095
DESCRIPTION:Regular Season match: BALLS "4" HIRE vs LA DOLCE
  VITA
LOCATION:Martinez Court 1
END:VEVENT
BEGIN:VEVENT
DTSTAMP:20260419T000000Z
UID:93f6fb32-716e-4203-b28a-327f8f869766@ClaytonBocce
DTSTART;TZID=America/Los_Angeles:20260612T183000
DTEND;TZID=America/Los_Angeles:20260612T210000
STATUS:CONFIRMED
SUMMARY:BALLS "4" HIRE vs WANT SOME GET SOME
URL:/League/Schedule/3095
DESCRIPTION:Regular Season match: BALLS "4" HIRE vs WANT SOM
 E GET SOME
LOCATION:Martinez Court 6
END:VEVENT
BEGIN:VEVENT
DTSTAMP:20260419T000000Z
UID:8f11f9bb-c003-44be-8500-3b36fe961fbb@ClaytonBocce
DTSTART;TZID=America/Los_Angeles:20260619T183000
DTEND;TZID=America/Los_Angeles:20260619T210000
STATUS:CONFIRMED
SUMMARY:BALLS "4" HIRE vs EVERY BOCCE WANG CHUNG TONIGHT
URL:/League/Schedule/3095
DESCRIPTION:Regular Season match: BALLS "4" HIRE vs EVERY BO
 CCE WANG CHUNG TONIGHT
LOCATION:Martinez Court 15
END:VEVENT
BEGIN:VEVENT
DTSTAMP:20260419T000000Z
UID:71ed53ad-0787-4eb5-87b6-65b65b6666fc@ClaytonBocce
DTSTART;TZID=America/Los_Angeles:20260626T183000
DTEND;TZID=America/Los_Angeles:20260626T210000
STATUS:CONFIRMED
SUMMARY:BALLS "4" HIRE vs BOCCE BUMS
URL:/League/Schedule/3095
DESCRIPTION:Regular Season match: BALLS "4" HIRE vs BOCCE BU
 MS
LOCATION:Martinez Court 4
END:VEVENT
BEGIN:VEVENT
DTSTAMP:20260419T000000Z
UID:6227d988-f223-4273-89c0-60adb2eb7581@ClaytonBocce
DTSTART;TZID=America/Los_Angeles:20260717T183000
DTEND;TZID=America/Los_Angeles:20260717T210000
STATUS:CONFIRMED
SUMMARY:BALLS "4" HIRE vs SCUSI
URL:/League/Schedule/3095
DESCRIPTION:Regular Season match: BALLS "4" HIRE vs SCUSI
LOCATION:Martinez Court 1
END:VEVENT
BEGIN:VEVENT
DTSTAMP:20260419T000000Z
UID:c65f7378-ff69-4149-8d1c-8dd14fdf475e@ClaytonBocce
DTSTART;TZID=America/Los_Angeles:20260724T183000
DTEND;TZID=America/Los_Angeles:20260724T210000
STATUS:CONFIRMED
SUMMARY:BALLS "4" HIRE vs UNTOUCHABALLS
URL:/League/Schedule/3095
DESCRIPTION:Regular Season match: BALLS "4" HIRE vs UNTOUCHA
 BALLS
LOCATION:Martinez Court 11
END:VEVENT
BEGIN:VEVENT
DTSTAMP:20260419T000000Z
UID:3115d36f-a9bc-4f55-ba6d-68720d6d3a71@ClaytonBocce
DTSTART;TZID=America/Los_Angeles:20260731T183000
DTEND;TZID=America/Los_Angeles:20260731T210000
STATUS:CONFIRMED
SUMMARY:BALLS "4" HIRE vs LA DOLCE VITA
URL:/League/Schedule/3095
DESCRIPTION:Regular Season match: BALLS "4" HIRE vs LA DOLCE
  VITA
LOCATION:Martinez Court 14
END:VEVENT
BEGIN:VEVENT
DTSTAMP:20260419T000000Z
UID:4688ab80-915c-4734-9462-200e9af6523c@ClaytonBocce
DTSTART;TZID=America/Los_Angeles:20260807T183000
DTEND;TZID=America/Los_Angeles:20260807T210000
STATUS:CONFIRMED
SUMMARY:BALLS "4" HIRE vs WANT SOME GET SOME
URL:/League/Schedule/3095
DESCRIPTION:Regular Season match: BALLS "4" HIRE vs WANT SOM
 E GET SOME
LOCATION:Martinez Court 13
END:VEVENT
BEGIN:VEVENT
DTSTAMP:20260419T000000Z
UID:537fb9f7-3668-411a-ab64-602f59984710@ClaytonBocce
DTSTART;TZID=America/Los_Angeles:20260814T183000
DTEND;TZID=America/Los_Angeles:20260814T210000
STATUS:CONFIRMED
SUMMARY:BALLS "4" HIRE vs EVERY BOCCE WANG CHUNG TONIGHT
URL:/League/Schedule/3095
DESCRIPTION:Regular Season match: BALLS "4" HIRE vs EVERY BO
 CCE WANG CHUNG TONIGHT
LOCATION:Martinez Court 9
END:VEVENT
BEGIN:VEVENT
DTSTAMP:20260419T000000Z
UID:80d584ec-f65f-4302-936a-df9b88ae8e7d@ClaytonBocce
DTSTART;TZID=America/Los_Angeles:20260821T183000
DTEND;TZID=America/Los_Angeles:20260821T210000
STATUS:CONFIRMED
SUMMARY:BALLS "4" HIRE vs BOCCE BUMS
URL:/League/Schedule/3095
DESCRIPTION:Regular Season match: BALLS "4" HIRE vs BOCCE BU
 MS
LOCATION:Martinez Court 15
END:VEVENT
BEGIN:VEVENT
DTSTAMP:20260419T000000Z
UID:424876c2-f97d-4538-a07d-784b2baf2e88@ClaytonBocce
DTSTART;TZID=America/Los_Angeles:20260904T183000
DTEND;TZID=America/Los_Angeles:20260904T210000
STATUS:CONFIRMED
SUMMARY:BALLS "4" HIRE vs SCUSI
URL:/League/Schedule/3095
DESCRIPTION:Regular Season match: BALLS "4" HIRE vs SCUSI
LOCATION:Martinez Court 3
END:VEVENT
BEGIN:VEVENT
DTSTAMP:20260419T000000Z
UID:dff257f4-7188-4142-b771-575f4c90cc38@ClaytonBocce
DTSTART;TZID=America/Los_Angeles:20260911T183000
DTEND;TZID=America/Los_Angeles:20260911T210000
STATUS:CONFIRMED
SUMMARY:BALLS "4" HIRE vs UNTOUCHABALLS
URL:/League/Schedule/3095
DESCRIPTION:Regular Season match: BALLS "4" HIRE vs UNTOUCHA
 BALLS
LOCATION:Martinez Court 8
END:VEVENT
BEGIN:VEVENT
DTSTAMP:20260419T000000Z
UID:330c545c-ef3b-4801-b36e-0688ba616721@ClaytonBocce
DTSTART;TZID=America/Los_Angeles:20260918T183000
DTEND;TZID=America/Los_Angeles:20260918T210000
STATUS:CONFIRMED
SUMMARY:BALLS "4" HIRE vs LA DOLCE VITA
URL:/League/Schedule/3095
DESCRIPTION:Regular Season match: BALLS "4" HIRE vs LA DOLCE
  VITA
LOCATION:Martinez Court 5
END:VEVENT
END:VCALENDAR
