BEGIN:VCALENDAR
VERSION:2.0
PRODID:-//Clayton Bocce League
METHOD:PUBLISH
BEGIN:VTIMEZONE
TZID:America/Los_Angeles
X-LIC-LOCATION:America/Los_Angeles
BEGIN:DAYLIGHT
TZOFFSETFROM:-0800
TZOFFSETTO:-0700
TZNAME:PDT
DTSTART:20070311T020000
RRULE:FREQ=YEARLY;BYMONTH=3;BYDAY=2SU
END:DAYLIGHT
BEGIN:STANDARD
TZOFFSETFROM:-0700
TZOFFSETTO:-0800
TZNAME:PST
DTSTART:20071104T020000
RRULE:FREQ=YEARLY;BYMONTH=11;BYDAY=1SU
END:STANDARD
END:VTIMEZONE
BEGIN:VEVENT
DTSTAMP:20260419T000000Z
UID:3b0c49c3-708c-4ba5-b851-5d6a08ca17a2@ClaytonBocce
DTSTART;TZID=America/Los_Angeles:20260424T183000
DTEND;TZID=America/Los_Angeles:20260424T210000
STATUS:CONFIRMED
SUMMARY:THE "B"OCCE'S vs AMICI
URL:/League/Schedule/3087
DESCRIPTION:Regular Season match: THE "B"OCCE'S vs AMICI
LOCATION:Martinez Court 6
END:VEVENT
BEGIN:VEVENT
DTSTAMP:20260419T000000Z
UID:4bd38e62-cf86-40a9-9b7c-09b6e4b45080@ClaytonBocce
DTSTART;TZID=America/Los_Angeles:20260501T183000
DTEND;TZID=America/Los_Angeles:20260501T210000
STATUS:CONFIRMED
SUMMARY:THE "B"OCCE'S vs BOCCE BUDDIES II
URL:/League/Schedule/3087
DESCRIPTION:Regular Season match: THE "B"OCCE'S vs BOCCE BUD
 DIES II
LOCATION:Martinez Court 10
END:VEVENT
BEGIN:VEVENT
DTSTAMP:20260419T000000Z
UID:8572b4be-8570-4113-941b-b8bc04294a81@ClaytonBocce
DTSTART;TZID=America/Los_Angeles:20260508T183000
DTEND;TZID=America/Los_Angeles:20260508T210000
STATUS:CONFIRMED
SUMMARY:THE "B"OCCE'S vs HOOKERS & BANKERS
URL:/League/Schedule/3087
DESCRIPTION:Regular Season match: THE "B"OCCE'S vs HOOKERS &
  BANKERS
LOCATION:Martinez Court 1
END:VEVENT
BEGIN:VEVENT
DTSTAMP:20260419T000000Z
UID:2a39c698-f960-45cb-bd16-be537124987e@ClaytonBocce
DTSTART;TZID=America/Los_Angeles:20260515T183000
DTEND;TZID=America/Los_Angeles:20260515T210000
STATUS:CONFIRMED
SUMMARY:THE "B"OCCE'S vs MARTINEZ LIONS CLUB
URL:/League/Schedule/3087
DESCRIPTION:Regular Season match: THE "B"OCCE'S vs MARTINEZ 
 LIONS CLUB
LOCATION:Martinez Court 3
END:VEVENT
BEGIN:VEVENT
DTSTAMP:20260419T000000Z
UID:b9092897-cace-421b-b14d-619263be9d0a@ClaytonBocce
DTSTART;TZID=America/Los_Angeles:20260529T183000
DTEND;TZID=America/Los_Angeles:20260529T210000
STATUS:CONFIRMED
SUMMARY:THE "B"OCCE'S vs SAYBROOK SWINGERS
URL:/League/Schedule/3087
DESCRIPTION:Regular Season match: THE "B"OCCE'S vs SAYBROOK 
 SWINGERS
LOCATION:Martinez Court 8
END:VEVENT
BEGIN:VEVENT
DTSTAMP:20260419T000000Z
UID:679cce2b-9c4a-419e-a34e-843b92d7c585@ClaytonBocce
DTSTART;TZID=America/Los_Angeles:20260605T183000
DTEND;TZID=America/Los_Angeles:20260605T210000
STATUS:CONFIRMED
SUMMARY:THE "B"OCCE'S vs LUTHER'S REBS
URL:/League/Schedule/3087
DESCRIPTION:Regular Season match: THE "B"OCCE'S vs LUTHER'S 
 REBS
LOCATION:Martinez Court 12
END:VEVENT
BEGIN:VEVENT
DTSTAMP:20260419T000000Z
UID:278aff09-2fb2-49a5-a53b-0bebe2037076@ClaytonBocce
DTSTART;TZID=America/Los_Angeles:20260612T183000
DTEND;TZID=America/Los_Angeles:20260612T210000
STATUS:CONFIRMED
SUMMARY:THE "B"OCCE'S vs AMICI
URL:/League/Schedule/3087
DESCRIPTION:Regular Season match: THE "B"OCCE'S vs AMICI
LOCATION:Martinez Court 4
END:VEVENT
BEGIN:VEVENT
DTSTAMP:20260419T000000Z
UID:7a60a234-ee9e-41cc-b112-c4af54eaa5fe@ClaytonBocce
DTSTART;TZID=America/Los_Angeles:20260619T183000
DTEND;TZID=America/Los_Angeles:20260619T210000
STATUS:CONFIRMED
SUMMARY:THE "B"OCCE'S vs BOCCE BUDDIES II
URL:/League/Schedule/3087
DESCRIPTION:Regular Season match: THE "B"OCCE'S vs BOCCE BUD
 DIES II
LOCATION:Martinez Court 14
END:VEVENT
BEGIN:VEVENT
DTSTAMP:20260419T000000Z
UID:77075126-e9c6-44f5-b5ee-d38b6823334e@ClaytonBocce
DTSTART;TZID=America/Los_Angeles:20260626T183000
DTEND;TZID=America/Los_Angeles:20260626T210000
STATUS:CONFIRMED
SUMMARY:THE "B"OCCE'S vs HOOKERS & BANKERS
URL:/League/Schedule/3087
DESCRIPTION:Regular Season match: THE "B"OCCE'S vs HOOKERS &
  BANKERS
LOCATION:Martinez Court 2
END:VEVENT
BEGIN:VEVENT
DTSTAMP:20260419T000000Z
UID:87146510-6880-48ee-9b03-2d75ad1404f8@ClaytonBocce
DTSTART;TZID=America/Los_Angeles:20260710T183000
DTEND;TZID=America/Los_Angeles:20260710T210000
STATUS:CONFIRMED
SUMMARY:THE "B"OCCE'S vs MARTINEZ LIONS CLUB
URL:/League/Schedule/3087
DESCRIPTION:Regular Season match: THE "B"OCCE'S vs MARTINEZ 
 LIONS CLUB
LOCATION:Martinez Court 11
END:VEVENT
BEGIN:VEVENT
DTSTAMP:20260419T000000Z
UID:cdebbce2-5cd4-4fed-9581-e9e83ad4976e@ClaytonBocce
DTSTART;TZID=America/Los_Angeles:20260724T183000
DTEND;TZID=America/Los_Angeles:20260724T210000
STATUS:CONFIRMED
SUMMARY:THE "B"OCCE'S vs SAYBROOK SWINGERS
URL:/League/Schedule/3087
DESCRIPTION:Regular Season match: THE "B"OCCE'S vs SAYBROOK 
 SWINGERS
LOCATION:Martinez Court 15
END:VEVENT
BEGIN:VEVENT
DTSTAMP:20260419T000000Z
UID:8d84e0de-b28f-47ad-9ae4-854952d02d39@ClaytonBocce
DTSTART;TZID=America/Los_Angeles:20260731T183000
DTEND;TZID=America/Los_Angeles:20260731T210000
STATUS:CONFIRMED
SUMMARY:THE "B"OCCE'S vs LUTHER'S REBS
URL:/League/Schedule/3087
DESCRIPTION:Regular Season match: THE "B"OCCE'S vs LUTHER'S 
 REBS
LOCATION:Martinez Court 5
END:VEVENT
BEGIN:VEVENT
DTSTAMP:20260419T000000Z
UID:c07923d9-d0c3-4b7e-be16-34ca735ac0ea@ClaytonBocce
DTSTART;TZID=America/Los_Angeles:20260807T183000
DTEND;TZID=America/Los_Angeles:20260807T210000
STATUS:CONFIRMED
SUMMARY:THE "B"OCCE'S vs AMICI
URL:/League/Schedule/3087
DESCRIPTION:Regular Season match: THE "B"OCCE'S vs AMICI
LOCATION:Martinez Court 8
END:VEVENT
BEGIN:VEVENT
DTSTAMP:20260419T000000Z
UID:e605cd5f-975a-4b31-9453-634f84100a8a@ClaytonBocce
DTSTART;TZID=America/Los_Angeles:20260814T183000
DTEND;TZID=America/Los_Angeles:20260814T210000
STATUS:CONFIRMED
SUMMARY:THE "B"OCCE'S vs BOCCE BUDDIES II
URL:/League/Schedule/3087
DESCRIPTION:Regular Season match: THE "B"OCCE'S vs BOCCE BUD
 DIES II
LOCATION:Martinez Court 13
END:VEVENT
BEGIN:VEVENT
DTSTAMP:20260419T000000Z
UID:1c01eb48-228e-4447-9f6c-a031c971a73c@ClaytonBocce
DTSTART;TZID=America/Los_Angeles:20260821T183000
DTEND;TZID=America/Los_Angeles:20260821T210000
STATUS:CONFIRMED
SUMMARY:THE "B"OCCE'S vs HOOKERS & BANKERS
URL:/League/Schedule/3087
DESCRIPTION:Regular Season match: THE "B"OCCE'S vs HOOKERS &
  BANKERS
LOCATION:Martinez Court 4
END:VEVENT
BEGIN:VEVENT
DTSTAMP:20260419T000000Z
UID:c6195d06-9082-421b-814d-f1ecaf5f655b@ClaytonBocce
DTSTART;TZID=America/Los_Angeles:20260828T183000
DTEND;TZID=America/Los_Angeles:20260828T210000
STATUS:CONFIRMED
SUMMARY:THE "B"OCCE'S vs MARTINEZ LIONS CLUB
URL:/League/Schedule/3087
DESCRIPTION:Regular Season match: THE "B"OCCE'S vs MARTINEZ 
 LIONS CLUB
LOCATION:Martinez Court 15
END:VEVENT
BEGIN:VEVENT
DTSTAMP:20260419T000000Z
UID:b0698ca8-fcd9-4ef1-88c1-3c2c894170f4@ClaytonBocce
DTSTART;TZID=America/Los_Angeles:20260911T183000
DTEND;TZID=America/Los_Angeles:20260911T210000
STATUS:CONFIRMED
SUMMARY:THE "B"OCCE'S vs SAYBROOK SWINGERS
URL:/League/Schedule/3087
DESCRIPTION:Regular Season match: THE "B"OCCE'S vs SAYBROOK 
 SWINGERS
LOCATION:Martinez Court 7
END:VEVENT
BEGIN:VEVENT
DTSTAMP:20260419T000000Z
UID:d6653519-c687-4832-9be0-31026b3d6547@ClaytonBocce
DTSTART;TZID=America/Los_Angeles:20260918T183000
DTEND;TZID=America/Los_Angeles:20260918T210000
STATUS:CONFIRMED
SUMMARY:THE "B"OCCE'S vs LUTHER'S REBS
URL:/League/Schedule/3087
DESCRIPTION:Regular Season match: THE "B"OCCE'S vs LUTHER'S 
 REBS
LOCATION:Martinez Court 9
END:VEVENT
END:VCALENDAR
