BEGIN:VCALENDAR
VERSION:2.0
PRODID:-//Clayton Bocce League
METHOD:PUBLISH
BEGIN:VTIMEZONE
TZID:America/Los_Angeles
X-LIC-LOCATION:America/Los_Angeles
BEGIN:DAYLIGHT
TZOFFSETFROM:-0800
TZOFFSETTO:-0700
TZNAME:PDT
DTSTART:20070311T020000
RRULE:FREQ=YEARLY;BYMONTH=3;BYDAY=2SU
END:DAYLIGHT
BEGIN:STANDARD
TZOFFSETFROM:-0700
TZOFFSETTO:-0800
TZNAME:PST
DTSTART:20071104T020000
RRULE:FREQ=YEARLY;BYMONTH=11;BYDAY=1SU
END:STANDARD
END:VTIMEZONE
BEGIN:VEVENT
DTSTAMP:20260419T000000Z
UID:3b0c49c3-708c-4ba5-b851-5d6a08ca17a2@ClaytonBocce
DTSTART;TZID=America/Los_Angeles:20260424T183000
DTEND;TZID=America/Los_Angeles:20260424T210000
STATUS:CONFIRMED
SUMMARY:AMICI vs THE "B"OCCE'S
URL:/League/Schedule/3088
DESCRIPTION:Regular Season match: AMICI vs THE "B"OCCE'S
LOCATION:Martinez Court 6
END:VEVENT
BEGIN:VEVENT
DTSTAMP:20260419T000000Z
UID:57450e88-5fad-4480-8169-ab1a8221de74@ClaytonBocce
DTSTART;TZID=America/Los_Angeles:20260501T183000
DTEND;TZID=America/Los_Angeles:20260501T210000
STATUS:CONFIRMED
SUMMARY:AMICI vs HOOKERS & BANKERS
URL:/League/Schedule/3088
DESCRIPTION:Regular Season match: AMICI vs HOOKERS & BANKERS
LOCATION:Martinez Court 11
END:VEVENT
BEGIN:VEVENT
DTSTAMP:20260419T000000Z
UID:4c1b1d4b-ff6d-450b-a726-8ba04c3e7fda@ClaytonBocce
DTSTART;TZID=America/Los_Angeles:20260508T183000
DTEND;TZID=America/Los_Angeles:20260508T210000
STATUS:CONFIRMED
SUMMARY:AMICI vs MARTINEZ LIONS CLUB
URL:/League/Schedule/3088
DESCRIPTION:Regular Season match: AMICI vs MARTINEZ LIONS CL
 UB
LOCATION:Martinez Court 14
END:VEVENT
BEGIN:VEVENT
DTSTAMP:20260419T000000Z
UID:55480c00-7eaf-458e-b5a5-ab84611749e8@ClaytonBocce
DTSTART;TZID=America/Los_Angeles:20260522T183000
DTEND;TZID=America/Los_Angeles:20260522T210000
STATUS:CONFIRMED
SUMMARY:AMICI vs SAYBROOK SWINGERS
URL:/League/Schedule/3088
DESCRIPTION:Regular Season match: AMICI vs SAYBROOK SWINGERS
LOCATION:Martinez Court 7
END:VEVENT
BEGIN:VEVENT
DTSTAMP:20260419T000000Z
UID:b6cc5270-798f-45f6-a627-6b46041f783b@ClaytonBocce
DTSTART;TZID=America/Los_Angeles:20260529T183000
DTEND;TZID=America/Los_Angeles:20260529T210000
STATUS:CONFIRMED
SUMMARY:AMICI vs LUTHER'S REBS
URL:/League/Schedule/3088
DESCRIPTION:Regular Season match: AMICI vs LUTHER'S REBS
LOCATION:Martinez Court 9
END:VEVENT
BEGIN:VEVENT
DTSTAMP:20260419T000000Z
UID:7da315eb-657a-4b93-8326-b23a5962ea1f@ClaytonBocce
DTSTART;TZID=America/Los_Angeles:20260605T183000
DTEND;TZID=America/Los_Angeles:20260605T210000
STATUS:CONFIRMED
SUMMARY:AMICI vs BOCCE BUDDIES II
URL:/League/Schedule/3088
DESCRIPTION:Regular Season match: AMICI vs BOCCE BUDDIES II
LOCATION:Martinez Court 3
END:VEVENT
BEGIN:VEVENT
DTSTAMP:20260419T000000Z
UID:278aff09-2fb2-49a5-a53b-0bebe2037076@ClaytonBocce
DTSTART;TZID=America/Los_Angeles:20260612T183000
DTEND;TZID=America/Los_Angeles:20260612T210000
STATUS:CONFIRMED
SUMMARY:AMICI vs THE "B"OCCE'S
URL:/League/Schedule/3088
DESCRIPTION:Regular Season match: AMICI vs THE "B"OCCE'S
LOCATION:Martinez Court 4
END:VEVENT
BEGIN:VEVENT
DTSTAMP:20260419T000000Z
UID:aa4effe7-5139-4a03-8791-ef5d2fb466d0@ClaytonBocce
DTSTART;TZID=America/Los_Angeles:20260619T183000
DTEND;TZID=America/Los_Angeles:20260619T210000
STATUS:CONFIRMED
SUMMARY:AMICI vs HOOKERS & BANKERS
URL:/League/Schedule/3088
DESCRIPTION:Regular Season match: AMICI vs HOOKERS & BANKERS
LOCATION:Martinez Court 6
END:VEVENT
BEGIN:VEVENT
DTSTAMP:20260419T000000Z
UID:8d954014-10fa-4cc4-ae65-2dac6ecb89ec@ClaytonBocce
DTSTART;TZID=America/Los_Angeles:20260626T183000
DTEND;TZID=America/Los_Angeles:20260626T210000
STATUS:CONFIRMED
SUMMARY:AMICI vs MARTINEZ LIONS CLUB
URL:/League/Schedule/3088
DESCRIPTION:Regular Season match: AMICI vs MARTINEZ LIONS CL
 UB
LOCATION:Martinez Court 10
END:VEVENT
BEGIN:VEVENT
DTSTAMP:20260419T000000Z
UID:53cd13fa-48e3-4bff-a56d-448d76c68a32@ClaytonBocce
DTSTART;TZID=America/Los_Angeles:20260717T183000
DTEND;TZID=America/Los_Angeles:20260717T210000
STATUS:CONFIRMED
SUMMARY:AMICI vs SAYBROOK SWINGERS
URL:/League/Schedule/3088
DESCRIPTION:Regular Season match: AMICI vs SAYBROOK SWINGERS
LOCATION:Martinez Court 12
END:VEVENT
BEGIN:VEVENT
DTSTAMP:20260419T000000Z
UID:35e39ef3-b157-4149-b45b-cb7ff0730896@ClaytonBocce
DTSTART;TZID=America/Los_Angeles:20260724T183000
DTEND;TZID=America/Los_Angeles:20260724T210000
STATUS:CONFIRMED
SUMMARY:AMICI vs LUTHER'S REBS
URL:/League/Schedule/3088
DESCRIPTION:Regular Season match: AMICI vs LUTHER'S REBS
LOCATION:Martinez Court 14
END:VEVENT
BEGIN:VEVENT
DTSTAMP:20260419T000000Z
UID:3257f7f4-1a27-4307-bda6-91b3f9433ada@ClaytonBocce
DTSTART;TZID=America/Los_Angeles:20260731T183000
DTEND;TZID=America/Los_Angeles:20260731T210000
STATUS:CONFIRMED
SUMMARY:AMICI vs BOCCE BUDDIES II
URL:/League/Schedule/3088
DESCRIPTION:Regular Season match: AMICI vs BOCCE BUDDIES II
LOCATION:Martinez Court 7
END:VEVENT
BEGIN:VEVENT
DTSTAMP:20260419T000000Z
UID:c07923d9-d0c3-4b7e-be16-34ca735ac0ea@ClaytonBocce
DTSTART;TZID=America/Los_Angeles:20260807T183000
DTEND;TZID=America/Los_Angeles:20260807T210000
STATUS:CONFIRMED
SUMMARY:AMICI vs THE "B"OCCE'S
URL:/League/Schedule/3088
DESCRIPTION:Regular Season match: AMICI vs THE "B"OCCE'S
LOCATION:Martinez Court 8
END:VEVENT
BEGIN:VEVENT
DTSTAMP:20260419T000000Z
UID:28d6c666-7872-4d53-ba2f-315fdf45586a@ClaytonBocce
DTSTART;TZID=America/Los_Angeles:20260814T183000
DTEND;TZID=America/Los_Angeles:20260814T210000
STATUS:CONFIRMED
SUMMARY:AMICI vs HOOKERS & BANKERS
URL:/League/Schedule/3088
DESCRIPTION:Regular Season match: AMICI vs HOOKERS & BANKERS
LOCATION:Martinez Court 15
END:VEVENT
BEGIN:VEVENT
DTSTAMP:20260419T000000Z
UID:42fc1089-9faa-4700-8a27-f019f9738b09@ClaytonBocce
DTSTART;TZID=America/Los_Angeles:20260821T183000
DTEND;TZID=America/Los_Angeles:20260821T210000
STATUS:CONFIRMED
SUMMARY:AMICI vs MARTINEZ LIONS CLUB
URL:/League/Schedule/3088
DESCRIPTION:Regular Season match: AMICI vs MARTINEZ LIONS CL
 UB
LOCATION:Martinez Court 2
END:VEVENT
BEGIN:VEVENT
DTSTAMP:20260419T000000Z
UID:18f8f459-c04a-4339-82f9-1f3d562f9bb1@ClaytonBocce
DTSTART;TZID=America/Los_Angeles:20260904T183000
DTEND;TZID=America/Los_Angeles:20260904T210000
STATUS:CONFIRMED
SUMMARY:AMICI vs SAYBROOK SWINGERS
URL:/League/Schedule/3088
DESCRIPTION:Regular Season match: AMICI vs SAYBROOK SWINGERS
LOCATION:Martinez Court 4
END:VEVENT
BEGIN:VEVENT
DTSTAMP:20260419T000000Z
UID:5b5850d7-f485-49d2-82dc-86ec2d5a73a2@ClaytonBocce
DTSTART;TZID=America/Los_Angeles:20260911T183000
DTEND;TZID=America/Los_Angeles:20260911T210000
STATUS:CONFIRMED
SUMMARY:AMICI vs LUTHER'S REBS
URL:/League/Schedule/3088
DESCRIPTION:Regular Season match: AMICI vs LUTHER'S REBS
LOCATION:Martinez Court 13
END:VEVENT
BEGIN:VEVENT
DTSTAMP:20260419T000000Z
UID:1096dbe6-d18b-4e9a-b05e-edbfdcf1a8cd@ClaytonBocce
DTSTART;TZID=America/Los_Angeles:20260918T183000
DTEND;TZID=America/Los_Angeles:20260918T210000
STATUS:CONFIRMED
SUMMARY:AMICI vs BOCCE BUDDIES II
URL:/League/Schedule/3088
DESCRIPTION:Regular Season match: AMICI vs BOCCE BUDDIES II
LOCATION:Martinez Court 1
END:VEVENT
END:VCALENDAR
