BEGIN:VCALENDAR
VERSION:2.0
PRODID:-//Clayton Bocce League
METHOD:PUBLISH
BEGIN:VTIMEZONE
TZID:America/Los_Angeles
X-LIC-LOCATION:America/Los_Angeles
BEGIN:DAYLIGHT
TZOFFSETFROM:-0800
TZOFFSETTO:-0700
TZNAME:PDT
DTSTART:20070311T020000
RRULE:FREQ=YEARLY;BYMONTH=3;BYDAY=2SU
END:DAYLIGHT
BEGIN:STANDARD
TZOFFSETFROM:-0700
TZOFFSETTO:-0800
TZNAME:PST
DTSTART:20071104T020000
RRULE:FREQ=YEARLY;BYMONTH=11;BYDAY=1SU
END:STANDARD
END:VTIMEZONE
BEGIN:VEVENT
DTSTAMP:20260419T000000Z
UID:57450e88-5fad-4480-8169-ab1a8221de74@ClaytonBocce
DTSTART;TZID=America/Los_Angeles:20260501T183000
DTEND;TZID=America/Los_Angeles:20260501T210000
STATUS:CONFIRMED
SUMMARY:HOOKERS & BANKERS vs AMICI
URL:/League/Schedule/3091
DESCRIPTION:Regular Season match: HOOKERS & BANKERS vs AMICI
LOCATION:Martinez Court 11
END:VEVENT
BEGIN:VEVENT
DTSTAMP:20260419T000000Z
UID:8572b4be-8570-4113-941b-b8bc04294a81@ClaytonBocce
DTSTART;TZID=America/Los_Angeles:20260508T183000
DTEND;TZID=America/Los_Angeles:20260508T210000
STATUS:CONFIRMED
SUMMARY:HOOKERS & BANKERS vs THE "B"OCCE'S
URL:/League/Schedule/3091
DESCRIPTION:Regular Season match: HOOKERS & BANKERS vs THE "
 B"OCCE'S
LOCATION:Martinez Court 1
END:VEVENT
BEGIN:VEVENT
DTSTAMP:20260419T000000Z
UID:fa32dfeb-4e6d-48af-a486-5c27377995bb@ClaytonBocce
DTSTART;TZID=America/Los_Angeles:20260515T183000
DTEND;TZID=America/Los_Angeles:20260515T210000
STATUS:CONFIRMED
SUMMARY:HOOKERS & BANKERS vs BOCCE BUDDIES II
URL:/League/Schedule/3091
DESCRIPTION:Regular Season match: HOOKERS & BANKERS vs BOCCE
  BUDDIES II
LOCATION:Martinez Court 4
END:VEVENT
BEGIN:VEVENT
DTSTAMP:20260419T000000Z
UID:39a78557-fbea-473a-b470-e4e2d41038fe@ClaytonBocce
DTSTART;TZID=America/Los_Angeles:20260522T183000
DTEND;TZID=America/Los_Angeles:20260522T210000
STATUS:CONFIRMED
SUMMARY:HOOKERS & BANKERS vs LUTHER'S REBS
URL:/League/Schedule/3091
DESCRIPTION:Regular Season match: HOOKERS & BANKERS vs LUTHE
 R'S REBS
LOCATION:Martinez Court 8
END:VEVENT
BEGIN:VEVENT
DTSTAMP:20260419T000000Z
UID:9ce6a2b8-a702-43ec-be81-08c321a3ab53@ClaytonBocce
DTSTART;TZID=America/Los_Angeles:20260529T183000
DTEND;TZID=America/Los_Angeles:20260529T210000
STATUS:CONFIRMED
SUMMARY:HOOKERS & BANKERS vs MARTINEZ LIONS CLUB
URL:/League/Schedule/3091
DESCRIPTION:Regular Season match: HOOKERS & BANKERS vs MARTI
 NEZ LIONS CLUB
LOCATION:Martinez Court 7
END:VEVENT
BEGIN:VEVENT
DTSTAMP:20260419T000000Z
UID:88016618-23ae-4e2c-9ad5-6fce6a9bd976@ClaytonBocce
DTSTART;TZID=America/Los_Angeles:20260605T183000
DTEND;TZID=America/Los_Angeles:20260605T210000
STATUS:CONFIRMED
SUMMARY:HOOKERS & BANKERS vs SAYBROOK SWINGERS
URL:/League/Schedule/3091
DESCRIPTION:Regular Season match: HOOKERS & BANKERS vs SAYBR
 OOK SWINGERS
LOCATION:Martinez Court 14
END:VEVENT
BEGIN:VEVENT
DTSTAMP:20260419T000000Z
UID:aa4effe7-5139-4a03-8791-ef5d2fb466d0@ClaytonBocce
DTSTART;TZID=America/Los_Angeles:20260619T183000
DTEND;TZID=America/Los_Angeles:20260619T210000
STATUS:CONFIRMED
SUMMARY:HOOKERS & BANKERS vs AMICI
URL:/League/Schedule/3091
DESCRIPTION:Regular Season match: HOOKERS & BANKERS vs AMICI
LOCATION:Martinez Court 6
END:VEVENT
BEGIN:VEVENT
DTSTAMP:20260419T000000Z
UID:77075126-e9c6-44f5-b5ee-d38b6823334e@ClaytonBocce
DTSTART;TZID=America/Los_Angeles:20260626T183000
DTEND;TZID=America/Los_Angeles:20260626T210000
STATUS:CONFIRMED
SUMMARY:HOOKERS & BANKERS vs THE "B"OCCE'S
URL:/League/Schedule/3091
DESCRIPTION:Regular Season match: HOOKERS & BANKERS vs THE "
 B"OCCE'S
LOCATION:Martinez Court 2
END:VEVENT
BEGIN:VEVENT
DTSTAMP:20260419T000000Z
UID:410b3da4-bd83-4283-a8a9-151e4bfea276@ClaytonBocce
DTSTART;TZID=America/Los_Angeles:20260710T183000
DTEND;TZID=America/Los_Angeles:20260710T210000
STATUS:CONFIRMED
SUMMARY:HOOKERS & BANKERS vs BOCCE BUDDIES II
URL:/League/Schedule/3091
DESCRIPTION:Regular Season match: HOOKERS & BANKERS vs BOCCE
  BUDDIES II
LOCATION:Martinez Court 12
END:VEVENT
BEGIN:VEVENT
DTSTAMP:20260419T000000Z
UID:db9c4806-d4a0-45af-abc9-9a638ab97d81@ClaytonBocce
DTSTART;TZID=America/Los_Angeles:20260717T183000
DTEND;TZID=America/Los_Angeles:20260717T210000
STATUS:CONFIRMED
SUMMARY:HOOKERS & BANKERS vs LUTHER'S REBS
URL:/League/Schedule/3091
DESCRIPTION:Regular Season match: HOOKERS & BANKERS vs LUTHE
 R'S REBS
LOCATION:Martinez Court 13
END:VEVENT
BEGIN:VEVENT
DTSTAMP:20260419T000000Z
UID:6db78bb6-4a56-41d6-857b-87d446011aaf@ClaytonBocce
DTSTART;TZID=America/Los_Angeles:20260724T183000
DTEND;TZID=America/Los_Angeles:20260724T210000
STATUS:CONFIRMED
SUMMARY:HOOKERS & BANKERS vs MARTINEZ LIONS CLUB
URL:/League/Schedule/3091
DESCRIPTION:Regular Season match: HOOKERS & BANKERS vs MARTI
 NEZ LIONS CLUB
LOCATION:Martinez Court 10
END:VEVENT
BEGIN:VEVENT
DTSTAMP:20260419T000000Z
UID:72abd0dd-d22f-4bac-a003-4bc60a9c3d68@ClaytonBocce
DTSTART;TZID=America/Los_Angeles:20260731T183000
DTEND;TZID=America/Los_Angeles:20260731T210000
STATUS:CONFIRMED
SUMMARY:HOOKERS & BANKERS vs SAYBROOK SWINGERS
URL:/League/Schedule/3091
DESCRIPTION:Regular Season match: HOOKERS & BANKERS vs SAYBR
 OOK SWINGERS
LOCATION:Martinez Court 3
END:VEVENT
BEGIN:VEVENT
DTSTAMP:20260419T000000Z
UID:28d6c666-7872-4d53-ba2f-315fdf45586a@ClaytonBocce
DTSTART;TZID=America/Los_Angeles:20260814T183000
DTEND;TZID=America/Los_Angeles:20260814T210000
STATUS:CONFIRMED
SUMMARY:HOOKERS & BANKERS vs AMICI
URL:/League/Schedule/3091
DESCRIPTION:Regular Season match: HOOKERS & BANKERS vs AMICI
LOCATION:Martinez Court 15
END:VEVENT
BEGIN:VEVENT
DTSTAMP:20260419T000000Z
UID:1c01eb48-228e-4447-9f6c-a031c971a73c@ClaytonBocce
DTSTART;TZID=America/Los_Angeles:20260821T183000
DTEND;TZID=America/Los_Angeles:20260821T210000
STATUS:CONFIRMED
SUMMARY:HOOKERS & BANKERS vs THE "B"OCCE'S
URL:/League/Schedule/3091
DESCRIPTION:Regular Season match: HOOKERS & BANKERS vs THE "
 B"OCCE'S
LOCATION:Martinez Court 4
END:VEVENT
BEGIN:VEVENT
DTSTAMP:20260419T000000Z
UID:f90fe18c-8078-4d78-810d-e500b125e129@ClaytonBocce
DTSTART;TZID=America/Los_Angeles:20260828T183000
DTEND;TZID=America/Los_Angeles:20260828T210000
STATUS:CONFIRMED
SUMMARY:HOOKERS & BANKERS vs BOCCE BUDDIES II
URL:/League/Schedule/3091
DESCRIPTION:Regular Season match: HOOKERS & BANKERS vs BOCCE
  BUDDIES II
LOCATION:Martinez Court 2
END:VEVENT
BEGIN:VEVENT
DTSTAMP:20260419T000000Z
UID:fce0d925-a3d3-422c-96f9-adf047217381@ClaytonBocce
DTSTART;TZID=America/Los_Angeles:20260904T183000
DTEND;TZID=America/Los_Angeles:20260904T210000
STATUS:CONFIRMED
SUMMARY:HOOKERS & BANKERS vs LUTHER'S REBS
URL:/League/Schedule/3091
DESCRIPTION:Regular Season match: HOOKERS & BANKERS vs LUTHE
 R'S REBS
LOCATION:Martinez Court 1
END:VEVENT
BEGIN:VEVENT
DTSTAMP:20260419T000000Z
UID:b9ddc526-50fd-4de2-8037-579bf04a972d@ClaytonBocce
DTSTART;TZID=America/Los_Angeles:20260911T183000
DTEND;TZID=America/Los_Angeles:20260911T210000
STATUS:CONFIRMED
SUMMARY:HOOKERS & BANKERS vs MARTINEZ LIONS CLUB
URL:/League/Schedule/3091
DESCRIPTION:Regular Season match: HOOKERS & BANKERS vs MARTI
 NEZ LIONS CLUB
LOCATION:Martinez Court 9
END:VEVENT
BEGIN:VEVENT
DTSTAMP:20260419T000000Z
UID:628fbbf8-4c12-46db-b2fb-b9d2853ab2b7@ClaytonBocce
DTSTART;TZID=America/Los_Angeles:20260918T183000
DTEND;TZID=America/Los_Angeles:20260918T210000
STATUS:CONFIRMED
SUMMARY:HOOKERS & BANKERS vs SAYBROOK SWINGERS
URL:/League/Schedule/3091
DESCRIPTION:Regular Season match: HOOKERS & BANKERS vs SAYBR
 OOK SWINGERS
LOCATION:Martinez Court 8
END:VEVENT
END:VCALENDAR
