BEGIN:VCALENDAR
VERSION:2.0
PRODID:-//Clayton Bocce League
METHOD:PUBLISH
BEGIN:VTIMEZONE
TZID:America/Los_Angeles
X-LIC-LOCATION:America/Los_Angeles
BEGIN:DAYLIGHT
TZOFFSETFROM:-0800
TZOFFSETTO:-0700
TZNAME:PDT
DTSTART:20070311T020000
RRULE:FREQ=YEARLY;BYMONTH=3;BYDAY=2SU
END:DAYLIGHT
BEGIN:STANDARD
TZOFFSETFROM:-0700
TZOFFSETTO:-0800
TZNAME:PST
DTSTART:20071104T020000
RRULE:FREQ=YEARLY;BYMONTH=11;BYDAY=1SU
END:STANDARD
END:VTIMEZONE
BEGIN:VEVENT
DTSTAMP:20260419T000000Z
UID:c0294ef6-b07b-4cf6-8b27-82f85a5eb863@ClaytonBocce
DTSTART;TZID=America/Los_Angeles:20260424T183000
DTEND;TZID=America/Los_Angeles:20260424T210000
STATUS:CONFIRMED
SUMMARY:LUTHER'S REBS vs MARTINEZ LIONS CLUB
URL:/League/Schedule/3090
DESCRIPTION:Regular Season match: LUTHER'S REBS vs MARTINEZ 
 LIONS CLUB
LOCATION:Martinez Court 4
END:VEVENT
BEGIN:VEVENT
DTSTAMP:20260419T000000Z
UID:c1526427-1a33-47b4-90e3-9976e266e147@ClaytonBocce
DTSTART;TZID=America/Los_Angeles:20260508T183000
DTEND;TZID=America/Los_Angeles:20260508T210000
STATUS:CONFIRMED
SUMMARY:LUTHER'S REBS vs BOCCE BUDDIES II
URL:/League/Schedule/3090
DESCRIPTION:Regular Season match: LUTHER'S REBS vs BOCCE BUD
 DIES II
LOCATION:Martinez Court 15
END:VEVENT
BEGIN:VEVENT
DTSTAMP:20260419T000000Z
UID:fa029e83-67ac-4091-9025-43fed0cf413a@ClaytonBocce
DTSTART;TZID=America/Los_Angeles:20260515T183000
DTEND;TZID=America/Los_Angeles:20260515T210000
STATUS:CONFIRMED
SUMMARY:LUTHER'S REBS vs SAYBROOK SWINGERS
URL:/League/Schedule/3090
DESCRIPTION:Regular Season match: LUTHER'S REBS vs SAYBROOK 
 SWINGERS
LOCATION:Martinez Court 2
END:VEVENT
BEGIN:VEVENT
DTSTAMP:20260419T000000Z
UID:39a78557-fbea-473a-b470-e4e2d41038fe@ClaytonBocce
DTSTART;TZID=America/Los_Angeles:20260522T183000
DTEND;TZID=America/Los_Angeles:20260522T210000
STATUS:CONFIRMED
SUMMARY:LUTHER'S REBS vs HOOKERS & BANKERS
URL:/League/Schedule/3090
DESCRIPTION:Regular Season match: LUTHER'S REBS vs HOOKERS &
  BANKERS
LOCATION:Martinez Court 8
END:VEVENT
BEGIN:VEVENT
DTSTAMP:20260419T000000Z
UID:b6cc5270-798f-45f6-a627-6b46041f783b@ClaytonBocce
DTSTART;TZID=America/Los_Angeles:20260529T183000
DTEND;TZID=America/Los_Angeles:20260529T210000
STATUS:CONFIRMED
SUMMARY:LUTHER'S REBS vs AMICI
URL:/League/Schedule/3090
DESCRIPTION:Regular Season match: LUTHER'S REBS vs AMICI
LOCATION:Martinez Court 9
END:VEVENT
BEGIN:VEVENT
DTSTAMP:20260419T000000Z
UID:679cce2b-9c4a-419e-a34e-843b92d7c585@ClaytonBocce
DTSTART;TZID=America/Los_Angeles:20260605T183000
DTEND;TZID=America/Los_Angeles:20260605T210000
STATUS:CONFIRMED
SUMMARY:LUTHER'S REBS vs THE "B"OCCE'S
URL:/League/Schedule/3090
DESCRIPTION:Regular Season match: LUTHER'S REBS vs THE "B"OC
 CE'S
LOCATION:Martinez Court 12
END:VEVENT
BEGIN:VEVENT
DTSTAMP:20260419T000000Z
UID:26cc1aaf-2343-424a-b8ed-d3286e0bbe96@ClaytonBocce
DTSTART;TZID=America/Los_Angeles:20260612T183000
DTEND;TZID=America/Los_Angeles:20260612T210000
STATUS:CONFIRMED
SUMMARY:LUTHER'S REBS vs MARTINEZ LIONS CLUB
URL:/League/Schedule/3090
DESCRIPTION:Regular Season match: LUTHER'S REBS vs MARTINEZ 
 LIONS CLUB
LOCATION:Martinez Court 5
END:VEVENT
BEGIN:VEVENT
DTSTAMP:20260419T000000Z
UID:9a811746-544b-4c64-9fed-f16378e75c5b@ClaytonBocce
DTSTART;TZID=America/Los_Angeles:20260626T183000
DTEND;TZID=America/Los_Angeles:20260626T210000
STATUS:CONFIRMED
SUMMARY:LUTHER'S REBS vs BOCCE BUDDIES II
URL:/League/Schedule/3090
DESCRIPTION:Regular Season match: LUTHER'S REBS vs BOCCE BUD
 DIES II
LOCATION:Martinez Court 11
END:VEVENT
BEGIN:VEVENT
DTSTAMP:20260419T000000Z
UID:25800c51-90ca-44c0-a71f-ab8bb1da90d4@ClaytonBocce
DTSTART;TZID=America/Los_Angeles:20260710T183000
DTEND;TZID=America/Los_Angeles:20260710T210000
STATUS:CONFIRMED
SUMMARY:LUTHER'S REBS vs SAYBROOK SWINGERS
URL:/League/Schedule/3090
DESCRIPTION:Regular Season match: LUTHER'S REBS vs SAYBROOK 
 SWINGERS
LOCATION:Martinez Court 10
END:VEVENT
BEGIN:VEVENT
DTSTAMP:20260419T000000Z
UID:db9c4806-d4a0-45af-abc9-9a638ab97d81@ClaytonBocce
DTSTART;TZID=America/Los_Angeles:20260717T183000
DTEND;TZID=America/Los_Angeles:20260717T210000
STATUS:CONFIRMED
SUMMARY:LUTHER'S REBS vs HOOKERS & BANKERS
URL:/League/Schedule/3090
DESCRIPTION:Regular Season match: LUTHER'S REBS vs HOOKERS &
  BANKERS
LOCATION:Martinez Court 13
END:VEVENT
BEGIN:VEVENT
DTSTAMP:20260419T000000Z
UID:35e39ef3-b157-4149-b45b-cb7ff0730896@ClaytonBocce
DTSTART;TZID=America/Los_Angeles:20260724T183000
DTEND;TZID=America/Los_Angeles:20260724T210000
STATUS:CONFIRMED
SUMMARY:LUTHER'S REBS vs AMICI
URL:/League/Schedule/3090
DESCRIPTION:Regular Season match: LUTHER'S REBS vs AMICI
LOCATION:Martinez Court 14
END:VEVENT
BEGIN:VEVENT
DTSTAMP:20260419T000000Z
UID:8d84e0de-b28f-47ad-9ae4-854952d02d39@ClaytonBocce
DTSTART;TZID=America/Los_Angeles:20260731T183000
DTEND;TZID=America/Los_Angeles:20260731T210000
STATUS:CONFIRMED
SUMMARY:LUTHER'S REBS vs THE "B"OCCE'S
URL:/League/Schedule/3090
DESCRIPTION:Regular Season match: LUTHER'S REBS vs THE "B"OC
 CE'S
LOCATION:Martinez Court 5
END:VEVENT
BEGIN:VEVENT
DTSTAMP:20260419T000000Z
UID:e61b3cb5-b933-4e90-96eb-9e857d0c9d09@ClaytonBocce
DTSTART;TZID=America/Los_Angeles:20260807T183000
DTEND;TZID=America/Los_Angeles:20260807T210000
STATUS:CONFIRMED
SUMMARY:LUTHER'S REBS vs MARTINEZ LIONS CLUB
URL:/League/Schedule/3090
DESCRIPTION:Regular Season match: LUTHER'S REBS vs MARTINEZ 
 LIONS CLUB
LOCATION:Martinez Court 12
END:VEVENT
BEGIN:VEVENT
DTSTAMP:20260419T000000Z
UID:99b13f5c-e974-4808-afd7-e846450ee529@ClaytonBocce
DTSTART;TZID=America/Los_Angeles:20260821T183000
DTEND;TZID=America/Los_Angeles:20260821T210000
STATUS:CONFIRMED
SUMMARY:LUTHER'S REBS vs BOCCE BUDDIES II
URL:/League/Schedule/3090
DESCRIPTION:Regular Season match: LUTHER'S REBS vs BOCCE BUD
 DIES II
LOCATION:Martinez Court 3
END:VEVENT
BEGIN:VEVENT
DTSTAMP:20260419T000000Z
UID:3a96e49c-d73e-4435-81c5-17953cff3102@ClaytonBocce
DTSTART;TZID=America/Los_Angeles:20260828T183000
DTEND;TZID=America/Los_Angeles:20260828T210000
STATUS:CONFIRMED
SUMMARY:LUTHER'S REBS vs SAYBROOK SWINGERS
URL:/League/Schedule/3090
DESCRIPTION:Regular Season match: LUTHER'S REBS vs SAYBROOK 
 SWINGERS
LOCATION:Martinez Court 6
END:VEVENT
BEGIN:VEVENT
DTSTAMP:20260419T000000Z
UID:fce0d925-a3d3-422c-96f9-adf047217381@ClaytonBocce
DTSTART;TZID=America/Los_Angeles:20260904T183000
DTEND;TZID=America/Los_Angeles:20260904T210000
STATUS:CONFIRMED
SUMMARY:LUTHER'S REBS vs HOOKERS & BANKERS
URL:/League/Schedule/3090
DESCRIPTION:Regular Season match: LUTHER'S REBS vs HOOKERS &
  BANKERS
LOCATION:Martinez Court 1
END:VEVENT
BEGIN:VEVENT
DTSTAMP:20260419T000000Z
UID:5b5850d7-f485-49d2-82dc-86ec2d5a73a2@ClaytonBocce
DTSTART;TZID=America/Los_Angeles:20260911T183000
DTEND;TZID=America/Los_Angeles:20260911T210000
STATUS:CONFIRMED
SUMMARY:LUTHER'S REBS vs AMICI
URL:/League/Schedule/3090
DESCRIPTION:Regular Season match: LUTHER'S REBS vs AMICI
LOCATION:Martinez Court 13
END:VEVENT
BEGIN:VEVENT
DTSTAMP:20260419T000000Z
UID:d6653519-c687-4832-9be0-31026b3d6547@ClaytonBocce
DTSTART;TZID=America/Los_Angeles:20260918T183000
DTEND;TZID=America/Los_Angeles:20260918T210000
STATUS:CONFIRMED
SUMMARY:LUTHER'S REBS vs THE "B"OCCE'S
URL:/League/Schedule/3090
DESCRIPTION:Regular Season match: LUTHER'S REBS vs THE "B"OC
 CE'S
LOCATION:Martinez Court 9
END:VEVENT
END:VCALENDAR
