BEGIN:VCALENDAR
VERSION:2.0
PRODID:-//Clayton Bocce League
METHOD:PUBLISH
BEGIN:VTIMEZONE
TZID:America/Los_Angeles
X-LIC-LOCATION:America/Los_Angeles
BEGIN:DAYLIGHT
TZOFFSETFROM:-0800
TZOFFSETTO:-0700
TZNAME:PDT
DTSTART:20070311T020000
RRULE:FREQ=YEARLY;BYMONTH=3;BYDAY=2SU
END:DAYLIGHT
BEGIN:STANDARD
TZOFFSETFROM:-0700
TZOFFSETTO:-0800
TZNAME:PST
DTSTART:20071104T020000
RRULE:FREQ=YEARLY;BYMONTH=11;BYDAY=1SU
END:STANDARD
END:VTIMEZONE
BEGIN:VEVENT
DTSTAMP:20260419T000000Z
UID:c0294ef6-b07b-4cf6-8b27-82f85a5eb863@ClaytonBocce
DTSTART;TZID=America/Los_Angeles:20260424T183000
DTEND;TZID=America/Los_Angeles:20260424T210000
STATUS:CONFIRMED
SUMMARY:MARTINEZ LIONS CLUB vs LUTHER'S REBS
URL:/League/Schedule/3085
DESCRIPTION:Regular Season match: MARTINEZ LIONS CLUB vs LUT
 HER'S REBS
LOCATION:Martinez Court 4
END:VEVENT
BEGIN:VEVENT
DTSTAMP:20260419T000000Z
UID:20a7d80c-0862-4298-8fa4-64367bb6d225@ClaytonBocce
DTSTART;TZID=America/Los_Angeles:20260501T183000
DTEND;TZID=America/Los_Angeles:20260501T210000
STATUS:CONFIRMED
SUMMARY:MARTINEZ LIONS CLUB vs SAYBROOK SWINGERS
URL:/League/Schedule/3085
DESCRIPTION:Regular Season match: MARTINEZ LIONS CLUB vs SAY
 BROOK SWINGERS
LOCATION:Martinez Court 9
END:VEVENT
BEGIN:VEVENT
DTSTAMP:20260419T000000Z
UID:4c1b1d4b-ff6d-450b-a726-8ba04c3e7fda@ClaytonBocce
DTSTART;TZID=America/Los_Angeles:20260508T183000
DTEND;TZID=America/Los_Angeles:20260508T210000
STATUS:CONFIRMED
SUMMARY:MARTINEZ LIONS CLUB vs AMICI
URL:/League/Schedule/3085
DESCRIPTION:Regular Season match: MARTINEZ LIONS CLUB vs AMI
 CI
LOCATION:Martinez Court 14
END:VEVENT
BEGIN:VEVENT
DTSTAMP:20260419T000000Z
UID:2a39c698-f960-45cb-bd16-be537124987e@ClaytonBocce
DTSTART;TZID=America/Los_Angeles:20260515T183000
DTEND;TZID=America/Los_Angeles:20260515T210000
STATUS:CONFIRMED
SUMMARY:MARTINEZ LIONS CLUB vs THE "B"OCCE'S
URL:/League/Schedule/3085
DESCRIPTION:Regular Season match: MARTINEZ LIONS CLUB vs THE
  "B"OCCE'S
LOCATION:Martinez Court 3
END:VEVENT
BEGIN:VEVENT
DTSTAMP:20260419T000000Z
UID:55ec6a09-8812-44b0-a7de-7855264c01e4@ClaytonBocce
DTSTART;TZID=America/Los_Angeles:20260522T183000
DTEND;TZID=America/Los_Angeles:20260522T210000
STATUS:CONFIRMED
SUMMARY:MARTINEZ LIONS CLUB vs BOCCE BUDDIES II
URL:/League/Schedule/3085
DESCRIPTION:Regular Season match: MARTINEZ LIONS CLUB vs BOC
 CE BUDDIES II
LOCATION:Martinez Court 6
END:VEVENT
BEGIN:VEVENT
DTSTAMP:20260419T000000Z
UID:9ce6a2b8-a702-43ec-be81-08c321a3ab53@ClaytonBocce
DTSTART;TZID=America/Los_Angeles:20260529T183000
DTEND;TZID=America/Los_Angeles:20260529T210000
STATUS:CONFIRMED
SUMMARY:MARTINEZ LIONS CLUB vs HOOKERS & BANKERS
URL:/League/Schedule/3085
DESCRIPTION:Regular Season match: MARTINEZ LIONS CLUB vs HOO
 KERS & BANKERS
LOCATION:Martinez Court 7
END:VEVENT
BEGIN:VEVENT
DTSTAMP:20260419T000000Z
UID:26cc1aaf-2343-424a-b8ed-d3286e0bbe96@ClaytonBocce
DTSTART;TZID=America/Los_Angeles:20260612T183000
DTEND;TZID=America/Los_Angeles:20260612T210000
STATUS:CONFIRMED
SUMMARY:MARTINEZ LIONS CLUB vs LUTHER'S REBS
URL:/League/Schedule/3085
DESCRIPTION:Regular Season match: MARTINEZ LIONS CLUB vs LUT
 HER'S REBS
LOCATION:Martinez Court 5
END:VEVENT
BEGIN:VEVENT
DTSTAMP:20260419T000000Z
UID:dce337a4-4dfa-4b67-b8e7-7e0c0c4f9383@ClaytonBocce
DTSTART;TZID=America/Los_Angeles:20260619T183000
DTEND;TZID=America/Los_Angeles:20260619T210000
STATUS:CONFIRMED
SUMMARY:MARTINEZ LIONS CLUB vs SAYBROOK SWINGERS
URL:/League/Schedule/3085
DESCRIPTION:Regular Season match: MARTINEZ LIONS CLUB vs SAY
 BROOK SWINGERS
LOCATION:Martinez Court 13
END:VEVENT
BEGIN:VEVENT
DTSTAMP:20260419T000000Z
UID:8d954014-10fa-4cc4-ae65-2dac6ecb89ec@ClaytonBocce
DTSTART;TZID=America/Los_Angeles:20260626T183000
DTEND;TZID=America/Los_Angeles:20260626T210000
STATUS:CONFIRMED
SUMMARY:MARTINEZ LIONS CLUB vs AMICI
URL:/League/Schedule/3085
DESCRIPTION:Regular Season match: MARTINEZ LIONS CLUB vs AMI
 CI
LOCATION:Martinez Court 10
END:VEVENT
BEGIN:VEVENT
DTSTAMP:20260419T000000Z
UID:87146510-6880-48ee-9b03-2d75ad1404f8@ClaytonBocce
DTSTART;TZID=America/Los_Angeles:20260710T183000
DTEND;TZID=America/Los_Angeles:20260710T210000
STATUS:CONFIRMED
SUMMARY:MARTINEZ LIONS CLUB vs THE "B"OCCE'S
URL:/League/Schedule/3085
DESCRIPTION:Regular Season match: MARTINEZ LIONS CLUB vs THE
  "B"OCCE'S
LOCATION:Martinez Court 11
END:VEVENT
BEGIN:VEVENT
DTSTAMP:20260419T000000Z
UID:eb857b62-9389-486f-b8a4-1599de668750@ClaytonBocce
DTSTART;TZID=America/Los_Angeles:20260717T183000
DTEND;TZID=America/Los_Angeles:20260717T210000
STATUS:CONFIRMED
SUMMARY:MARTINEZ LIONS CLUB vs BOCCE BUDDIES II
URL:/League/Schedule/3085
DESCRIPTION:Regular Season match: MARTINEZ LIONS CLUB vs BOC
 CE BUDDIES II
LOCATION:Martinez Court 8
END:VEVENT
BEGIN:VEVENT
DTSTAMP:20260419T000000Z
UID:6db78bb6-4a56-41d6-857b-87d446011aaf@ClaytonBocce
DTSTART;TZID=America/Los_Angeles:20260724T183000
DTEND;TZID=America/Los_Angeles:20260724T210000
STATUS:CONFIRMED
SUMMARY:MARTINEZ LIONS CLUB vs HOOKERS & BANKERS
URL:/League/Schedule/3085
DESCRIPTION:Regular Season match: MARTINEZ LIONS CLUB vs HOO
 KERS & BANKERS
LOCATION:Martinez Court 10
END:VEVENT
BEGIN:VEVENT
DTSTAMP:20260419T000000Z
UID:e61b3cb5-b933-4e90-96eb-9e857d0c9d09@ClaytonBocce
DTSTART;TZID=America/Los_Angeles:20260807T183000
DTEND;TZID=America/Los_Angeles:20260807T210000
STATUS:CONFIRMED
SUMMARY:MARTINEZ LIONS CLUB vs LUTHER'S REBS
URL:/League/Schedule/3085
DESCRIPTION:Regular Season match: MARTINEZ LIONS CLUB vs LUT
 HER'S REBS
LOCATION:Martinez Court 12
END:VEVENT
BEGIN:VEVENT
DTSTAMP:20260419T000000Z
UID:74885387-5c3f-4566-8892-c6b5fa9b0a9b@ClaytonBocce
DTSTART;TZID=America/Los_Angeles:20260814T183000
DTEND;TZID=America/Los_Angeles:20260814T210000
STATUS:CONFIRMED
SUMMARY:MARTINEZ LIONS CLUB vs SAYBROOK SWINGERS
URL:/League/Schedule/3085
DESCRIPTION:Regular Season match: MARTINEZ LIONS CLUB vs SAY
 BROOK SWINGERS
LOCATION:Martinez Court 1
END:VEVENT
BEGIN:VEVENT
DTSTAMP:20260419T000000Z
UID:42fc1089-9faa-4700-8a27-f019f9738b09@ClaytonBocce
DTSTART;TZID=America/Los_Angeles:20260821T183000
DTEND;TZID=America/Los_Angeles:20260821T210000
STATUS:CONFIRMED
SUMMARY:MARTINEZ LIONS CLUB vs AMICI
URL:/League/Schedule/3085
DESCRIPTION:Regular Season match: MARTINEZ LIONS CLUB vs AMI
 CI
LOCATION:Martinez Court 2
END:VEVENT
BEGIN:VEVENT
DTSTAMP:20260419T000000Z
UID:c6195d06-9082-421b-814d-f1ecaf5f655b@ClaytonBocce
DTSTART;TZID=America/Los_Angeles:20260828T183000
DTEND;TZID=America/Los_Angeles:20260828T210000
STATUS:CONFIRMED
SUMMARY:MARTINEZ LIONS CLUB vs THE "B"OCCE'S
URL:/League/Schedule/3085
DESCRIPTION:Regular Season match: MARTINEZ LIONS CLUB vs THE
  "B"OCCE'S
LOCATION:Martinez Court 15
END:VEVENT
BEGIN:VEVENT
DTSTAMP:20260419T000000Z
UID:97d0083f-e65b-4b08-a84f-e7c7b8b677c3@ClaytonBocce
DTSTART;TZID=America/Los_Angeles:20260904T183000
DTEND;TZID=America/Los_Angeles:20260904T210000
STATUS:CONFIRMED
SUMMARY:MARTINEZ LIONS CLUB vs BOCCE BUDDIES II
URL:/League/Schedule/3085
DESCRIPTION:Regular Season match: MARTINEZ LIONS CLUB vs BOC
 CE BUDDIES II
LOCATION:Martinez Court 14
END:VEVENT
BEGIN:VEVENT
DTSTAMP:20260419T000000Z
UID:b9ddc526-50fd-4de2-8037-579bf04a972d@ClaytonBocce
DTSTART;TZID=America/Los_Angeles:20260911T183000
DTEND;TZID=America/Los_Angeles:20260911T210000
STATUS:CONFIRMED
SUMMARY:MARTINEZ LIONS CLUB vs HOOKERS & BANKERS
URL:/League/Schedule/3085
DESCRIPTION:Regular Season match: MARTINEZ LIONS CLUB vs HOO
 KERS & BANKERS
LOCATION:Martinez Court 9
END:VEVENT
END:VCALENDAR
