BEGIN:VCALENDAR
VERSION:2.0
PRODID:-//Clayton Bocce League
METHOD:PUBLISH
BEGIN:VTIMEZONE
TZID:America/Los_Angeles
X-LIC-LOCATION:America/Los_Angeles
BEGIN:DAYLIGHT
TZOFFSETFROM:-0800
TZOFFSETTO:-0700
TZNAME:PDT
DTSTART:20070311T020000
RRULE:FREQ=YEARLY;BYMONTH=3;BYDAY=2SU
END:DAYLIGHT
BEGIN:STANDARD
TZOFFSETFROM:-0700
TZOFFSETTO:-0800
TZNAME:PST
DTSTART:20071104T020000
RRULE:FREQ=YEARLY;BYMONTH=11;BYDAY=1SU
END:STANDARD
END:VTIMEZONE
BEGIN:VEVENT
DTSTAMP:20260419T000000Z
UID:48c39dce-a1d0-4331-95b5-64e7e94bf19d@ClaytonBocce
DTSTART;TZID=America/Los_Angeles:20260424T183000
DTEND;TZID=America/Los_Angeles:20260424T210000
STATUS:CONFIRMED
SUMMARY:BOCCE BUDDIES II vs SAYBROOK SWINGERS
URL:/League/Schedule/3086
DESCRIPTION:Regular Season match: BOCCE BUDDIES II vs SAYBRO
 OK SWINGERS
LOCATION:Martinez Court 5
END:VEVENT
BEGIN:VEVENT
DTSTAMP:20260419T000000Z
UID:4bd38e62-cf86-40a9-9b7c-09b6e4b45080@ClaytonBocce
DTSTART;TZID=America/Los_Angeles:20260501T183000
DTEND;TZID=America/Los_Angeles:20260501T210000
STATUS:CONFIRMED
SUMMARY:BOCCE BUDDIES II vs THE "B"OCCE'S
URL:/League/Schedule/3086
DESCRIPTION:Regular Season match: BOCCE BUDDIES II vs THE "B
 "OCCE'S
LOCATION:Martinez Court 10
END:VEVENT
BEGIN:VEVENT
DTSTAMP:20260419T000000Z
UID:c1526427-1a33-47b4-90e3-9976e266e147@ClaytonBocce
DTSTART;TZID=America/Los_Angeles:20260508T183000
DTEND;TZID=America/Los_Angeles:20260508T210000
STATUS:CONFIRMED
SUMMARY:BOCCE BUDDIES II vs LUTHER'S REBS
URL:/League/Schedule/3086
DESCRIPTION:Regular Season match: BOCCE BUDDIES II vs LUTHER
 'S REBS
LOCATION:Martinez Court 15
END:VEVENT
BEGIN:VEVENT
DTSTAMP:20260419T000000Z
UID:fa32dfeb-4e6d-48af-a486-5c27377995bb@ClaytonBocce
DTSTART;TZID=America/Los_Angeles:20260515T183000
DTEND;TZID=America/Los_Angeles:20260515T210000
STATUS:CONFIRMED
SUMMARY:BOCCE BUDDIES II vs HOOKERS & BANKERS
URL:/League/Schedule/3086
DESCRIPTION:Regular Season match: BOCCE BUDDIES II vs HOOKER
 S & BANKERS
LOCATION:Martinez Court 4
END:VEVENT
BEGIN:VEVENT
DTSTAMP:20260419T000000Z
UID:55ec6a09-8812-44b0-a7de-7855264c01e4@ClaytonBocce
DTSTART;TZID=America/Los_Angeles:20260522T183000
DTEND;TZID=America/Los_Angeles:20260522T210000
STATUS:CONFIRMED
SUMMARY:BOCCE BUDDIES II vs MARTINEZ LIONS CLUB
URL:/League/Schedule/3086
DESCRIPTION:Regular Season match: BOCCE BUDDIES II vs MARTIN
 EZ LIONS CLUB
LOCATION:Martinez Court 6
END:VEVENT
BEGIN:VEVENT
DTSTAMP:20260419T000000Z
UID:7da315eb-657a-4b93-8326-b23a5962ea1f@ClaytonBocce
DTSTART;TZID=America/Los_Angeles:20260605T183000
DTEND;TZID=America/Los_Angeles:20260605T210000
STATUS:CONFIRMED
SUMMARY:BOCCE BUDDIES II vs AMICI
URL:/League/Schedule/3086
DESCRIPTION:Regular Season match: BOCCE BUDDIES II vs AMICI
LOCATION:Martinez Court 3
END:VEVENT
BEGIN:VEVENT
DTSTAMP:20260419T000000Z
UID:3ba79752-4515-4477-9290-06e520819b2d@ClaytonBocce
DTSTART;TZID=America/Los_Angeles:20260612T183000
DTEND;TZID=America/Los_Angeles:20260612T210000
STATUS:CONFIRMED
SUMMARY:BOCCE BUDDIES II vs SAYBROOK SWINGERS
URL:/League/Schedule/3086
DESCRIPTION:Regular Season match: BOCCE BUDDIES II vs SAYBRO
 OK SWINGERS
LOCATION:Martinez Court 9
END:VEVENT
BEGIN:VEVENT
DTSTAMP:20260419T000000Z
UID:7a60a234-ee9e-41cc-b112-c4af54eaa5fe@ClaytonBocce
DTSTART;TZID=America/Los_Angeles:20260619T183000
DTEND;TZID=America/Los_Angeles:20260619T210000
STATUS:CONFIRMED
SUMMARY:BOCCE BUDDIES II vs THE "B"OCCE'S
URL:/League/Schedule/3086
DESCRIPTION:Regular Season match: BOCCE BUDDIES II vs THE "B
 "OCCE'S
LOCATION:Martinez Court 14
END:VEVENT
BEGIN:VEVENT
DTSTAMP:20260419T000000Z
UID:9a811746-544b-4c64-9fed-f16378e75c5b@ClaytonBocce
DTSTART;TZID=America/Los_Angeles:20260626T183000
DTEND;TZID=America/Los_Angeles:20260626T210000
STATUS:CONFIRMED
SUMMARY:BOCCE BUDDIES II vs LUTHER'S REBS
URL:/League/Schedule/3086
DESCRIPTION:Regular Season match: BOCCE BUDDIES II vs LUTHER
 'S REBS
LOCATION:Martinez Court 11
END:VEVENT
BEGIN:VEVENT
DTSTAMP:20260419T000000Z
UID:410b3da4-bd83-4283-a8a9-151e4bfea276@ClaytonBocce
DTSTART;TZID=America/Los_Angeles:20260710T183000
DTEND;TZID=America/Los_Angeles:20260710T210000
STATUS:CONFIRMED
SUMMARY:BOCCE BUDDIES II vs HOOKERS & BANKERS
URL:/League/Schedule/3086
DESCRIPTION:Regular Season match: BOCCE BUDDIES II vs HOOKER
 S & BANKERS
LOCATION:Martinez Court 12
END:VEVENT
BEGIN:VEVENT
DTSTAMP:20260419T000000Z
UID:eb857b62-9389-486f-b8a4-1599de668750@ClaytonBocce
DTSTART;TZID=America/Los_Angeles:20260717T183000
DTEND;TZID=America/Los_Angeles:20260717T210000
STATUS:CONFIRMED
SUMMARY:BOCCE BUDDIES II vs MARTINEZ LIONS CLUB
URL:/League/Schedule/3086
DESCRIPTION:Regular Season match: BOCCE BUDDIES II vs MARTIN
 EZ LIONS CLUB
LOCATION:Martinez Court 8
END:VEVENT
BEGIN:VEVENT
DTSTAMP:20260419T000000Z
UID:3257f7f4-1a27-4307-bda6-91b3f9433ada@ClaytonBocce
DTSTART;TZID=America/Los_Angeles:20260731T183000
DTEND;TZID=America/Los_Angeles:20260731T210000
STATUS:CONFIRMED
SUMMARY:BOCCE BUDDIES II vs AMICI
URL:/League/Schedule/3086
DESCRIPTION:Regular Season match: BOCCE BUDDIES II vs AMICI
LOCATION:Martinez Court 7
END:VEVENT
BEGIN:VEVENT
DTSTAMP:20260419T000000Z
UID:1da3da63-2d8d-45ec-a9db-8125855acdb7@ClaytonBocce
DTSTART;TZID=America/Los_Angeles:20260807T183000
DTEND;TZID=America/Los_Angeles:20260807T210000
STATUS:CONFIRMED
SUMMARY:BOCCE BUDDIES II vs SAYBROOK SWINGERS
URL:/League/Schedule/3086
DESCRIPTION:Regular Season match: BOCCE BUDDIES II vs SAYBRO
 OK SWINGERS
LOCATION:Martinez Court 11
END:VEVENT
BEGIN:VEVENT
DTSTAMP:20260419T000000Z
UID:e605cd5f-975a-4b31-9453-634f84100a8a@ClaytonBocce
DTSTART;TZID=America/Los_Angeles:20260814T183000
DTEND;TZID=America/Los_Angeles:20260814T210000
STATUS:CONFIRMED
SUMMARY:BOCCE BUDDIES II vs THE "B"OCCE'S
URL:/League/Schedule/3086
DESCRIPTION:Regular Season match: BOCCE BUDDIES II vs THE "B
 "OCCE'S
LOCATION:Martinez Court 13
END:VEVENT
BEGIN:VEVENT
DTSTAMP:20260419T000000Z
UID:99b13f5c-e974-4808-afd7-e846450ee529@ClaytonBocce
DTSTART;TZID=America/Los_Angeles:20260821T183000
DTEND;TZID=America/Los_Angeles:20260821T210000
STATUS:CONFIRMED
SUMMARY:BOCCE BUDDIES II vs LUTHER'S REBS
URL:/League/Schedule/3086
DESCRIPTION:Regular Season match: BOCCE BUDDIES II vs LUTHER
 'S REBS
LOCATION:Martinez Court 3
END:VEVENT
BEGIN:VEVENT
DTSTAMP:20260419T000000Z
UID:f90fe18c-8078-4d78-810d-e500b125e129@ClaytonBocce
DTSTART;TZID=America/Los_Angeles:20260828T183000
DTEND;TZID=America/Los_Angeles:20260828T210000
STATUS:CONFIRMED
SUMMARY:BOCCE BUDDIES II vs HOOKERS & BANKERS
URL:/League/Schedule/3086
DESCRIPTION:Regular Season match: BOCCE BUDDIES II vs HOOKER
 S & BANKERS
LOCATION:Martinez Court 2
END:VEVENT
BEGIN:VEVENT
DTSTAMP:20260419T000000Z
UID:97d0083f-e65b-4b08-a84f-e7c7b8b677c3@ClaytonBocce
DTSTART;TZID=America/Los_Angeles:20260904T183000
DTEND;TZID=America/Los_Angeles:20260904T210000
STATUS:CONFIRMED
SUMMARY:BOCCE BUDDIES II vs MARTINEZ LIONS CLUB
URL:/League/Schedule/3086
DESCRIPTION:Regular Season match: BOCCE BUDDIES II vs MARTIN
 EZ LIONS CLUB
LOCATION:Martinez Court 14
END:VEVENT
BEGIN:VEVENT
DTSTAMP:20260419T000000Z
UID:1096dbe6-d18b-4e9a-b05e-edbfdcf1a8cd@ClaytonBocce
DTSTART;TZID=America/Los_Angeles:20260918T183000
DTEND;TZID=America/Los_Angeles:20260918T210000
STATUS:CONFIRMED
SUMMARY:BOCCE BUDDIES II vs AMICI
URL:/League/Schedule/3086
DESCRIPTION:Regular Season match: BOCCE BUDDIES II vs AMICI
LOCATION:Martinez Court 1
END:VEVENT
END:VCALENDAR
