BEGIN:VCALENDAR
VERSION:2.0
PRODID:-//Clayton Bocce League
METHOD:PUBLISH
BEGIN:VTIMEZONE
TZID:America/Los_Angeles
X-LIC-LOCATION:America/Los_Angeles
BEGIN:DAYLIGHT
TZOFFSETFROM:-0800
TZOFFSETTO:-0700
TZNAME:PDT
DTSTART:20070311T020000
RRULE:FREQ=YEARLY;BYMONTH=3;BYDAY=2SU
END:DAYLIGHT
BEGIN:STANDARD
TZOFFSETFROM:-0700
TZOFFSETTO:-0800
TZNAME:PST
DTSTART:20071104T020000
RRULE:FREQ=YEARLY;BYMONTH=11;BYDAY=1SU
END:STANDARD
END:VTIMEZONE
BEGIN:VEVENT
DTSTAMP:20260419T000000Z
UID:48c39dce-a1d0-4331-95b5-64e7e94bf19d@ClaytonBocce
DTSTART;TZID=America/Los_Angeles:20260424T183000
DTEND;TZID=America/Los_Angeles:20260424T210000
STATUS:CONFIRMED
SUMMARY:SAYBROOK SWINGERS vs BOCCE BUDDIES II
URL:/League/Schedule/3089
DESCRIPTION:Regular Season match: SAYBROOK SWINGERS vs BOCCE
  BUDDIES II
LOCATION:Martinez Court 5
END:VEVENT
BEGIN:VEVENT
DTSTAMP:20260419T000000Z
UID:20a7d80c-0862-4298-8fa4-64367bb6d225@ClaytonBocce
DTSTART;TZID=America/Los_Angeles:20260501T183000
DTEND;TZID=America/Los_Angeles:20260501T210000
STATUS:CONFIRMED
SUMMARY:SAYBROOK SWINGERS vs MARTINEZ LIONS CLUB
URL:/League/Schedule/3089
DESCRIPTION:Regular Season match: SAYBROOK SWINGERS vs MARTI
 NEZ LIONS CLUB
LOCATION:Martinez Court 9
END:VEVENT
BEGIN:VEVENT
DTSTAMP:20260419T000000Z
UID:fa029e83-67ac-4091-9025-43fed0cf413a@ClaytonBocce
DTSTART;TZID=America/Los_Angeles:20260515T183000
DTEND;TZID=America/Los_Angeles:20260515T210000
STATUS:CONFIRMED
SUMMARY:SAYBROOK SWINGERS vs LUTHER'S REBS
URL:/League/Schedule/3089
DESCRIPTION:Regular Season match: SAYBROOK SWINGERS vs LUTHE
 R'S REBS
LOCATION:Martinez Court 2
END:VEVENT
BEGIN:VEVENT
DTSTAMP:20260419T000000Z
UID:55480c00-7eaf-458e-b5a5-ab84611749e8@ClaytonBocce
DTSTART;TZID=America/Los_Angeles:20260522T183000
DTEND;TZID=America/Los_Angeles:20260522T210000
STATUS:CONFIRMED
SUMMARY:SAYBROOK SWINGERS vs AMICI
URL:/League/Schedule/3089
DESCRIPTION:Regular Season match: SAYBROOK SWINGERS vs AMICI
LOCATION:Martinez Court 7
END:VEVENT
BEGIN:VEVENT
DTSTAMP:20260419T000000Z
UID:b9092897-cace-421b-b14d-619263be9d0a@ClaytonBocce
DTSTART;TZID=America/Los_Angeles:20260529T183000
DTEND;TZID=America/Los_Angeles:20260529T210000
STATUS:CONFIRMED
SUMMARY:SAYBROOK SWINGERS vs THE "B"OCCE'S
URL:/League/Schedule/3089
DESCRIPTION:Regular Season match: SAYBROOK SWINGERS vs THE "
 B"OCCE'S
LOCATION:Martinez Court 8
END:VEVENT
BEGIN:VEVENT
DTSTAMP:20260419T000000Z
UID:88016618-23ae-4e2c-9ad5-6fce6a9bd976@ClaytonBocce
DTSTART;TZID=America/Los_Angeles:20260605T183000
DTEND;TZID=America/Los_Angeles:20260605T210000
STATUS:CONFIRMED
SUMMARY:SAYBROOK SWINGERS vs HOOKERS & BANKERS
URL:/League/Schedule/3089
DESCRIPTION:Regular Season match: SAYBROOK SWINGERS vs HOOKE
 RS & BANKERS
LOCATION:Martinez Court 14
END:VEVENT
BEGIN:VEVENT
DTSTAMP:20260419T000000Z
UID:3ba79752-4515-4477-9290-06e520819b2d@ClaytonBocce
DTSTART;TZID=America/Los_Angeles:20260612T183000
DTEND;TZID=America/Los_Angeles:20260612T210000
STATUS:CONFIRMED
SUMMARY:SAYBROOK SWINGERS vs BOCCE BUDDIES II
URL:/League/Schedule/3089
DESCRIPTION:Regular Season match: SAYBROOK SWINGERS vs BOCCE
  BUDDIES II
LOCATION:Martinez Court 9
END:VEVENT
BEGIN:VEVENT
DTSTAMP:20260419T000000Z
UID:dce337a4-4dfa-4b67-b8e7-7e0c0c4f9383@ClaytonBocce
DTSTART;TZID=America/Los_Angeles:20260619T183000
DTEND;TZID=America/Los_Angeles:20260619T210000
STATUS:CONFIRMED
SUMMARY:SAYBROOK SWINGERS vs MARTINEZ LIONS CLUB
URL:/League/Schedule/3089
DESCRIPTION:Regular Season match: SAYBROOK SWINGERS vs MARTI
 NEZ LIONS CLUB
LOCATION:Martinez Court 13
END:VEVENT
BEGIN:VEVENT
DTSTAMP:20260419T000000Z
UID:25800c51-90ca-44c0-a71f-ab8bb1da90d4@ClaytonBocce
DTSTART;TZID=America/Los_Angeles:20260710T183000
DTEND;TZID=America/Los_Angeles:20260710T210000
STATUS:CONFIRMED
SUMMARY:SAYBROOK SWINGERS vs LUTHER'S REBS
URL:/League/Schedule/3089
DESCRIPTION:Regular Season match: SAYBROOK SWINGERS vs LUTHE
 R'S REBS
LOCATION:Martinez Court 10
END:VEVENT
BEGIN:VEVENT
DTSTAMP:20260419T000000Z
UID:53cd13fa-48e3-4bff-a56d-448d76c68a32@ClaytonBocce
DTSTART;TZID=America/Los_Angeles:20260717T183000
DTEND;TZID=America/Los_Angeles:20260717T210000
STATUS:CONFIRMED
SUMMARY:SAYBROOK SWINGERS vs AMICI
URL:/League/Schedule/3089
DESCRIPTION:Regular Season match: SAYBROOK SWINGERS vs AMICI
LOCATION:Martinez Court 12
END:VEVENT
BEGIN:VEVENT
DTSTAMP:20260419T000000Z
UID:cdebbce2-5cd4-4fed-9581-e9e83ad4976e@ClaytonBocce
DTSTART;TZID=America/Los_Angeles:20260724T183000
DTEND;TZID=America/Los_Angeles:20260724T210000
STATUS:CONFIRMED
SUMMARY:SAYBROOK SWINGERS vs THE "B"OCCE'S
URL:/League/Schedule/3089
DESCRIPTION:Regular Season match: SAYBROOK SWINGERS vs THE "
 B"OCCE'S
LOCATION:Martinez Court 15
END:VEVENT
BEGIN:VEVENT
DTSTAMP:20260419T000000Z
UID:72abd0dd-d22f-4bac-a003-4bc60a9c3d68@ClaytonBocce
DTSTART;TZID=America/Los_Angeles:20260731T183000
DTEND;TZID=America/Los_Angeles:20260731T210000
STATUS:CONFIRMED
SUMMARY:SAYBROOK SWINGERS vs HOOKERS & BANKERS
URL:/League/Schedule/3089
DESCRIPTION:Regular Season match: SAYBROOK SWINGERS vs HOOKE
 RS & BANKERS
LOCATION:Martinez Court 3
END:VEVENT
BEGIN:VEVENT
DTSTAMP:20260419T000000Z
UID:1da3da63-2d8d-45ec-a9db-8125855acdb7@ClaytonBocce
DTSTART;TZID=America/Los_Angeles:20260807T183000
DTEND;TZID=America/Los_Angeles:20260807T210000
STATUS:CONFIRMED
SUMMARY:SAYBROOK SWINGERS vs BOCCE BUDDIES II
URL:/League/Schedule/3089
DESCRIPTION:Regular Season match: SAYBROOK SWINGERS vs BOCCE
  BUDDIES II
LOCATION:Martinez Court 11
END:VEVENT
BEGIN:VEVENT
DTSTAMP:20260419T000000Z
UID:74885387-5c3f-4566-8892-c6b5fa9b0a9b@ClaytonBocce
DTSTART;TZID=America/Los_Angeles:20260814T183000
DTEND;TZID=America/Los_Angeles:20260814T210000
STATUS:CONFIRMED
SUMMARY:SAYBROOK SWINGERS vs MARTINEZ LIONS CLUB
URL:/League/Schedule/3089
DESCRIPTION:Regular Season match: SAYBROOK SWINGERS vs MARTI
 NEZ LIONS CLUB
LOCATION:Martinez Court 1
END:VEVENT
BEGIN:VEVENT
DTSTAMP:20260419T000000Z
UID:3a96e49c-d73e-4435-81c5-17953cff3102@ClaytonBocce
DTSTART;TZID=America/Los_Angeles:20260828T183000
DTEND;TZID=America/Los_Angeles:20260828T210000
STATUS:CONFIRMED
SUMMARY:SAYBROOK SWINGERS vs LUTHER'S REBS
URL:/League/Schedule/3089
DESCRIPTION:Regular Season match: SAYBROOK SWINGERS vs LUTHE
 R'S REBS
LOCATION:Martinez Court 6
END:VEVENT
BEGIN:VEVENT
DTSTAMP:20260419T000000Z
UID:18f8f459-c04a-4339-82f9-1f3d562f9bb1@ClaytonBocce
DTSTART;TZID=America/Los_Angeles:20260904T183000
DTEND;TZID=America/Los_Angeles:20260904T210000
STATUS:CONFIRMED
SUMMARY:SAYBROOK SWINGERS vs AMICI
URL:/League/Schedule/3089
DESCRIPTION:Regular Season match: SAYBROOK SWINGERS vs AMICI
LOCATION:Martinez Court 4
END:VEVENT
BEGIN:VEVENT
DTSTAMP:20260419T000000Z
UID:b0698ca8-fcd9-4ef1-88c1-3c2c894170f4@ClaytonBocce
DTSTART;TZID=America/Los_Angeles:20260911T183000
DTEND;TZID=America/Los_Angeles:20260911T210000
STATUS:CONFIRMED
SUMMARY:SAYBROOK SWINGERS vs THE "B"OCCE'S
URL:/League/Schedule/3089
DESCRIPTION:Regular Season match: SAYBROOK SWINGERS vs THE "
 B"OCCE'S
LOCATION:Martinez Court 7
END:VEVENT
BEGIN:VEVENT
DTSTAMP:20260419T000000Z
UID:628fbbf8-4c12-46db-b2fb-b9d2853ab2b7@ClaytonBocce
DTSTART;TZID=America/Los_Angeles:20260918T183000
DTEND;TZID=America/Los_Angeles:20260918T210000
STATUS:CONFIRMED
SUMMARY:SAYBROOK SWINGERS vs HOOKERS & BANKERS
URL:/League/Schedule/3089
DESCRIPTION:Regular Season match: SAYBROOK SWINGERS vs HOOKE
 RS & BANKERS
LOCATION:Martinez Court 8
END:VEVENT
END:VCALENDAR
