BEGIN:VCALENDAR
VERSION:2.0
PRODID:-//Clayton Bocce League
METHOD:PUBLISH
BEGIN:VTIMEZONE
TZID:America/Los_Angeles
X-LIC-LOCATION:America/Los_Angeles
BEGIN:DAYLIGHT
TZOFFSETFROM:-0800
TZOFFSETTO:-0700
TZNAME:PDT
DTSTART:20070311T020000
RRULE:FREQ=YEARLY;BYMONTH=3;BYDAY=2SU
END:DAYLIGHT
BEGIN:STANDARD
TZOFFSETFROM:-0700
TZOFFSETTO:-0800
TZNAME:PST
DTSTART:20071104T020000
RRULE:FREQ=YEARLY;BYMONTH=11;BYDAY=1SU
END:STANDARD
END:VTIMEZONE
BEGIN:VEVENT
DTSTAMP:20260419T000000Z
UID:33fe461e-3a3f-4c30-bca2-2a58a2645e6c@ClaytonBocce
DTSTART;TZID=America/Los_Angeles:20260424T183000
DTEND;TZID=America/Los_Angeles:20260424T210000
STATUS:CONFIRMED
SUMMARY:SNOCKERED KNOCKERS vs DeBOCCERY
URL:/League/Schedule/3111
DESCRIPTION:Regular Season match: SNOCKERED KNOCKERS vs DeBO
 CCERY
LOCATION:Martinez Court 13
END:VEVENT
BEGIN:VEVENT
DTSTAMP:20260419T000000Z
UID:0af507e7-246b-4825-b2e5-fa4d5d505b7a@ClaytonBocce
DTSTART;TZID=America/Los_Angeles:20260508T183000
DTEND;TZID=America/Los_Angeles:20260508T210000
STATUS:CONFIRMED
SUMMARY:SNOCKERED KNOCKERS vs HAVING A BALL
URL:/League/Schedule/3111
DESCRIPTION:Regular Season match: SNOCKERED KNOCKERS vs HAVI
 NG A BALL
LOCATION:Martinez Court 9
END:VEVENT
BEGIN:VEVENT
DTSTAMP:20260419T000000Z
UID:98db8545-84b9-47c1-921a-9df956f496b3@ClaytonBocce
DTSTART;TZID=America/Los_Angeles:20260515T183000
DTEND;TZID=America/Los_Angeles:20260515T210000
STATUS:CONFIRMED
SUMMARY:SNOCKERED KNOCKERS vs ITS ALL RELATIVES
URL:/League/Schedule/3111
DESCRIPTION:Regular Season match: SNOCKERED KNOCKERS vs ITS 
 ALL RELATIVES
LOCATION:Martinez Court 11
END:VEVENT
BEGIN:VEVENT
DTSTAMP:20260419T000000Z
UID:e5705a6f-9536-4aa2-95c6-6df7c41fb72e@ClaytonBocce
DTSTART;TZID=America/Los_Angeles:20260522T183000
DTEND;TZID=America/Los_Angeles:20260522T210000
STATUS:CONFIRMED
SUMMARY:SNOCKERED KNOCKERS vs BOCCE FUNTIMERS
URL:/League/Schedule/3111
DESCRIPTION:Regular Season match: SNOCKERED KNOCKERS vs BOCC
 E FUNTIMERS
LOCATION:Martinez Court 2
END:VEVENT
BEGIN:VEVENT
DTSTAMP:20260419T000000Z
UID:25e0a293-ab18-4bfb-be1b-1615e905eb24@ClaytonBocce
DTSTART;TZID=America/Los_Angeles:20260529T183000
DTEND;TZID=America/Los_Angeles:20260529T210000
STATUS:CONFIRMED
SUMMARY:SNOCKERED KNOCKERS vs SLIM CHANCE
URL:/League/Schedule/3111
DESCRIPTION:Regular Season match: SNOCKERED KNOCKERS vs SLIM
  CHANCE
LOCATION:Martinez Court 3
END:VEVENT
BEGIN:VEVENT
DTSTAMP:20260419T000000Z
UID:96c04226-bb64-418f-8ec8-6ac3abe3d49a@ClaytonBocce
DTSTART;TZID=America/Los_Angeles:20260605T183000
DTEND;TZID=America/Los_Angeles:20260605T210000
STATUS:CONFIRMED
SUMMARY:SNOCKERED KNOCKERS vs BOCCELISMS
URL:/League/Schedule/3111
DESCRIPTION:Regular Season match: SNOCKERED KNOCKERS vs BOCC
 ELISMS
LOCATION:Martinez Court 6
END:VEVENT
BEGIN:VEVENT
DTSTAMP:20260419T000000Z
UID:d65f7315-f139-48e2-95e9-756b1dcbe0bf@ClaytonBocce
DTSTART;TZID=America/Los_Angeles:20260612T183000
DTEND;TZID=America/Los_Angeles:20260612T210000
STATUS:CONFIRMED
SUMMARY:SNOCKERED KNOCKERS vs DeBOCCERY
URL:/League/Schedule/3111
DESCRIPTION:Regular Season match: SNOCKERED KNOCKERS vs DeBO
 CCERY
LOCATION:Martinez Court 14
END:VEVENT
BEGIN:VEVENT
DTSTAMP:20260419T000000Z
UID:df77e778-e580-411b-bb3f-51b50df458f1@ClaytonBocce
DTSTART;TZID=America/Los_Angeles:20260626T183000
DTEND;TZID=America/Los_Angeles:20260626T210000
STATUS:CONFIRMED
SUMMARY:SNOCKERED KNOCKERS vs HAVING A BALL
URL:/League/Schedule/3111
DESCRIPTION:Regular Season match: SNOCKERED KNOCKERS vs HAVI
 NG A BALL
LOCATION:Martinez Court 1
END:VEVENT
BEGIN:VEVENT
DTSTAMP:20260419T000000Z
UID:f0a6f63b-ffa2-4134-a9f8-58b768fee3cf@ClaytonBocce
DTSTART;TZID=America/Los_Angeles:20260710T183000
DTEND;TZID=America/Los_Angeles:20260710T210000
STATUS:CONFIRMED
SUMMARY:SNOCKERED KNOCKERS vs ITS ALL RELATIVES
URL:/League/Schedule/3111
DESCRIPTION:Regular Season match: SNOCKERED KNOCKERS vs ITS 
 ALL RELATIVES
LOCATION:Martinez Court 4
END:VEVENT
BEGIN:VEVENT
DTSTAMP:20260419T000000Z
UID:3258750b-bc92-403a-9c47-083fb26ad4e5@ClaytonBocce
DTSTART;TZID=America/Los_Angeles:20260717T183000
DTEND;TZID=America/Los_Angeles:20260717T210000
STATUS:CONFIRMED
SUMMARY:SNOCKERED KNOCKERS vs BOCCE FUNTIMERS
URL:/League/Schedule/3111
DESCRIPTION:Regular Season match: SNOCKERED KNOCKERS vs BOCC
 E FUNTIMERS
LOCATION:Martinez Court 7
END:VEVENT
BEGIN:VEVENT
DTSTAMP:20260419T000000Z
UID:c212f663-bb22-4dd0-9ad5-6501ddfd42fe@ClaytonBocce
DTSTART;TZID=America/Los_Angeles:20260724T183000
DTEND;TZID=America/Los_Angeles:20260724T210000
STATUS:CONFIRMED
SUMMARY:SNOCKERED KNOCKERS vs SLIM CHANCE
URL:/League/Schedule/3111
DESCRIPTION:Regular Season match: SNOCKERED KNOCKERS vs SLIM
  CHANCE
LOCATION:Martinez Court 5
END:VEVENT
BEGIN:VEVENT
DTSTAMP:20260419T000000Z
UID:173cf72e-f5de-4ffc-b638-f14cc05c1291@ClaytonBocce
DTSTART;TZID=America/Los_Angeles:20260731T183000
DTEND;TZID=America/Los_Angeles:20260731T210000
STATUS:CONFIRMED
SUMMARY:SNOCKERED KNOCKERS vs BOCCELISMS
URL:/League/Schedule/3111
DESCRIPTION:Regular Season match: SNOCKERED KNOCKERS vs BOCC
 ELISMS
LOCATION:Martinez Court 12
END:VEVENT
BEGIN:VEVENT
DTSTAMP:20260419T000000Z
UID:e3e2267c-2739-4027-af96-4b60de8318f0@ClaytonBocce
DTSTART;TZID=America/Los_Angeles:20260807T183000
DTEND;TZID=America/Los_Angeles:20260807T210000
STATUS:CONFIRMED
SUMMARY:SNOCKERED KNOCKERS vs DeBOCCERY
URL:/League/Schedule/3111
DESCRIPTION:Regular Season match: SNOCKERED KNOCKERS vs DeBO
 CCERY
LOCATION:Martinez Court 6
END:VEVENT
BEGIN:VEVENT
DTSTAMP:20260419T000000Z
UID:a23c53d0-58be-4b32-b5e3-23789fc7eee8@ClaytonBocce
DTSTART;TZID=America/Los_Angeles:20260821T183000
DTEND;TZID=America/Los_Angeles:20260821T210000
STATUS:CONFIRMED
SUMMARY:SNOCKERED KNOCKERS vs HAVING A BALL
URL:/League/Schedule/3111
DESCRIPTION:Regular Season match: SNOCKERED KNOCKERS vs HAVI
 NG A BALL
LOCATION:Martinez Court 1
END:VEVENT
BEGIN:VEVENT
DTSTAMP:20260419T000000Z
UID:00720857-e1b3-4f56-8ada-013be21dbcba@ClaytonBocce
DTSTART;TZID=America/Los_Angeles:20260828T183000
DTEND;TZID=America/Los_Angeles:20260828T210000
STATUS:CONFIRMED
SUMMARY:SNOCKERED KNOCKERS vs ITS ALL RELATIVES
URL:/League/Schedule/3111
DESCRIPTION:Regular Season match: SNOCKERED KNOCKERS vs ITS 
 ALL RELATIVES
LOCATION:Martinez Court 10
END:VEVENT
BEGIN:VEVENT
DTSTAMP:20260419T000000Z
UID:73d1f868-1699-4319-be69-a99ae4e79078@ClaytonBocce
DTSTART;TZID=America/Los_Angeles:20260904T183000
DTEND;TZID=America/Los_Angeles:20260904T210000
STATUS:CONFIRMED
SUMMARY:SNOCKERED KNOCKERS vs BOCCE FUNTIMERS
URL:/League/Schedule/3111
DESCRIPTION:Regular Season match: SNOCKERED KNOCKERS vs BOCC
 E FUNTIMERS
LOCATION:Martinez Court 15
END:VEVENT
BEGIN:VEVENT
DTSTAMP:20260419T000000Z
UID:4bd2fa06-6c12-460a-a353-fa86a30a9185@ClaytonBocce
DTSTART;TZID=America/Los_Angeles:20260911T183000
DTEND;TZID=America/Los_Angeles:20260911T210000
STATUS:CONFIRMED
SUMMARY:SNOCKERED KNOCKERS vs SLIM CHANCE
URL:/League/Schedule/3111
DESCRIPTION:Regular Season match: SNOCKERED KNOCKERS vs SLIM
  CHANCE
LOCATION:Martinez Court 3
END:VEVENT
BEGIN:VEVENT
DTSTAMP:20260419T000000Z
UID:6d9e7265-155e-4565-b9a5-2c3358a0af68@ClaytonBocce
DTSTART;TZID=America/Los_Angeles:20260918T183000
DTEND;TZID=America/Los_Angeles:20260918T210000
STATUS:CONFIRMED
SUMMARY:SNOCKERED KNOCKERS vs BOCCELISMS
URL:/League/Schedule/3111
DESCRIPTION:Regular Season match: SNOCKERED KNOCKERS vs BOCC
 ELISMS
LOCATION:Martinez Court 13
END:VEVENT
END:VCALENDAR
