BEGIN:VCALENDAR
VERSION:2.0
PRODID:-//Clayton Bocce League
METHOD:PUBLISH
BEGIN:VTIMEZONE
TZID:America/Los_Angeles
X-LIC-LOCATION:America/Los_Angeles
BEGIN:DAYLIGHT
TZOFFSETFROM:-0800
TZOFFSETTO:-0700
TZNAME:PDT
DTSTART:20070311T020000
RRULE:FREQ=YEARLY;BYMONTH=3;BYDAY=2SU
END:DAYLIGHT
BEGIN:STANDARD
TZOFFSETFROM:-0700
TZOFFSETTO:-0800
TZNAME:PST
DTSTART:20071104T020000
RRULE:FREQ=YEARLY;BYMONTH=11;BYDAY=1SU
END:STANDARD
END:VTIMEZONE
BEGIN:VEVENT
DTSTAMP:20260419T000000Z
UID:33fe461e-3a3f-4c30-bca2-2a58a2645e6c@ClaytonBocce
DTSTART;TZID=America/Los_Angeles:20260424T183000
DTEND;TZID=America/Los_Angeles:20260424T210000
STATUS:CONFIRMED
SUMMARY:DeBOCCERY vs SNOCKERED KNOCKERS
URL:/League/Schedule/3106
DESCRIPTION:Regular Season match: DeBOCCERY vs SNOCKERED KNO
 CKERS
LOCATION:Martinez Court 13
END:VEVENT
BEGIN:VEVENT
DTSTAMP:20260419T000000Z
UID:383b4835-88c9-43da-ba19-20069417dc8a@ClaytonBocce
DTSTART;TZID=America/Los_Angeles:20260501T183000
DTEND;TZID=America/Los_Angeles:20260501T210000
STATUS:CONFIRMED
SUMMARY:DeBOCCERY vs ITS ALL RELATIVES
URL:/League/Schedule/3106
DESCRIPTION:Regular Season match: DeBOCCERY vs ITS ALL RELAT
 IVES
LOCATION:Martinez Court 3
END:VEVENT
BEGIN:VEVENT
DTSTAMP:20260419T000000Z
UID:064cee34-3b2d-4699-acea-809d8222469c@ClaytonBocce
DTSTART;TZID=America/Los_Angeles:20260508T183000
DTEND;TZID=America/Los_Angeles:20260508T210000
STATUS:CONFIRMED
SUMMARY:DeBOCCERY vs SLIM CHANCE
URL:/League/Schedule/3106
DESCRIPTION:Regular Season match: DeBOCCERY vs SLIM CHANCE
LOCATION:Martinez Court 8
END:VEVENT
BEGIN:VEVENT
DTSTAMP:20260419T000000Z
UID:d3ab2397-bb74-4c88-b703-3de6ce67d859@ClaytonBocce
DTSTART;TZID=America/Los_Angeles:20260515T183000
DTEND;TZID=America/Los_Angeles:20260515T210000
STATUS:CONFIRMED
SUMMARY:DeBOCCERY vs BOCCELISMS
URL:/League/Schedule/3106
DESCRIPTION:Regular Season match: DeBOCCERY vs BOCCELISMS
LOCATION:Martinez Court 7
END:VEVENT
BEGIN:VEVENT
DTSTAMP:20260419T000000Z
UID:e5618839-bd5e-4be7-87d2-fb6cf848383f@ClaytonBocce
DTSTART;TZID=America/Los_Angeles:20260522T183000
DTEND;TZID=America/Los_Angeles:20260522T210000
STATUS:CONFIRMED
SUMMARY:DeBOCCERY vs HAVING A BALL
URL:/League/Schedule/3106
DESCRIPTION:Regular Season match: DeBOCCERY vs HAVING A BALL
LOCATION:Martinez Court 15
END:VEVENT
BEGIN:VEVENT
DTSTAMP:20260419T000000Z
UID:28b1d531-f560-4493-8bce-9c135b5b19c1@ClaytonBocce
DTSTART;TZID=America/Los_Angeles:20260529T183000
DTEND;TZID=America/Los_Angeles:20260529T210000
STATUS:CONFIRMED
SUMMARY:DeBOCCERY vs BOCCE FUNTIMERS
URL:/League/Schedule/3106
DESCRIPTION:Regular Season match: DeBOCCERY vs BOCCE FUNTIME
 RS
LOCATION:Martinez Court 1
END:VEVENT
BEGIN:VEVENT
DTSTAMP:20260419T000000Z
UID:d65f7315-f139-48e2-95e9-756b1dcbe0bf@ClaytonBocce
DTSTART;TZID=America/Los_Angeles:20260612T183000
DTEND;TZID=America/Los_Angeles:20260612T210000
STATUS:CONFIRMED
SUMMARY:DeBOCCERY vs SNOCKERED KNOCKERS
URL:/League/Schedule/3106
DESCRIPTION:Regular Season match: DeBOCCERY vs SNOCKERED KNO
 CKERS
LOCATION:Martinez Court 14
END:VEVENT
BEGIN:VEVENT
DTSTAMP:20260419T000000Z
UID:82ae4c3a-c79f-4139-9201-cac207d57f39@ClaytonBocce
DTSTART;TZID=America/Los_Angeles:20260619T183000
DTEND;TZID=America/Los_Angeles:20260619T210000
STATUS:CONFIRMED
SUMMARY:DeBOCCERY vs ITS ALL RELATIVES
URL:/League/Schedule/3106
DESCRIPTION:Regular Season match: DeBOCCERY vs ITS ALL RELAT
 IVES
LOCATION:Martinez Court 7
END:VEVENT
BEGIN:VEVENT
DTSTAMP:20260419T000000Z
UID:3c0b0e19-4294-428b-8a3c-5972e2644519@ClaytonBocce
DTSTART;TZID=America/Los_Angeles:20260626T183000
DTEND;TZID=America/Los_Angeles:20260626T210000
STATUS:CONFIRMED
SUMMARY:DeBOCCERY vs SLIM CHANCE
URL:/League/Schedule/3106
DESCRIPTION:Regular Season match: DeBOCCERY vs SLIM CHANCE
LOCATION:Martinez Court 12
END:VEVENT
BEGIN:VEVENT
DTSTAMP:20260419T000000Z
UID:1e80a73c-ad45-4eb8-adef-ca451f9f4555@ClaytonBocce
DTSTART;TZID=America/Los_Angeles:20260710T183000
DTEND;TZID=America/Los_Angeles:20260710T210000
STATUS:CONFIRMED
SUMMARY:DeBOCCERY vs BOCCELISMS
URL:/League/Schedule/3106
DESCRIPTION:Regular Season match: DeBOCCERY vs BOCCELISMS
LOCATION:Martinez Court 5
END:VEVENT
BEGIN:VEVENT
DTSTAMP:20260419T000000Z
UID:06ec21b8-d328-4b60-8a98-a6f7d31ff0ec@ClaytonBocce
DTSTART;TZID=America/Los_Angeles:20260717T183000
DTEND;TZID=America/Los_Angeles:20260717T210000
STATUS:CONFIRMED
SUMMARY:DeBOCCERY vs HAVING A BALL
URL:/League/Schedule/3106
DESCRIPTION:Regular Season match: DeBOCCERY vs HAVING A BALL
LOCATION:Martinez Court 2
END:VEVENT
BEGIN:VEVENT
DTSTAMP:20260419T000000Z
UID:7bd5055c-ba69-488c-bff0-15fb7132c8ca@ClaytonBocce
DTSTART;TZID=America/Los_Angeles:20260724T183000
DTEND;TZID=America/Los_Angeles:20260724T210000
STATUS:CONFIRMED
SUMMARY:DeBOCCERY vs BOCCE FUNTIMERS
URL:/League/Schedule/3106
DESCRIPTION:Regular Season match: DeBOCCERY vs BOCCE FUNTIME
 RS
LOCATION:Martinez Court 4
END:VEVENT
BEGIN:VEVENT
DTSTAMP:20260419T000000Z
UID:e3e2267c-2739-4027-af96-4b60de8318f0@ClaytonBocce
DTSTART;TZID=America/Los_Angeles:20260807T183000
DTEND;TZID=America/Los_Angeles:20260807T210000
STATUS:CONFIRMED
SUMMARY:DeBOCCERY vs SNOCKERED KNOCKERS
URL:/League/Schedule/3106
DESCRIPTION:Regular Season match: DeBOCCERY vs SNOCKERED KNO
 CKERS
LOCATION:Martinez Court 6
END:VEVENT
BEGIN:VEVENT
DTSTAMP:20260419T000000Z
UID:42a9c484-6199-47fe-99a7-9202d9a5eba2@ClaytonBocce
DTSTART;TZID=America/Los_Angeles:20260814T183000
DTEND;TZID=America/Los_Angeles:20260814T210000
STATUS:CONFIRMED
SUMMARY:DeBOCCERY vs ITS ALL RELATIVES
URL:/League/Schedule/3106
DESCRIPTION:Regular Season match: DeBOCCERY vs ITS ALL RELAT
 IVES
LOCATION:Martinez Court 8
END:VEVENT
BEGIN:VEVENT
DTSTAMP:20260419T000000Z
UID:253b0eb3-8681-4608-adc5-d3a56c13598a@ClaytonBocce
DTSTART;TZID=America/Los_Angeles:20260821T183000
DTEND;TZID=America/Los_Angeles:20260821T210000
STATUS:CONFIRMED
SUMMARY:DeBOCCERY vs SLIM CHANCE
URL:/League/Schedule/3106
DESCRIPTION:Regular Season match: DeBOCCERY vs SLIM CHANCE
LOCATION:Martinez Court 11
END:VEVENT
BEGIN:VEVENT
DTSTAMP:20260419T000000Z
UID:4b696f5e-85ab-4a45-a772-b0a70690cf74@ClaytonBocce
DTSTART;TZID=America/Los_Angeles:20260828T183000
DTEND;TZID=America/Los_Angeles:20260828T210000
STATUS:CONFIRMED
SUMMARY:DeBOCCERY vs BOCCELISMS
URL:/League/Schedule/3106
DESCRIPTION:Regular Season match: DeBOCCERY vs BOCCELISMS
LOCATION:Martinez Court 1
END:VEVENT
BEGIN:VEVENT
DTSTAMP:20260419T000000Z
UID:5180eccb-6c8d-4c7e-af64-7eb1ca734be4@ClaytonBocce
DTSTART;TZID=America/Los_Angeles:20260904T183000
DTEND;TZID=America/Los_Angeles:20260904T210000
STATUS:CONFIRMED
SUMMARY:DeBOCCERY vs HAVING A BALL
URL:/League/Schedule/3106
DESCRIPTION:Regular Season match: DeBOCCERY vs HAVING A BALL
LOCATION:Martinez Court 9
END:VEVENT
BEGIN:VEVENT
DTSTAMP:20260419T000000Z
UID:37d617a0-f2d9-422e-a22f-aba7f6db3983@ClaytonBocce
DTSTART;TZID=America/Los_Angeles:20260911T183000
DTEND;TZID=America/Los_Angeles:20260911T210000
STATUS:CONFIRMED
SUMMARY:DeBOCCERY vs BOCCE FUNTIMERS
URL:/League/Schedule/3106
DESCRIPTION:Regular Season match: DeBOCCERY vs BOCCE FUNTIME
 RS
LOCATION:Martinez Court 12
END:VEVENT
END:VCALENDAR
