BEGIN:VCALENDAR
VERSION:2.0
PRODID:-//Clayton Bocce League
METHOD:PUBLISH
BEGIN:VTIMEZONE
TZID:America/Los_Angeles
X-LIC-LOCATION:America/Los_Angeles
BEGIN:DAYLIGHT
TZOFFSETFROM:-0800
TZOFFSETTO:-0700
TZNAME:PDT
DTSTART:20070311T020000
RRULE:FREQ=YEARLY;BYMONTH=3;BYDAY=2SU
END:DAYLIGHT
BEGIN:STANDARD
TZOFFSETFROM:-0700
TZOFFSETTO:-0800
TZNAME:PST
DTSTART:20071104T020000
RRULE:FREQ=YEARLY;BYMONTH=11;BYDAY=1SU
END:STANDARD
END:VTIMEZONE
BEGIN:VEVENT
DTSTAMP:20260419T000000Z
UID:e400e5ab-e3fb-4ad2-b85f-8bd966976a1e@ClaytonBocce
DTSTART;TZID=America/Los_Angeles:20260430T183000
DTEND;TZID=America/Los_Angeles:20260430T210000
STATUS:CONFIRMED
SUMMARY:THE BALL SPLITTERS vs SALUTI
URL:/League/Schedule/3077
DESCRIPTION:Regular Season match: THE BALL SPLITTERS vs SALU
 TI
LOCATION:Martinez Court 5
END:VEVENT
BEGIN:VEVENT
DTSTAMP:20260419T000000Z
UID:a081b1c0-5d1e-494c-85e2-301f9f5c338f@ClaytonBocce
DTSTART;TZID=America/Los_Angeles:20260507T183000
DTEND;TZID=America/Los_Angeles:20260507T210000
STATUS:CONFIRMED
SUMMARY:THE BALL SPLITTERS vs WATCH ME BOCCE
URL:/League/Schedule/3077
DESCRIPTION:Regular Season match: THE BALL SPLITTERS vs WATC
 H ME BOCCE
LOCATION:Martinez Court 10
END:VEVENT
BEGIN:VEVENT
DTSTAMP:20260419T000000Z
UID:5740d89a-303b-429c-a8f3-961136d0187a@ClaytonBocce
DTSTART;TZID=America/Los_Angeles:20260514T183000
DTEND;TZID=America/Los_Angeles:20260514T210000
STATUS:CONFIRMED
SUMMARY:THE BALL SPLITTERS vs BALLS DEEP
URL:/League/Schedule/3077
DESCRIPTION:Regular Season match: THE BALL SPLITTERS vs BALL
 S DEEP
LOCATION:Martinez Court 13
END:VEVENT
BEGIN:VEVENT
DTSTAMP:20260419T000000Z
UID:3b779ce9-5f47-49b7-a122-168d21cdfa83@ClaytonBocce
DTSTART;TZID=America/Los_Angeles:20260521T183000
DTEND;TZID=America/Los_Angeles:20260521T210000
STATUS:CONFIRMED
SUMMARY:THE BALL SPLITTERS vs N.u.T.S.
URL:/League/Schedule/3077
DESCRIPTION:Regular Season match: THE BALL SPLITTERS vs N.u.
 T.S.
LOCATION:Martinez Court 2
END:VEVENT
BEGIN:VEVENT
DTSTAMP:20260419T000000Z
UID:82d70874-17a6-4195-866d-37f99cdb91af@ClaytonBocce
DTSTART;TZID=America/Los_Angeles:20260528T183000
DTEND;TZID=America/Los_Angeles:20260528T210000
STATUS:CONFIRMED
SUMMARY:THE BALL SPLITTERS vs ROLL PLAYERS
URL:/League/Schedule/3077
DESCRIPTION:Regular Season match: THE BALL SPLITTERS vs ROLL
  PLAYERS
LOCATION:Martinez Court 1
END:VEVENT
BEGIN:VEVENT
DTSTAMP:20260419T000000Z
UID:02e6842c-16c5-4cec-aaa8-8635cf5ca4dd@ClaytonBocce
DTSTART;TZID=America/Los_Angeles:20260604T183000
DTEND;TZID=America/Los_Angeles:20260604T210000
STATUS:CONFIRMED
SUMMARY:THE BALL SPLITTERS vs WHARF RATS
URL:/League/Schedule/3077
DESCRIPTION:Regular Season match: THE BALL SPLITTERS vs WHAR
 F RATS
LOCATION:Martinez Court 8
END:VEVENT
BEGIN:VEVENT
DTSTAMP:20260419T000000Z
UID:e40b5261-7230-4d8a-9ff0-e26b9b5ed30a@ClaytonBocce
DTSTART;TZID=America/Los_Angeles:20260618T183000
DTEND;TZID=America/Los_Angeles:20260618T210000
STATUS:CONFIRMED
SUMMARY:THE BALL SPLITTERS vs SALUTI
URL:/League/Schedule/3077
DESCRIPTION:Regular Season match: THE BALL SPLITTERS vs SALU
 TI
LOCATION:Martinez Court 9
END:VEVENT
BEGIN:VEVENT
DTSTAMP:20260419T000000Z
UID:650e743d-6317-40af-b2e4-6a78695029f5@ClaytonBocce
DTSTART;TZID=America/Los_Angeles:20260625T183000
DTEND;TZID=America/Los_Angeles:20260625T210000
STATUS:CONFIRMED
SUMMARY:THE BALL SPLITTERS vs WATCH ME BOCCE
URL:/League/Schedule/3077
DESCRIPTION:Regular Season match: THE BALL SPLITTERS vs WATC
 H ME BOCCE
LOCATION:Martinez Court 3
END:VEVENT
BEGIN:VEVENT
DTSTAMP:20260419T000000Z
UID:cf1b99df-d567-4428-a14b-8f8606384b61@ClaytonBocce
DTSTART;TZID=America/Los_Angeles:20260709T183000
DTEND;TZID=America/Los_Angeles:20260709T210000
STATUS:CONFIRMED
SUMMARY:THE BALL SPLITTERS vs BALLS DEEP
URL:/League/Schedule/3077
DESCRIPTION:Regular Season match: THE BALL SPLITTERS vs BALL
 S DEEP
LOCATION:Martinez Court 6
END:VEVENT
BEGIN:VEVENT
DTSTAMP:20260419T000000Z
UID:de84c39d-450c-4d5b-9387-c44f56f275d9@ClaytonBocce
DTSTART;TZID=America/Los_Angeles:20260716T183000
DTEND;TZID=America/Los_Angeles:20260716T210000
STATUS:CONFIRMED
SUMMARY:THE BALL SPLITTERS vs N.u.T.S.
URL:/League/Schedule/3077
DESCRIPTION:Regular Season match: THE BALL SPLITTERS vs N.u.
 T.S.
LOCATION:Martinez Court 7
END:VEVENT
BEGIN:VEVENT
DTSTAMP:20260419T000000Z
UID:01314299-9402-4bf3-b241-cef72d2d1253@ClaytonBocce
DTSTART;TZID=America/Los_Angeles:20260723T183000
DTEND;TZID=America/Los_Angeles:20260723T210000
STATUS:CONFIRMED
SUMMARY:THE BALL SPLITTERS vs ROLL PLAYERS
URL:/League/Schedule/3077
DESCRIPTION:Regular Season match: THE BALL SPLITTERS vs ROLL
  PLAYERS
LOCATION:Martinez Court 4
END:VEVENT
BEGIN:VEVENT
DTSTAMP:20260419T000000Z
UID:a0fe0cbc-2a08-458d-843d-3224002fcaba@ClaytonBocce
DTSTART;TZID=America/Los_Angeles:20260730T183000
DTEND;TZID=America/Los_Angeles:20260730T210000
STATUS:CONFIRMED
SUMMARY:THE BALL SPLITTERS vs WHARF RATS
URL:/League/Schedule/3077
DESCRIPTION:Regular Season match: THE BALL SPLITTERS vs WHAR
 F RATS
LOCATION:Martinez Court 11
END:VEVENT
BEGIN:VEVENT
DTSTAMP:20260419T000000Z
UID:7da648ec-c915-45cc-b6ea-4d6469c2223e@ClaytonBocce
DTSTART;TZID=America/Los_Angeles:20260813T183000
DTEND;TZID=America/Los_Angeles:20260813T210000
STATUS:CONFIRMED
SUMMARY:THE BALL SPLITTERS vs SALUTI
URL:/League/Schedule/3077
DESCRIPTION:Regular Season match: THE BALL SPLITTERS vs SALU
 TI
LOCATION:Martinez Court 14
END:VEVENT
BEGIN:VEVENT
DTSTAMP:20260419T000000Z
UID:97cc9982-7269-46d7-aa13-c47164d76534@ClaytonBocce
DTSTART;TZID=America/Los_Angeles:20260820T183000
DTEND;TZID=America/Los_Angeles:20260820T210000
STATUS:CONFIRMED
SUMMARY:THE BALL SPLITTERS vs WATCH ME BOCCE
URL:/League/Schedule/3077
DESCRIPTION:Regular Season match: THE BALL SPLITTERS vs WATC
 H ME BOCCE
LOCATION:Martinez Court 8
END:VEVENT
BEGIN:VEVENT
DTSTAMP:20260419T000000Z
UID:e23f9835-ffcd-4458-9b37-3038fdd78a3d@ClaytonBocce
DTSTART;TZID=America/Los_Angeles:20260827T183000
DTEND;TZID=America/Los_Angeles:20260827T210000
STATUS:CONFIRMED
SUMMARY:THE BALL SPLITTERS vs BALLS DEEP
URL:/League/Schedule/3077
DESCRIPTION:Regular Season match: THE BALL SPLITTERS vs BALL
 S DEEP
LOCATION:Martinez Court 4
END:VEVENT
BEGIN:VEVENT
DTSTAMP:20260419T000000Z
UID:ec103c36-6117-40db-a0b9-22bfe54f3ced@ClaytonBocce
DTSTART;TZID=America/Los_Angeles:20260903T183000
DTEND;TZID=America/Los_Angeles:20260903T210000
STATUS:CONFIRMED
SUMMARY:THE BALL SPLITTERS vs N.u.T.S.
URL:/League/Schedule/3077
DESCRIPTION:Regular Season match: THE BALL SPLITTERS vs N.u.
 T.S.
LOCATION:Martinez Court 15
END:VEVENT
BEGIN:VEVENT
DTSTAMP:20260419T000000Z
UID:bc0e1039-46bd-4e9e-927f-919f8aa66854@ClaytonBocce
DTSTART;TZID=America/Los_Angeles:20260910T183000
DTEND;TZID=America/Los_Angeles:20260910T210000
STATUS:CONFIRMED
SUMMARY:THE BALL SPLITTERS vs ROLL PLAYERS
URL:/League/Schedule/3077
DESCRIPTION:Regular Season match: THE BALL SPLITTERS vs ROLL
  PLAYERS
LOCATION:Martinez Court 12
END:VEVENT
BEGIN:VEVENT
DTSTAMP:20260419T000000Z
UID:625ee5c6-aca5-464d-8e63-96d2eca6b20b@ClaytonBocce
DTSTART;TZID=America/Los_Angeles:20260917T183000
DTEND;TZID=America/Los_Angeles:20260917T210000
STATUS:CONFIRMED
SUMMARY:THE BALL SPLITTERS vs WHARF RATS
URL:/League/Schedule/3077
DESCRIPTION:Regular Season match: THE BALL SPLITTERS vs WHAR
 F RATS
LOCATION:Martinez Court 2
END:VEVENT
END:VCALENDAR
