BEGIN:VCALENDAR
VERSION:2.0
PRODID:-//Clayton Bocce League
METHOD:PUBLISH
BEGIN:VTIMEZONE
TZID:America/Los_Angeles
X-LIC-LOCATION:America/Los_Angeles
BEGIN:DAYLIGHT
TZOFFSETFROM:-0800
TZOFFSETTO:-0700
TZNAME:PDT
DTSTART:20070311T020000
RRULE:FREQ=YEARLY;BYMONTH=3;BYDAY=2SU
END:DAYLIGHT
BEGIN:STANDARD
TZOFFSETFROM:-0700
TZOFFSETTO:-0800
TZNAME:PST
DTSTART:20071104T020000
RRULE:FREQ=YEARLY;BYMONTH=11;BYDAY=1SU
END:STANDARD
END:VTIMEZONE
BEGIN:VEVENT
DTSTAMP:20260419T000000Z
UID:92c11ada-7741-45fb-93ed-35dfd7d13b36@ClaytonBocce
DTSTART;TZID=America/Los_Angeles:20260423T183000
DTEND;TZID=America/Los_Angeles:20260423T210000
STATUS:CONFIRMED
SUMMARY:BALLS DEEP vs WHARF RATS
URL:/League/Schedule/3072
DESCRIPTION:Regular Season match: BALLS DEEP vs WHARF RATS
LOCATION:Martinez Court 14
END:VEVENT
BEGIN:VEVENT
DTSTAMP:20260419T000000Z
UID:637aa105-d81e-451f-9b7c-aeba7f8b1892@ClaytonBocce
DTSTART;TZID=America/Los_Angeles:20260430T183000
DTEND;TZID=America/Los_Angeles:20260430T210000
STATUS:CONFIRMED
SUMMARY:BALLS DEEP vs WATCH ME BOCCE
URL:/League/Schedule/3072
DESCRIPTION:Regular Season match: BALLS DEEP vs WATCH ME BOC
 CE
LOCATION:Martinez Court 4
END:VEVENT
BEGIN:VEVENT
DTSTAMP:20260419T000000Z
UID:8558c276-9c7d-40a6-85ca-10fe806f4d66@ClaytonBocce
DTSTART;TZID=America/Los_Angeles:20260507T183000
DTEND;TZID=America/Los_Angeles:20260507T210000
STATUS:CONFIRMED
SUMMARY:BALLS DEEP vs N.u.T.S.
URL:/League/Schedule/3072
DESCRIPTION:Regular Season match: BALLS DEEP vs N.u.T.S.
LOCATION:Martinez Court 9
END:VEVENT
BEGIN:VEVENT
DTSTAMP:20260419T000000Z
UID:5740d89a-303b-429c-a8f3-961136d0187a@ClaytonBocce
DTSTART;TZID=America/Los_Angeles:20260514T183000
DTEND;TZID=America/Los_Angeles:20260514T210000
STATUS:CONFIRMED
SUMMARY:BALLS DEEP vs THE BALL SPLITTERS
URL:/League/Schedule/3072
DESCRIPTION:Regular Season match: BALLS DEEP vs THE BALL SPL
 ITTERS
LOCATION:Martinez Court 13
END:VEVENT
BEGIN:VEVENT
DTSTAMP:20260419T000000Z
UID:21dde941-c08a-4740-991f-3bbcee82889b@ClaytonBocce
DTSTART;TZID=America/Los_Angeles:20260521T183000
DTEND;TZID=America/Los_Angeles:20260521T210000
STATUS:CONFIRMED
SUMMARY:BALLS DEEP vs ROLL PLAYERS
URL:/League/Schedule/3072
DESCRIPTION:Regular Season match: BALLS DEEP vs ROLL PLAYERS
LOCATION:Martinez Court 15
END:VEVENT
BEGIN:VEVENT
DTSTAMP:20260419T000000Z
UID:b016c455-42ba-4f1b-b457-87a73f54f8b4@ClaytonBocce
DTSTART;TZID=America/Los_Angeles:20260604T183000
DTEND;TZID=America/Los_Angeles:20260604T210000
STATUS:CONFIRMED
SUMMARY:BALLS DEEP vs SALUTI
URL:/League/Schedule/3072
DESCRIPTION:Regular Season match: BALLS DEEP vs SALUTI
LOCATION:Martinez Court 7
END:VEVENT
BEGIN:VEVENT
DTSTAMP:20260419T000000Z
UID:46c57b2a-9b04-4858-80ca-73d7df50c5ed@ClaytonBocce
DTSTART;TZID=America/Los_Angeles:20260611T183000
DTEND;TZID=America/Los_Angeles:20260611T210000
STATUS:CONFIRMED
SUMMARY:BALLS DEEP vs WHARF RATS
URL:/League/Schedule/3072
DESCRIPTION:Regular Season match: BALLS DEEP vs WHARF RATS
LOCATION:Martinez Court 15
END:VEVENT
BEGIN:VEVENT
DTSTAMP:20260419T000000Z
UID:41749aa0-2ed9-4dfb-aeef-c1ad9cd205f4@ClaytonBocce
DTSTART;TZID=America/Los_Angeles:20260618T183000
DTEND;TZID=America/Los_Angeles:20260618T210000
STATUS:CONFIRMED
SUMMARY:BALLS DEEP vs WATCH ME BOCCE
URL:/League/Schedule/3072
DESCRIPTION:Regular Season match: BALLS DEEP vs WATCH ME BOC
 CE
LOCATION:Martinez Court 8
END:VEVENT
BEGIN:VEVENT
DTSTAMP:20260419T000000Z
UID:adca0218-a82a-4d4c-a3c7-fa400928546a@ClaytonBocce
DTSTART;TZID=America/Los_Angeles:20260625T183000
DTEND;TZID=America/Los_Angeles:20260625T210000
STATUS:CONFIRMED
SUMMARY:BALLS DEEP vs N.u.T.S.
URL:/League/Schedule/3072
DESCRIPTION:Regular Season match: BALLS DEEP vs N.u.T.S.
LOCATION:Martinez Court 1
END:VEVENT
BEGIN:VEVENT
DTSTAMP:20260419T000000Z
UID:cf1b99df-d567-4428-a14b-8f8606384b61@ClaytonBocce
DTSTART;TZID=America/Los_Angeles:20260709T183000
DTEND;TZID=America/Los_Angeles:20260709T210000
STATUS:CONFIRMED
SUMMARY:BALLS DEEP vs THE BALL SPLITTERS
URL:/League/Schedule/3072
DESCRIPTION:Regular Season match: BALLS DEEP vs THE BALL SPL
 ITTERS
LOCATION:Martinez Court 6
END:VEVENT
BEGIN:VEVENT
DTSTAMP:20260419T000000Z
UID:5e9bcbd6-9cec-4220-8dc8-885490dbb405@ClaytonBocce
DTSTART;TZID=America/Los_Angeles:20260716T183000
DTEND;TZID=America/Los_Angeles:20260716T210000
STATUS:CONFIRMED
SUMMARY:BALLS DEEP vs ROLL PLAYERS
URL:/League/Schedule/3072
DESCRIPTION:Regular Season match: BALLS DEEP vs ROLL PLAYERS
LOCATION:Martinez Court 2
END:VEVENT
BEGIN:VEVENT
DTSTAMP:20260419T000000Z
UID:d0c1da8a-6e9d-40be-8382-617f9dbf4415@ClaytonBocce
DTSTART;TZID=America/Los_Angeles:20260730T183000
DTEND;TZID=America/Los_Angeles:20260730T210000
STATUS:CONFIRMED
SUMMARY:BALLS DEEP vs SALUTI
URL:/League/Schedule/3072
DESCRIPTION:Regular Season match: BALLS DEEP vs SALUTI
LOCATION:Martinez Court 10
END:VEVENT
BEGIN:VEVENT
DTSTAMP:20260419T000000Z
UID:1d833bca-62cf-4dd4-97b0-334f143f61d2@ClaytonBocce
DTSTART;TZID=America/Los_Angeles:20260806T183000
DTEND;TZID=America/Los_Angeles:20260806T210000
STATUS:CONFIRMED
SUMMARY:BALLS DEEP vs WHARF RATS
URL:/League/Schedule/3072
DESCRIPTION:Regular Season match: BALLS DEEP vs WHARF RATS
LOCATION:Martinez Court 5
END:VEVENT
BEGIN:VEVENT
DTSTAMP:20260419T000000Z
UID:b932d9ee-ffab-4fca-8e5a-475476de4341@ClaytonBocce
DTSTART;TZID=America/Los_Angeles:20260813T183000
DTEND;TZID=America/Los_Angeles:20260813T210000
STATUS:CONFIRMED
SUMMARY:BALLS DEEP vs WATCH ME BOCCE
URL:/League/Schedule/3072
DESCRIPTION:Regular Season match: BALLS DEEP vs WATCH ME BOC
 CE
LOCATION:Martinez Court 11
END:VEVENT
BEGIN:VEVENT
DTSTAMP:20260419T000000Z
UID:415676f4-3de4-401f-b6b2-f7870abd59eb@ClaytonBocce
DTSTART;TZID=America/Los_Angeles:20260820T183000
DTEND;TZID=America/Los_Angeles:20260820T210000
STATUS:CONFIRMED
SUMMARY:BALLS DEEP vs N.u.T.S.
URL:/League/Schedule/3072
DESCRIPTION:Regular Season match: BALLS DEEP vs N.u.T.S.
LOCATION:Martinez Court 1
END:VEVENT
BEGIN:VEVENT
DTSTAMP:20260419T000000Z
UID:e23f9835-ffcd-4458-9b37-3038fdd78a3d@ClaytonBocce
DTSTART;TZID=America/Los_Angeles:20260827T183000
DTEND;TZID=America/Los_Angeles:20260827T210000
STATUS:CONFIRMED
SUMMARY:BALLS DEEP vs THE BALL SPLITTERS
URL:/League/Schedule/3072
DESCRIPTION:Regular Season match: BALLS DEEP vs THE BALL SPL
 ITTERS
LOCATION:Martinez Court 4
END:VEVENT
BEGIN:VEVENT
DTSTAMP:20260419T000000Z
UID:f987ddfa-82ec-4639-aa7a-16e9f2a135e9@ClaytonBocce
DTSTART;TZID=America/Los_Angeles:20260903T183000
DTEND;TZID=America/Los_Angeles:20260903T210000
STATUS:CONFIRMED
SUMMARY:BALLS DEEP vs ROLL PLAYERS
URL:/League/Schedule/3072
DESCRIPTION:Regular Season match: BALLS DEEP vs ROLL PLAYERS
LOCATION:Martinez Court 9
END:VEVENT
BEGIN:VEVENT
DTSTAMP:20260419T000000Z
UID:1202e148-4583-4af4-93ba-f83b0b4f7cac@ClaytonBocce
DTSTART;TZID=America/Los_Angeles:20260917T183000
DTEND;TZID=America/Los_Angeles:20260917T210000
STATUS:CONFIRMED
SUMMARY:BALLS DEEP vs SALUTI
URL:/League/Schedule/3072
DESCRIPTION:Regular Season match: BALLS DEEP vs SALUTI
LOCATION:Martinez Court 12
END:VEVENT
END:VCALENDAR
