BEGIN:VCALENDAR
VERSION:2.0
PRODID:-//Clayton Bocce League
METHOD:PUBLISH
BEGIN:VTIMEZONE
TZID:America/Los_Angeles
X-LIC-LOCATION:America/Los_Angeles
BEGIN:DAYLIGHT
TZOFFSETFROM:-0800
TZOFFSETTO:-0700
TZNAME:PDT
DTSTART:20070311T020000
RRULE:FREQ=YEARLY;BYMONTH=3;BYDAY=2SU
END:DAYLIGHT
BEGIN:STANDARD
TZOFFSETFROM:-0700
TZOFFSETTO:-0800
TZNAME:PST
DTSTART:20071104T020000
RRULE:FREQ=YEARLY;BYMONTH=11;BYDAY=1SU
END:STANDARD
END:VTIMEZONE
BEGIN:VEVENT
DTSTAMP:20260419T000000Z
UID:92c11ada-7741-45fb-93ed-35dfd7d13b36@ClaytonBocce
DTSTART;TZID=America/Los_Angeles:20260423T183000
DTEND;TZID=America/Los_Angeles:20260423T210000
STATUS:CONFIRMED
SUMMARY:WHARF RATS vs BALLS DEEP
URL:/League/Schedule/3075
DESCRIPTION:Regular Season match: WHARF RATS vs BALLS DEEP
LOCATION:Martinez Court 14
END:VEVENT
BEGIN:VEVENT
DTSTAMP:20260419T000000Z
UID:52860e82-794b-4b73-88f3-918b2c493bd0@ClaytonBocce
DTSTART;TZID=America/Los_Angeles:20260430T183000
DTEND;TZID=America/Los_Angeles:20260430T210000
STATUS:CONFIRMED
SUMMARY:WHARF RATS vs ROLL PLAYERS
URL:/League/Schedule/3075
DESCRIPTION:Regular Season match: WHARF RATS vs ROLL PLAYERS
LOCATION:Martinez Court 3
END:VEVENT
BEGIN:VEVENT
DTSTAMP:20260419T000000Z
UID:2fcc3905-e9c8-4d16-9304-13b8eefd509e@ClaytonBocce
DTSTART;TZID=America/Los_Angeles:20260514T183000
DTEND;TZID=America/Los_Angeles:20260514T210000
STATUS:CONFIRMED
SUMMARY:WHARF RATS vs N.u.T.S.
URL:/League/Schedule/3075
DESCRIPTION:Regular Season match: WHARF RATS vs N.u.T.S.
LOCATION:Martinez Court 11
END:VEVENT
BEGIN:VEVENT
DTSTAMP:20260419T000000Z
UID:28e6efa8-ac73-4c50-97af-9ebfcec5b1d1@ClaytonBocce
DTSTART;TZID=America/Los_Angeles:20260521T183000
DTEND;TZID=America/Los_Angeles:20260521T210000
STATUS:CONFIRMED
SUMMARY:WHARF RATS vs SALUTI
URL:/League/Schedule/3075
DESCRIPTION:Regular Season match: WHARF RATS vs SALUTI
LOCATION:Martinez Court 1
END:VEVENT
BEGIN:VEVENT
DTSTAMP:20260419T000000Z
UID:ff8f99cc-a1a4-4c31-a059-7f06130e83e8@ClaytonBocce
DTSTART;TZID=America/Los_Angeles:20260528T183000
DTEND;TZID=America/Los_Angeles:20260528T210000
STATUS:CONFIRMED
SUMMARY:WHARF RATS vs WATCH ME BOCCE
URL:/League/Schedule/3075
DESCRIPTION:Regular Season match: WHARF RATS vs WATCH ME BOC
 CE
LOCATION:Martinez Court 2
END:VEVENT
BEGIN:VEVENT
DTSTAMP:20260419T000000Z
UID:02e6842c-16c5-4cec-aaa8-8635cf5ca4dd@ClaytonBocce
DTSTART;TZID=America/Los_Angeles:20260604T183000
DTEND;TZID=America/Los_Angeles:20260604T210000
STATUS:CONFIRMED
SUMMARY:WHARF RATS vs THE BALL SPLITTERS
URL:/League/Schedule/3075
DESCRIPTION:Regular Season match: WHARF RATS vs THE BALL SPL
 ITTERS
LOCATION:Martinez Court 8
END:VEVENT
BEGIN:VEVENT
DTSTAMP:20260419T000000Z
UID:46c57b2a-9b04-4858-80ca-73d7df50c5ed@ClaytonBocce
DTSTART;TZID=America/Los_Angeles:20260611T183000
DTEND;TZID=America/Los_Angeles:20260611T210000
STATUS:CONFIRMED
SUMMARY:WHARF RATS vs BALLS DEEP
URL:/League/Schedule/3075
DESCRIPTION:Regular Season match: WHARF RATS vs BALLS DEEP
LOCATION:Martinez Court 15
END:VEVENT
BEGIN:VEVENT
DTSTAMP:20260419T000000Z
UID:ffe815d1-2fc6-4902-90f1-d4e83609e9be@ClaytonBocce
DTSTART;TZID=America/Los_Angeles:20260618T183000
DTEND;TZID=America/Los_Angeles:20260618T210000
STATUS:CONFIRMED
SUMMARY:WHARF RATS vs ROLL PLAYERS
URL:/League/Schedule/3075
DESCRIPTION:Regular Season match: WHARF RATS vs ROLL PLAYERS
LOCATION:Martinez Court 7
END:VEVENT
BEGIN:VEVENT
DTSTAMP:20260419T000000Z
UID:5e3ef2ab-4c47-4e68-8fdc-dd6e96096c77@ClaytonBocce
DTSTART;TZID=America/Los_Angeles:20260709T183000
DTEND;TZID=America/Los_Angeles:20260709T210000
STATUS:CONFIRMED
SUMMARY:WHARF RATS vs N.u.T.S.
URL:/League/Schedule/3075
DESCRIPTION:Regular Season match: WHARF RATS vs N.u.T.S.
LOCATION:Martinez Court 4
END:VEVENT
BEGIN:VEVENT
DTSTAMP:20260419T000000Z
UID:4a3b9955-5763-400c-9e47-24b898956a84@ClaytonBocce
DTSTART;TZID=America/Los_Angeles:20260716T183000
DTEND;TZID=America/Los_Angeles:20260716T210000
STATUS:CONFIRMED
SUMMARY:WHARF RATS vs SALUTI
URL:/League/Schedule/3075
DESCRIPTION:Regular Season match: WHARF RATS vs SALUTI
LOCATION:Martinez Court 6
END:VEVENT
BEGIN:VEVENT
DTSTAMP:20260419T000000Z
UID:554edd0c-94d3-4b1e-a47e-14fd6dbefa42@ClaytonBocce
DTSTART;TZID=America/Los_Angeles:20260723T183000
DTEND;TZID=America/Los_Angeles:20260723T210000
STATUS:CONFIRMED
SUMMARY:WHARF RATS vs WATCH ME BOCCE
URL:/League/Schedule/3075
DESCRIPTION:Regular Season match: WHARF RATS vs WATCH ME BOC
 CE
LOCATION:Martinez Court 9
END:VEVENT
BEGIN:VEVENT
DTSTAMP:20260419T000000Z
UID:a0fe0cbc-2a08-458d-843d-3224002fcaba@ClaytonBocce
DTSTART;TZID=America/Los_Angeles:20260730T183000
DTEND;TZID=America/Los_Angeles:20260730T210000
STATUS:CONFIRMED
SUMMARY:WHARF RATS vs THE BALL SPLITTERS
URL:/League/Schedule/3075
DESCRIPTION:Regular Season match: WHARF RATS vs THE BALL SPL
 ITTERS
LOCATION:Martinez Court 11
END:VEVENT
BEGIN:VEVENT
DTSTAMP:20260419T000000Z
UID:1d833bca-62cf-4dd4-97b0-334f143f61d2@ClaytonBocce
DTSTART;TZID=America/Los_Angeles:20260806T183000
DTEND;TZID=America/Los_Angeles:20260806T210000
STATUS:CONFIRMED
SUMMARY:WHARF RATS vs BALLS DEEP
URL:/League/Schedule/3075
DESCRIPTION:Regular Season match: WHARF RATS vs BALLS DEEP
LOCATION:Martinez Court 5
END:VEVENT
BEGIN:VEVENT
DTSTAMP:20260419T000000Z
UID:e891cab4-fcc9-4dce-b90b-cd3073ac49f6@ClaytonBocce
DTSTART;TZID=America/Los_Angeles:20260813T183000
DTEND;TZID=America/Los_Angeles:20260813T210000
STATUS:CONFIRMED
SUMMARY:WHARF RATS vs ROLL PLAYERS
URL:/League/Schedule/3075
DESCRIPTION:Regular Season match: WHARF RATS vs ROLL PLAYERS
LOCATION:Martinez Court 8
END:VEVENT
BEGIN:VEVENT
DTSTAMP:20260419T000000Z
UID:fae5576c-3e6a-4249-82a4-d26540f25b33@ClaytonBocce
DTSTART;TZID=America/Los_Angeles:20260827T183000
DTEND;TZID=America/Los_Angeles:20260827T210000
STATUS:CONFIRMED
SUMMARY:WHARF RATS vs N.u.T.S.
URL:/League/Schedule/3075
DESCRIPTION:Regular Season match: WHARF RATS vs N.u.T.S.
LOCATION:Martinez Court 10
END:VEVENT
BEGIN:VEVENT
DTSTAMP:20260419T000000Z
UID:0979beb5-4bc3-43ce-bbb3-2f8f21d1cae1@ClaytonBocce
DTSTART;TZID=America/Los_Angeles:20260903T183000
DTEND;TZID=America/Los_Angeles:20260903T210000
STATUS:CONFIRMED
SUMMARY:WHARF RATS vs SALUTI
URL:/League/Schedule/3075
DESCRIPTION:Regular Season match: WHARF RATS vs SALUTI
LOCATION:Martinez Court 13
END:VEVENT
BEGIN:VEVENT
DTSTAMP:20260419T000000Z
UID:3e56af4c-64b8-4ce7-84ac-ae42fc5fd0dd@ClaytonBocce
DTSTART;TZID=America/Los_Angeles:20260910T183000
DTEND;TZID=America/Los_Angeles:20260910T210000
STATUS:CONFIRMED
SUMMARY:WHARF RATS vs WATCH ME BOCCE
URL:/League/Schedule/3075
DESCRIPTION:Regular Season match: WHARF RATS vs WATCH ME BOC
 CE
LOCATION:Martinez Court 14
END:VEVENT
BEGIN:VEVENT
DTSTAMP:20260419T000000Z
UID:625ee5c6-aca5-464d-8e63-96d2eca6b20b@ClaytonBocce
DTSTART;TZID=America/Los_Angeles:20260917T183000
DTEND;TZID=America/Los_Angeles:20260917T210000
STATUS:CONFIRMED
SUMMARY:WHARF RATS vs THE BALL SPLITTERS
URL:/League/Schedule/3075
DESCRIPTION:Regular Season match: WHARF RATS vs THE BALL SPL
 ITTERS
LOCATION:Martinez Court 2
END:VEVENT
END:VCALENDAR
