BEGIN:VCALENDAR
VERSION:2.0
PRODID:-//Clayton Bocce League
METHOD:PUBLISH
BEGIN:VTIMEZONE
TZID:America/Los_Angeles
X-LIC-LOCATION:America/Los_Angeles
BEGIN:DAYLIGHT
TZOFFSETFROM:-0800
TZOFFSETTO:-0700
TZNAME:PDT
DTSTART:20070311T020000
RRULE:FREQ=YEARLY;BYMONTH=3;BYDAY=2SU
END:DAYLIGHT
BEGIN:STANDARD
TZOFFSETFROM:-0700
TZOFFSETTO:-0800
TZNAME:PST
DTSTART:20071104T020000
RRULE:FREQ=YEARLY;BYMONTH=11;BYDAY=1SU
END:STANDARD
END:VTIMEZONE
BEGIN:VEVENT
DTSTAMP:20260419T000000Z
UID:39dc7f60-8b66-4ee3-af32-ff15faf0dede@ClaytonBocce
DTSTART;TZID=America/Los_Angeles:20260423T183000
DTEND;TZID=America/Los_Angeles:20260423T210000
STATUS:CONFIRMED
SUMMARY:SALUTI vs WATCH ME BOCCE
URL:/League/Schedule/3074
DESCRIPTION:Regular Season match: SALUTI vs WATCH ME BOCCE
LOCATION:Martinez Court 15
END:VEVENT
BEGIN:VEVENT
DTSTAMP:20260419T000000Z
UID:e400e5ab-e3fb-4ad2-b85f-8bd966976a1e@ClaytonBocce
DTSTART;TZID=America/Los_Angeles:20260430T183000
DTEND;TZID=America/Los_Angeles:20260430T210000
STATUS:CONFIRMED
SUMMARY:SALUTI vs THE BALL SPLITTERS
URL:/League/Schedule/3074
DESCRIPTION:Regular Season match: SALUTI vs THE BALL SPLITTE
 RS
LOCATION:Martinez Court 5
END:VEVENT
BEGIN:VEVENT
DTSTAMP:20260419T000000Z
UID:bc0da388-6a4b-4413-95a6-8e824a712db7@ClaytonBocce
DTSTART;TZID=America/Los_Angeles:20260507T183000
DTEND;TZID=America/Los_Angeles:20260507T210000
STATUS:CONFIRMED
SUMMARY:SALUTI vs ROLL PLAYERS
URL:/League/Schedule/3074
DESCRIPTION:Regular Season match: SALUTI vs ROLL PLAYERS
LOCATION:Martinez Court 8
END:VEVENT
BEGIN:VEVENT
DTSTAMP:20260419T000000Z
UID:28e6efa8-ac73-4c50-97af-9ebfcec5b1d1@ClaytonBocce
DTSTART;TZID=America/Los_Angeles:20260521T183000
DTEND;TZID=America/Los_Angeles:20260521T210000
STATUS:CONFIRMED
SUMMARY:SALUTI vs WHARF RATS
URL:/League/Schedule/3074
DESCRIPTION:Regular Season match: SALUTI vs WHARF RATS
LOCATION:Martinez Court 1
END:VEVENT
BEGIN:VEVENT
DTSTAMP:20260419T000000Z
UID:fded94a4-2fed-4f53-86f8-332b4b5ed20e@ClaytonBocce
DTSTART;TZID=America/Los_Angeles:20260528T183000
DTEND;TZID=America/Los_Angeles:20260528T210000
STATUS:CONFIRMED
SUMMARY:SALUTI vs N.u.T.S.
URL:/League/Schedule/3074
DESCRIPTION:Regular Season match: SALUTI vs N.u.T.S.
LOCATION:Martinez Court 3
END:VEVENT
BEGIN:VEVENT
DTSTAMP:20260419T000000Z
UID:b016c455-42ba-4f1b-b457-87a73f54f8b4@ClaytonBocce
DTSTART;TZID=America/Los_Angeles:20260604T183000
DTEND;TZID=America/Los_Angeles:20260604T210000
STATUS:CONFIRMED
SUMMARY:SALUTI vs BALLS DEEP
URL:/League/Schedule/3074
DESCRIPTION:Regular Season match: SALUTI vs BALLS DEEP
LOCATION:Martinez Court 7
END:VEVENT
BEGIN:VEVENT
DTSTAMP:20260419T000000Z
UID:9db5a875-3a2e-4e27-9115-29cc126e7701@ClaytonBocce
DTSTART;TZID=America/Los_Angeles:20260611T183000
DTEND;TZID=America/Los_Angeles:20260611T210000
STATUS:CONFIRMED
SUMMARY:SALUTI vs WATCH ME BOCCE
URL:/League/Schedule/3074
DESCRIPTION:Regular Season match: SALUTI vs WATCH ME BOCCE
LOCATION:Martinez Court 13
END:VEVENT
BEGIN:VEVENT
DTSTAMP:20260419T000000Z
UID:e40b5261-7230-4d8a-9ff0-e26b9b5ed30a@ClaytonBocce
DTSTART;TZID=America/Los_Angeles:20260618T183000
DTEND;TZID=America/Los_Angeles:20260618T210000
STATUS:CONFIRMED
SUMMARY:SALUTI vs THE BALL SPLITTERS
URL:/League/Schedule/3074
DESCRIPTION:Regular Season match: SALUTI vs THE BALL SPLITTE
 RS
LOCATION:Martinez Court 9
END:VEVENT
BEGIN:VEVENT
DTSTAMP:20260419T000000Z
UID:af142c29-8ca0-4700-9ce5-d51d8c731ae6@ClaytonBocce
DTSTART;TZID=America/Los_Angeles:20260625T183000
DTEND;TZID=America/Los_Angeles:20260625T210000
STATUS:CONFIRMED
SUMMARY:SALUTI vs ROLL PLAYERS
URL:/League/Schedule/3074
DESCRIPTION:Regular Season match: SALUTI vs ROLL PLAYERS
LOCATION:Martinez Court 12
END:VEVENT
BEGIN:VEVENT
DTSTAMP:20260419T000000Z
UID:4a3b9955-5763-400c-9e47-24b898956a84@ClaytonBocce
DTSTART;TZID=America/Los_Angeles:20260716T183000
DTEND;TZID=America/Los_Angeles:20260716T210000
STATUS:CONFIRMED
SUMMARY:SALUTI vs WHARF RATS
URL:/League/Schedule/3074
DESCRIPTION:Regular Season match: SALUTI vs WHARF RATS
LOCATION:Martinez Court 6
END:VEVENT
BEGIN:VEVENT
DTSTAMP:20260419T000000Z
UID:ede2b8aa-a294-4a60-bb00-902ccdeb6311@ClaytonBocce
DTSTART;TZID=America/Los_Angeles:20260723T183000
DTEND;TZID=America/Los_Angeles:20260723T210000
STATUS:CONFIRMED
SUMMARY:SALUTI vs N.u.T.S.
URL:/League/Schedule/3074
DESCRIPTION:Regular Season match: SALUTI vs N.u.T.S.
LOCATION:Martinez Court 5
END:VEVENT
BEGIN:VEVENT
DTSTAMP:20260419T000000Z
UID:d0c1da8a-6e9d-40be-8382-617f9dbf4415@ClaytonBocce
DTSTART;TZID=America/Los_Angeles:20260730T183000
DTEND;TZID=America/Los_Angeles:20260730T210000
STATUS:CONFIRMED
SUMMARY:SALUTI vs BALLS DEEP
URL:/League/Schedule/3074
DESCRIPTION:Regular Season match: SALUTI vs BALLS DEEP
LOCATION:Martinez Court 10
END:VEVENT
BEGIN:VEVENT
DTSTAMP:20260419T000000Z
UID:11989587-7a18-463a-a797-d3d1a0b89448@ClaytonBocce
DTSTART;TZID=America/Los_Angeles:20260806T183000
DTEND;TZID=America/Los_Angeles:20260806T210000
STATUS:CONFIRMED
SUMMARY:SALUTI vs WATCH ME BOCCE
URL:/League/Schedule/3074
DESCRIPTION:Regular Season match: SALUTI vs WATCH ME BOCCE
LOCATION:Martinez Court 4
END:VEVENT
BEGIN:VEVENT
DTSTAMP:20260419T000000Z
UID:7da648ec-c915-45cc-b6ea-4d6469c2223e@ClaytonBocce
DTSTART;TZID=America/Los_Angeles:20260813T183000
DTEND;TZID=America/Los_Angeles:20260813T210000
STATUS:CONFIRMED
SUMMARY:SALUTI vs THE BALL SPLITTERS
URL:/League/Schedule/3074
DESCRIPTION:Regular Season match: SALUTI vs THE BALL SPLITTE
 RS
LOCATION:Martinez Court 14
END:VEVENT
BEGIN:VEVENT
DTSTAMP:20260419T000000Z
UID:9279bcf9-a31f-4a44-9261-cfc16a194803@ClaytonBocce
DTSTART;TZID=America/Los_Angeles:20260820T183000
DTEND;TZID=America/Los_Angeles:20260820T210000
STATUS:CONFIRMED
SUMMARY:SALUTI vs ROLL PLAYERS
URL:/League/Schedule/3074
DESCRIPTION:Regular Season match: SALUTI vs ROLL PLAYERS
LOCATION:Martinez Court 11
END:VEVENT
BEGIN:VEVENT
DTSTAMP:20260419T000000Z
UID:0979beb5-4bc3-43ce-bbb3-2f8f21d1cae1@ClaytonBocce
DTSTART;TZID=America/Los_Angeles:20260903T183000
DTEND;TZID=America/Los_Angeles:20260903T210000
STATUS:CONFIRMED
SUMMARY:SALUTI vs WHARF RATS
URL:/League/Schedule/3074
DESCRIPTION:Regular Season match: SALUTI vs WHARF RATS
LOCATION:Martinez Court 13
END:VEVENT
BEGIN:VEVENT
DTSTAMP:20260419T000000Z
UID:8de32631-602d-4aee-a16b-3b01aa3cfc45@ClaytonBocce
DTSTART;TZID=America/Los_Angeles:20260910T183000
DTEND;TZID=America/Los_Angeles:20260910T210000
STATUS:CONFIRMED
SUMMARY:SALUTI vs N.u.T.S.
URL:/League/Schedule/3074
DESCRIPTION:Regular Season match: SALUTI vs N.u.T.S.
LOCATION:Martinez Court 3
END:VEVENT
BEGIN:VEVENT
DTSTAMP:20260419T000000Z
UID:1202e148-4583-4af4-93ba-f83b0b4f7cac@ClaytonBocce
DTSTART;TZID=America/Los_Angeles:20260917T183000
DTEND;TZID=America/Los_Angeles:20260917T210000
STATUS:CONFIRMED
SUMMARY:SALUTI vs BALLS DEEP
URL:/League/Schedule/3074
DESCRIPTION:Regular Season match: SALUTI vs BALLS DEEP
LOCATION:Martinez Court 12
END:VEVENT
END:VCALENDAR
