BEGIN:VCALENDAR
VERSION:2.0
PRODID:-//Clayton Bocce League
METHOD:PUBLISH
BEGIN:VTIMEZONE
TZID:America/Los_Angeles
X-LIC-LOCATION:America/Los_Angeles
BEGIN:DAYLIGHT
TZOFFSETFROM:-0800
TZOFFSETTO:-0700
TZNAME:PDT
DTSTART:20070311T020000
RRULE:FREQ=YEARLY;BYMONTH=3;BYDAY=2SU
END:DAYLIGHT
BEGIN:STANDARD
TZOFFSETFROM:-0700
TZOFFSETTO:-0800
TZNAME:PST
DTSTART:20071104T020000
RRULE:FREQ=YEARLY;BYMONTH=11;BYDAY=1SU
END:STANDARD
END:VTIMEZONE
BEGIN:VEVENT
DTSTAMP:20260419T000000Z
UID:39dc7f60-8b66-4ee3-af32-ff15faf0dede@ClaytonBocce
DTSTART;TZID=America/Los_Angeles:20260423T183000
DTEND;TZID=America/Los_Angeles:20260423T210000
STATUS:CONFIRMED
SUMMARY:WATCH ME BOCCE vs SALUTI
URL:/League/Schedule/3073
DESCRIPTION:Regular Season match: WATCH ME BOCCE vs SALUTI
LOCATION:Martinez Court 15
END:VEVENT
BEGIN:VEVENT
DTSTAMP:20260419T000000Z
UID:637aa105-d81e-451f-9b7c-aeba7f8b1892@ClaytonBocce
DTSTART;TZID=America/Los_Angeles:20260430T183000
DTEND;TZID=America/Los_Angeles:20260430T210000
STATUS:CONFIRMED
SUMMARY:WATCH ME BOCCE vs BALLS DEEP
URL:/League/Schedule/3073
DESCRIPTION:Regular Season match: WATCH ME BOCCE vs BALLS DE
 EP
LOCATION:Martinez Court 4
END:VEVENT
BEGIN:VEVENT
DTSTAMP:20260419T000000Z
UID:a081b1c0-5d1e-494c-85e2-301f9f5c338f@ClaytonBocce
DTSTART;TZID=America/Los_Angeles:20260507T183000
DTEND;TZID=America/Los_Angeles:20260507T210000
STATUS:CONFIRMED
SUMMARY:WATCH ME BOCCE vs THE BALL SPLITTERS
URL:/League/Schedule/3073
DESCRIPTION:Regular Season match: WATCH ME BOCCE vs THE BALL
  SPLITTERS
LOCATION:Martinez Court 10
END:VEVENT
BEGIN:VEVENT
DTSTAMP:20260419T000000Z
UID:8f06a1fb-4c74-45ab-ba9b-5f28820db23b@ClaytonBocce
DTSTART;TZID=America/Los_Angeles:20260514T183000
DTEND;TZID=America/Los_Angeles:20260514T210000
STATUS:CONFIRMED
SUMMARY:WATCH ME BOCCE vs ROLL PLAYERS
URL:/League/Schedule/3073
DESCRIPTION:Regular Season match: WATCH ME BOCCE vs ROLL PLA
 YERS
LOCATION:Martinez Court 7
END:VEVENT
BEGIN:VEVENT
DTSTAMP:20260419T000000Z
UID:ff8f99cc-a1a4-4c31-a059-7f06130e83e8@ClaytonBocce
DTSTART;TZID=America/Los_Angeles:20260528T183000
DTEND;TZID=America/Los_Angeles:20260528T210000
STATUS:CONFIRMED
SUMMARY:WATCH ME BOCCE vs WHARF RATS
URL:/League/Schedule/3073
DESCRIPTION:Regular Season match: WATCH ME BOCCE vs WHARF RA
 TS
LOCATION:Martinez Court 2
END:VEVENT
BEGIN:VEVENT
DTSTAMP:20260419T000000Z
UID:b551475e-6f2a-427f-87db-81ca338acd53@ClaytonBocce
DTSTART;TZID=America/Los_Angeles:20260604T183000
DTEND;TZID=America/Los_Angeles:20260604T210000
STATUS:CONFIRMED
SUMMARY:WATCH ME BOCCE vs N.u.T.S.
URL:/League/Schedule/3073
DESCRIPTION:Regular Season match: WATCH ME BOCCE vs N.u.T.S.
LOCATION:Martinez Court 6
END:VEVENT
BEGIN:VEVENT
DTSTAMP:20260419T000000Z
UID:9db5a875-3a2e-4e27-9115-29cc126e7701@ClaytonBocce
DTSTART;TZID=America/Los_Angeles:20260611T183000
DTEND;TZID=America/Los_Angeles:20260611T210000
STATUS:CONFIRMED
SUMMARY:WATCH ME BOCCE vs SALUTI
URL:/League/Schedule/3073
DESCRIPTION:Regular Season match: WATCH ME BOCCE vs SALUTI
LOCATION:Martinez Court 13
END:VEVENT
BEGIN:VEVENT
DTSTAMP:20260419T000000Z
UID:41749aa0-2ed9-4dfb-aeef-c1ad9cd205f4@ClaytonBocce
DTSTART;TZID=America/Los_Angeles:20260618T183000
DTEND;TZID=America/Los_Angeles:20260618T210000
STATUS:CONFIRMED
SUMMARY:WATCH ME BOCCE vs BALLS DEEP
URL:/League/Schedule/3073
DESCRIPTION:Regular Season match: WATCH ME BOCCE vs BALLS DE
 EP
LOCATION:Martinez Court 8
END:VEVENT
BEGIN:VEVENT
DTSTAMP:20260419T000000Z
UID:650e743d-6317-40af-b2e4-6a78695029f5@ClaytonBocce
DTSTART;TZID=America/Los_Angeles:20260625T183000
DTEND;TZID=America/Los_Angeles:20260625T210000
STATUS:CONFIRMED
SUMMARY:WATCH ME BOCCE vs THE BALL SPLITTERS
URL:/League/Schedule/3073
DESCRIPTION:Regular Season match: WATCH ME BOCCE vs THE BALL
  SPLITTERS
LOCATION:Martinez Court 3
END:VEVENT
BEGIN:VEVENT
DTSTAMP:20260419T000000Z
UID:76c5dff4-a51d-46a7-9b7f-23aeb70f0cf5@ClaytonBocce
DTSTART;TZID=America/Los_Angeles:20260709T183000
DTEND;TZID=America/Los_Angeles:20260709T210000
STATUS:CONFIRMED
SUMMARY:WATCH ME BOCCE vs ROLL PLAYERS
URL:/League/Schedule/3073
DESCRIPTION:Regular Season match: WATCH ME BOCCE vs ROLL PLA
 YERS
LOCATION:Martinez Court 5
END:VEVENT
BEGIN:VEVENT
DTSTAMP:20260419T000000Z
UID:554edd0c-94d3-4b1e-a47e-14fd6dbefa42@ClaytonBocce
DTSTART;TZID=America/Los_Angeles:20260723T183000
DTEND;TZID=America/Los_Angeles:20260723T210000
STATUS:CONFIRMED
SUMMARY:WATCH ME BOCCE vs WHARF RATS
URL:/League/Schedule/3073
DESCRIPTION:Regular Season match: WATCH ME BOCCE vs WHARF RA
 TS
LOCATION:Martinez Court 9
END:VEVENT
BEGIN:VEVENT
DTSTAMP:20260419T000000Z
UID:ddf5fe29-1478-4416-a36c-5377a160952c@ClaytonBocce
DTSTART;TZID=America/Los_Angeles:20260730T183000
DTEND;TZID=America/Los_Angeles:20260730T210000
STATUS:CONFIRMED
SUMMARY:WATCH ME BOCCE vs N.u.T.S.
URL:/League/Schedule/3073
DESCRIPTION:Regular Season match: WATCH ME BOCCE vs N.u.T.S.
LOCATION:Martinez Court 12
END:VEVENT
BEGIN:VEVENT
DTSTAMP:20260419T000000Z
UID:11989587-7a18-463a-a797-d3d1a0b89448@ClaytonBocce
DTSTART;TZID=America/Los_Angeles:20260806T183000
DTEND;TZID=America/Los_Angeles:20260806T210000
STATUS:CONFIRMED
SUMMARY:WATCH ME BOCCE vs SALUTI
URL:/League/Schedule/3073
DESCRIPTION:Regular Season match: WATCH ME BOCCE vs SALUTI
LOCATION:Martinez Court 4
END:VEVENT
BEGIN:VEVENT
DTSTAMP:20260419T000000Z
UID:b932d9ee-ffab-4fca-8e5a-475476de4341@ClaytonBocce
DTSTART;TZID=America/Los_Angeles:20260813T183000
DTEND;TZID=America/Los_Angeles:20260813T210000
STATUS:CONFIRMED
SUMMARY:WATCH ME BOCCE vs BALLS DEEP
URL:/League/Schedule/3073
DESCRIPTION:Regular Season match: WATCH ME BOCCE vs BALLS DE
 EP
LOCATION:Martinez Court 11
END:VEVENT
BEGIN:VEVENT
DTSTAMP:20260419T000000Z
UID:97cc9982-7269-46d7-aa13-c47164d76534@ClaytonBocce
DTSTART;TZID=America/Los_Angeles:20260820T183000
DTEND;TZID=America/Los_Angeles:20260820T210000
STATUS:CONFIRMED
SUMMARY:WATCH ME BOCCE vs THE BALL SPLITTERS
URL:/League/Schedule/3073
DESCRIPTION:Regular Season match: WATCH ME BOCCE vs THE BALL
  SPLITTERS
LOCATION:Martinez Court 8
END:VEVENT
BEGIN:VEVENT
DTSTAMP:20260419T000000Z
UID:84a68011-ff63-4b42-9fc9-a3a31937bcf5@ClaytonBocce
DTSTART;TZID=America/Los_Angeles:20260827T183000
DTEND;TZID=America/Los_Angeles:20260827T210000
STATUS:CONFIRMED
SUMMARY:WATCH ME BOCCE vs ROLL PLAYERS
URL:/League/Schedule/3073
DESCRIPTION:Regular Season match: WATCH ME BOCCE vs ROLL PLA
 YERS
LOCATION:Martinez Court 1
END:VEVENT
BEGIN:VEVENT
DTSTAMP:20260419T000000Z
UID:3e56af4c-64b8-4ce7-84ac-ae42fc5fd0dd@ClaytonBocce
DTSTART;TZID=America/Los_Angeles:20260910T183000
DTEND;TZID=America/Los_Angeles:20260910T210000
STATUS:CONFIRMED
SUMMARY:WATCH ME BOCCE vs WHARF RATS
URL:/League/Schedule/3073
DESCRIPTION:Regular Season match: WATCH ME BOCCE vs WHARF RA
 TS
LOCATION:Martinez Court 14
END:VEVENT
BEGIN:VEVENT
DTSTAMP:20260419T000000Z
UID:c7918f7a-d554-4030-b71b-c3e02e08b4a3@ClaytonBocce
DTSTART;TZID=America/Los_Angeles:20260917T183000
DTEND;TZID=America/Los_Angeles:20260917T210000
STATUS:CONFIRMED
SUMMARY:WATCH ME BOCCE vs N.u.T.S.
URL:/League/Schedule/3073
DESCRIPTION:Regular Season match: WATCH ME BOCCE vs N.u.T.S.
LOCATION:Martinez Court 13
END:VEVENT
END:VCALENDAR
