BEGIN:VCALENDAR
VERSION:2.0
PRODID:-//Clayton Bocce League
METHOD:PUBLISH
BEGIN:VTIMEZONE
TZID:America/Los_Angeles
X-LIC-LOCATION:America/Los_Angeles
BEGIN:DAYLIGHT
TZOFFSETFROM:-0800
TZOFFSETTO:-0700
TZNAME:PDT
DTSTART:20070311T020000
RRULE:FREQ=YEARLY;BYMONTH=3;BYDAY=2SU
END:DAYLIGHT
BEGIN:STANDARD
TZOFFSETFROM:-0700
TZOFFSETTO:-0800
TZNAME:PST
DTSTART:20071104T020000
RRULE:FREQ=YEARLY;BYMONTH=11;BYDAY=1SU
END:STANDARD
END:VTIMEZONE
BEGIN:VEVENT
DTSTAMP:20260419T000000Z
UID:6e0717c3-c0f9-451c-a25d-059313be4699@ClaytonBocce
DTSTART;TZID=America/Los_Angeles:20260423T183000
DTEND;TZID=America/Los_Angeles:20260423T210000
STATUS:CONFIRMED
SUMMARY:BUI vs BOCCE BY THE BAY
URL:/League/Schedule/3066
DESCRIPTION:Regular Season match: BUI vs BOCCE BY THE BAY
LOCATION:Martinez Court 12
END:VEVENT
BEGIN:VEVENT
DTSTAMP:20260419T000000Z
UID:91c0b78d-45fe-4c9c-b78b-9cb57a494614@ClaytonBocce
DTSTART;TZID=America/Los_Angeles:20260430T183000
DTEND;TZID=America/Los_Angeles:20260430T210000
STATUS:CONFIRMED
SUMMARY:BUI vs BOCCE FRIENDS
URL:/League/Schedule/3066
DESCRIPTION:Regular Season match: BUI vs BOCCE FRIENDS
LOCATION:Martinez Court 1
END:VEVENT
BEGIN:VEVENT
DTSTAMP:20260419T000000Z
UID:a347eda0-2887-43fe-a848-f8fad8d7a0e5@ClaytonBocce
DTSTART;TZID=America/Los_Angeles:20260507T183000
DTEND;TZID=America/Los_Angeles:20260507T210000
STATUS:CONFIRMED
SUMMARY:BUI vs YOU WANNA BOCCE
URL:/League/Schedule/3066
DESCRIPTION:Regular Season match: BUI vs YOU WANNA BOCCE
LOCATION:Martinez Court 7
END:VEVENT
BEGIN:VEVENT
DTSTAMP:20260419T000000Z
UID:fe1300f5-3adc-4c68-be82-8404773b74fa@ClaytonBocce
DTSTART;TZID=America/Los_Angeles:20260514T183000
DTEND;TZID=America/Los_Angeles:20260514T210000
STATUS:CONFIRMED
SUMMARY:BUI vs REBELLIOUS REDS
URL:/League/Schedule/3066
DESCRIPTION:Regular Season match: BUI vs REBELLIOUS REDS
LOCATION:Martinez Court 9
END:VEVENT
BEGIN:VEVENT
DTSTAMP:20260419T000000Z
UID:500bf2d9-3b72-492f-afbe-0cd2d626cdd6@ClaytonBocce
DTSTART;TZID=America/Los_Angeles:20260528T183000
DTEND;TZID=America/Los_Angeles:20260528T210000
STATUS:CONFIRMED
SUMMARY:BUI vs BOB'S YOUR UNCLE
URL:/League/Schedule/3066
DESCRIPTION:Regular Season match: BUI vs BOB'S YOUR UNCLE
LOCATION:Martinez Court 14
END:VEVENT
BEGIN:VEVENT
DTSTAMP:20260419T000000Z
UID:79515b0a-25dd-40a9-8785-d033d9d6c14c@ClaytonBocce
DTSTART;TZID=America/Los_Angeles:20260604T183000
DTEND;TZID=America/Los_Angeles:20260604T210000
STATUS:CONFIRMED
SUMMARY:BUI vs D' BOCCERI BUDDIES
URL:/League/Schedule/3066
DESCRIPTION:Regular Season match: BUI vs D' BOCCERI BUDDIES
LOCATION:Martinez Court 13
END:VEVENT
BEGIN:VEVENT
DTSTAMP:20260419T000000Z
UID:69086878-4ef9-49c4-afed-3f75db495cfd@ClaytonBocce
DTSTART;TZID=America/Los_Angeles:20260611T183000
DTEND;TZID=America/Los_Angeles:20260611T210000
STATUS:CONFIRMED
SUMMARY:BUI vs BOCCE BY THE BAY
URL:/League/Schedule/3066
DESCRIPTION:Regular Season match: BUI vs BOCCE BY THE BAY
LOCATION:Martinez Court 10
END:VEVENT
BEGIN:VEVENT
DTSTAMP:20260419T000000Z
UID:811692eb-8048-472f-b071-be2d0d0ad2aa@ClaytonBocce
DTSTART;TZID=America/Los_Angeles:20260618T183000
DTEND;TZID=America/Los_Angeles:20260618T210000
STATUS:CONFIRMED
SUMMARY:BUI vs BOCCE FRIENDS
URL:/League/Schedule/3066
DESCRIPTION:Regular Season match: BUI vs BOCCE FRIENDS
LOCATION:Martinez Court 3
END:VEVENT
BEGIN:VEVENT
DTSTAMP:20260419T000000Z
UID:4da96aa6-6c30-41d0-928a-0c04b4a4376b@ClaytonBocce
DTSTART;TZID=America/Los_Angeles:20260625T183000
DTEND;TZID=America/Los_Angeles:20260625T210000
STATUS:CONFIRMED
SUMMARY:BUI vs YOU WANNA BOCCE
URL:/League/Schedule/3066
DESCRIPTION:Regular Season match: BUI vs YOU WANNA BOCCE
LOCATION:Martinez Court 8
END:VEVENT
BEGIN:VEVENT
DTSTAMP:20260419T000000Z
UID:219ba747-21f2-47f6-897c-bf26902782cf@ClaytonBocce
DTSTART;TZID=America/Los_Angeles:20260709T183000
DTEND;TZID=America/Los_Angeles:20260709T210000
STATUS:CONFIRMED
SUMMARY:BUI vs REBELLIOUS REDS
URL:/League/Schedule/3066
DESCRIPTION:Regular Season match: BUI vs REBELLIOUS REDS
LOCATION:Martinez Court 2
END:VEVENT
BEGIN:VEVENT
DTSTAMP:20260419T000000Z
UID:744ab005-5f0d-4b20-a283-0761473b7d38@ClaytonBocce
DTSTART;TZID=America/Los_Angeles:20260723T183000
DTEND;TZID=America/Los_Angeles:20260723T210000
STATUS:CONFIRMED
SUMMARY:BUI vs BOB'S YOUR UNCLE
URL:/League/Schedule/3066
DESCRIPTION:Regular Season match: BUI vs BOB'S YOUR UNCLE
LOCATION:Martinez Court 6
END:VEVENT
BEGIN:VEVENT
DTSTAMP:20260419T000000Z
UID:c6f6d8de-d534-4fb5-8e09-1e5073b595b8@ClaytonBocce
DTSTART;TZID=America/Los_Angeles:20260730T183000
DTEND;TZID=America/Los_Angeles:20260730T210000
STATUS:CONFIRMED
SUMMARY:BUI vs D' BOCCERI BUDDIES
URL:/League/Schedule/3066
DESCRIPTION:Regular Season match: BUI vs D' BOCCERI BUDDIES
LOCATION:Martinez Court 2
END:VEVENT
BEGIN:VEVENT
DTSTAMP:20260419T000000Z
UID:5ef46e0c-d5e2-4272-9e12-3424d1fe53d2@ClaytonBocce
DTSTART;TZID=America/Los_Angeles:20260806T183000
DTEND;TZID=America/Los_Angeles:20260806T210000
STATUS:CONFIRMED
SUMMARY:BUI vs BOCCE BY THE BAY
URL:/League/Schedule/3066
DESCRIPTION:Regular Season match: BUI vs BOCCE BY THE BAY
LOCATION:Martinez Court 1
END:VEVENT
BEGIN:VEVENT
DTSTAMP:20260419T000000Z
UID:3a4d801f-8ce3-4cb7-b01c-86d956e01110@ClaytonBocce
DTSTART;TZID=America/Los_Angeles:20260813T183000
DTEND;TZID=America/Los_Angeles:20260813T210000
STATUS:CONFIRMED
SUMMARY:BUI vs BOCCE FRIENDS
URL:/League/Schedule/3066
DESCRIPTION:Regular Season match: BUI vs BOCCE FRIENDS
LOCATION:Martinez Court 5
END:VEVENT
BEGIN:VEVENT
DTSTAMP:20260419T000000Z
UID:92823fe3-1757-417f-992e-4c53cc52a6e8@ClaytonBocce
DTSTART;TZID=America/Los_Angeles:20260820T183000
DTEND;TZID=America/Los_Angeles:20260820T210000
STATUS:CONFIRMED
SUMMARY:BUI vs YOU WANNA BOCCE
URL:/League/Schedule/3066
DESCRIPTION:Regular Season match: BUI vs YOU WANNA BOCCE
LOCATION:Martinez Court 7
END:VEVENT
BEGIN:VEVENT
DTSTAMP:20260419T000000Z
UID:1259ca8b-3a30-4ec8-a078-0b1a87614901@ClaytonBocce
DTSTART;TZID=America/Los_Angeles:20260827T183000
DTEND;TZID=America/Los_Angeles:20260827T210000
STATUS:CONFIRMED
SUMMARY:BUI vs REBELLIOUS REDS
URL:/League/Schedule/3066
DESCRIPTION:Regular Season match: BUI vs REBELLIOUS REDS
LOCATION:Martinez Court 8
END:VEVENT
BEGIN:VEVENT
DTSTAMP:20260419T000000Z
UID:9565651d-28b0-45cb-b475-b42c23baf8f4@ClaytonBocce
DTSTART;TZID=America/Los_Angeles:20260910T183000
DTEND;TZID=America/Los_Angeles:20260910T210000
STATUS:CONFIRMED
SUMMARY:BUI vs BOB'S YOUR UNCLE
URL:/League/Schedule/3066
DESCRIPTION:Regular Season match: BUI vs BOB'S YOUR UNCLE
LOCATION:Martinez Court 15
END:VEVENT
BEGIN:VEVENT
DTSTAMP:20260419T000000Z
UID:6b545928-695a-49c8-bf33-d75b8bf04bee@ClaytonBocce
DTSTART;TZID=America/Los_Angeles:20260917T183000
DTEND;TZID=America/Los_Angeles:20260917T210000
STATUS:CONFIRMED
SUMMARY:BUI vs D' BOCCERI BUDDIES
URL:/League/Schedule/3066
DESCRIPTION:Regular Season match: BUI vs D' BOCCERI BUDDIES
LOCATION:Martinez Court 10
END:VEVENT
END:VCALENDAR
