BEGIN:VCALENDAR
VERSION:2.0
PRODID:-//Clayton Bocce League
METHOD:PUBLISH
BEGIN:VTIMEZONE
TZID:America/Los_Angeles
X-LIC-LOCATION:America/Los_Angeles
BEGIN:DAYLIGHT
TZOFFSETFROM:-0800
TZOFFSETTO:-0700
TZNAME:PDT
DTSTART:20070311T020000
RRULE:FREQ=YEARLY;BYMONTH=3;BYDAY=2SU
END:DAYLIGHT
BEGIN:STANDARD
TZOFFSETFROM:-0700
TZOFFSETTO:-0800
TZNAME:PST
DTSTART:20071104T020000
RRULE:FREQ=YEARLY;BYMONTH=11;BYDAY=1SU
END:STANDARD
END:VTIMEZONE
BEGIN:VEVENT
DTSTAMP:20260419T000000Z
UID:6e0717c3-c0f9-451c-a25d-059313be4699@ClaytonBocce
DTSTART;TZID=America/Los_Angeles:20260423T183000
DTEND;TZID=America/Los_Angeles:20260423T210000
STATUS:CONFIRMED
SUMMARY:BOCCE BY THE BAY vs BUI
URL:/League/Schedule/3067
DESCRIPTION:Regular Season match: BOCCE BY THE BAY vs BUI
LOCATION:Martinez Court 12
END:VEVENT
BEGIN:VEVENT
DTSTAMP:20260419T000000Z
UID:7819f050-841f-4de9-a2f6-57aa2119f562@ClaytonBocce
DTSTART;TZID=America/Los_Angeles:20260430T183000
DTEND;TZID=America/Los_Angeles:20260430T210000
STATUS:CONFIRMED
SUMMARY:BOCCE BY THE BAY vs YOU WANNA BOCCE
URL:/League/Schedule/3067
DESCRIPTION:Regular Season match: BOCCE BY THE BAY vs YOU WA
 NNA BOCCE
LOCATION:Martinez Court 2
END:VEVENT
BEGIN:VEVENT
DTSTAMP:20260419T000000Z
UID:a8c74cbd-7767-43cc-a0d9-3b74ffc6f257@ClaytonBocce
DTSTART;TZID=America/Los_Angeles:20260507T183000
DTEND;TZID=America/Los_Angeles:20260507T210000
STATUS:CONFIRMED
SUMMARY:BOCCE BY THE BAY vs REBELLIOUS REDS
URL:/League/Schedule/3067
DESCRIPTION:Regular Season match: BOCCE BY THE BAY vs REBELL
 IOUS REDS
LOCATION:Martinez Court 5
END:VEVENT
BEGIN:VEVENT
DTSTAMP:20260419T000000Z
UID:64af4e52-5da4-4afc-ae44-a985fa711904@ClaytonBocce
DTSTART;TZID=America/Los_Angeles:20260521T183000
DTEND;TZID=America/Los_Angeles:20260521T210000
STATUS:CONFIRMED
SUMMARY:BOCCE BY THE BAY vs BOB'S YOUR UNCLE
URL:/League/Schedule/3067
DESCRIPTION:Regular Season match: BOCCE BY THE BAY vs BOB'S 
 YOUR UNCLE
LOCATION:Martinez Court 13
END:VEVENT
BEGIN:VEVENT
DTSTAMP:20260419T000000Z
UID:d5b89a66-c603-4a60-9668-9d727e194f0c@ClaytonBocce
DTSTART;TZID=America/Los_Angeles:20260528T183000
DTEND;TZID=America/Los_Angeles:20260528T210000
STATUS:CONFIRMED
SUMMARY:BOCCE BY THE BAY vs D' BOCCERI BUDDIES
URL:/League/Schedule/3067
DESCRIPTION:Regular Season match: BOCCE BY THE BAY vs D' BOC
 CERI BUDDIES
LOCATION:Martinez Court 15
END:VEVENT
BEGIN:VEVENT
DTSTAMP:20260419T000000Z
UID:da710018-1695-47b5-852f-d6ee2a378660@ClaytonBocce
DTSTART;TZID=America/Los_Angeles:20260604T183000
DTEND;TZID=America/Los_Angeles:20260604T210000
STATUS:CONFIRMED
SUMMARY:BOCCE BY THE BAY vs BOCCE FRIENDS
URL:/League/Schedule/3067
DESCRIPTION:Regular Season match: BOCCE BY THE BAY vs BOCCE 
 FRIENDS
LOCATION:Martinez Court 4
END:VEVENT
BEGIN:VEVENT
DTSTAMP:20260419T000000Z
UID:69086878-4ef9-49c4-afed-3f75db495cfd@ClaytonBocce
DTSTART;TZID=America/Los_Angeles:20260611T183000
DTEND;TZID=America/Los_Angeles:20260611T210000
STATUS:CONFIRMED
SUMMARY:BOCCE BY THE BAY vs BUI
URL:/League/Schedule/3067
DESCRIPTION:Regular Season match: BOCCE BY THE BAY vs BUI
LOCATION:Martinez Court 10
END:VEVENT
BEGIN:VEVENT
DTSTAMP:20260419T000000Z
UID:e388bd16-d5cc-40ee-b994-5c90bcb45c64@ClaytonBocce
DTSTART;TZID=America/Los_Angeles:20260618T183000
DTEND;TZID=America/Los_Angeles:20260618T210000
STATUS:CONFIRMED
SUMMARY:BOCCE BY THE BAY vs YOU WANNA BOCCE
URL:/League/Schedule/3067
DESCRIPTION:Regular Season match: BOCCE BY THE BAY vs YOU WA
 NNA BOCCE
LOCATION:Martinez Court 11
END:VEVENT
BEGIN:VEVENT
DTSTAMP:20260419T000000Z
UID:4ead96b5-fb3f-433c-b335-4cf399ab694c@ClaytonBocce
DTSTART;TZID=America/Los_Angeles:20260625T183000
DTEND;TZID=America/Los_Angeles:20260625T210000
STATUS:CONFIRMED
SUMMARY:BOCCE BY THE BAY vs REBELLIOUS REDS
URL:/League/Schedule/3067
DESCRIPTION:Regular Season match: BOCCE BY THE BAY vs REBELL
 IOUS REDS
LOCATION:Martinez Court 7
END:VEVENT
BEGIN:VEVENT
DTSTAMP:20260419T000000Z
UID:aa2b88e5-371a-487e-b914-e39f37678010@ClaytonBocce
DTSTART;TZID=America/Los_Angeles:20260716T183000
DTEND;TZID=America/Los_Angeles:20260716T210000
STATUS:CONFIRMED
SUMMARY:BOCCE BY THE BAY vs BOB'S YOUR UNCLE
URL:/League/Schedule/3067
DESCRIPTION:Regular Season match: BOCCE BY THE BAY vs BOB'S 
 YOUR UNCLE
LOCATION:Martinez Court 3
END:VEVENT
BEGIN:VEVENT
DTSTAMP:20260419T000000Z
UID:044f03e8-60d4-41aa-aa5d-18898bf537ed@ClaytonBocce
DTSTART;TZID=America/Los_Angeles:20260723T183000
DTEND;TZID=America/Los_Angeles:20260723T210000
STATUS:CONFIRMED
SUMMARY:BOCCE BY THE BAY vs D' BOCCERI BUDDIES
URL:/League/Schedule/3067
DESCRIPTION:Regular Season match: BOCCE BY THE BAY vs D' BOC
 CERI BUDDIES
LOCATION:Martinez Court 8
END:VEVENT
BEGIN:VEVENT
DTSTAMP:20260419T000000Z
UID:9571471f-b548-4361-bca3-a79f324e2f7d@ClaytonBocce
DTSTART;TZID=America/Los_Angeles:20260730T183000
DTEND;TZID=America/Los_Angeles:20260730T210000
STATUS:CONFIRMED
SUMMARY:BOCCE BY THE BAY vs BOCCE FRIENDS
URL:/League/Schedule/3067
DESCRIPTION:Regular Season match: BOCCE BY THE BAY vs BOCCE 
 FRIENDS
LOCATION:Martinez Court 6
END:VEVENT
BEGIN:VEVENT
DTSTAMP:20260419T000000Z
UID:5ef46e0c-d5e2-4272-9e12-3424d1fe53d2@ClaytonBocce
DTSTART;TZID=America/Los_Angeles:20260806T183000
DTEND;TZID=America/Los_Angeles:20260806T210000
STATUS:CONFIRMED
SUMMARY:BOCCE BY THE BAY vs BUI
URL:/League/Schedule/3067
DESCRIPTION:Regular Season match: BOCCE BY THE BAY vs BUI
LOCATION:Martinez Court 1
END:VEVENT
BEGIN:VEVENT
DTSTAMP:20260419T000000Z
UID:22d9cb0a-a155-43d8-b27b-9fa944e979ed@ClaytonBocce
DTSTART;TZID=America/Los_Angeles:20260813T183000
DTEND;TZID=America/Los_Angeles:20260813T210000
STATUS:CONFIRMED
SUMMARY:BOCCE BY THE BAY vs YOU WANNA BOCCE
URL:/League/Schedule/3067
DESCRIPTION:Regular Season match: BOCCE BY THE BAY vs YOU WA
 NNA BOCCE
LOCATION:Martinez Court 10
END:VEVENT
BEGIN:VEVENT
DTSTAMP:20260419T000000Z
UID:e58de00c-5c99-476d-8a6a-5a78ee4a7708@ClaytonBocce
DTSTART;TZID=America/Los_Angeles:20260820T183000
DTEND;TZID=America/Los_Angeles:20260820T210000
STATUS:CONFIRMED
SUMMARY:BOCCE BY THE BAY vs REBELLIOUS REDS
URL:/League/Schedule/3067
DESCRIPTION:Regular Season match: BOCCE BY THE BAY vs REBELL
 IOUS REDS
LOCATION:Martinez Court 9
END:VEVENT
BEGIN:VEVENT
DTSTAMP:20260419T000000Z
UID:45ea4119-e3f6-403e-b399-88ce72208593@ClaytonBocce
DTSTART;TZID=America/Los_Angeles:20260903T183000
DTEND;TZID=America/Los_Angeles:20260903T210000
STATUS:CONFIRMED
SUMMARY:BOCCE BY THE BAY vs BOB'S YOUR UNCLE
URL:/League/Schedule/3067
DESCRIPTION:Regular Season match: BOCCE BY THE BAY vs BOB'S 
 YOUR UNCLE
LOCATION:Martinez Court 8
END:VEVENT
BEGIN:VEVENT
DTSTAMP:20260419T000000Z
UID:2bf13551-25b8-4046-a6b4-54bb0b640f7e@ClaytonBocce
DTSTART;TZID=America/Los_Angeles:20260910T183000
DTEND;TZID=America/Los_Angeles:20260910T210000
STATUS:CONFIRMED
SUMMARY:BOCCE BY THE BAY vs D' BOCCERI BUDDIES
URL:/League/Schedule/3067
DESCRIPTION:Regular Season match: BOCCE BY THE BAY vs D' BOC
 CERI BUDDIES
LOCATION:Martinez Court 4
END:VEVENT
BEGIN:VEVENT
DTSTAMP:20260419T000000Z
UID:99acfa3c-233e-4c43-b903-911b2e3cdc99@ClaytonBocce
DTSTART;TZID=America/Los_Angeles:20260917T183000
DTEND;TZID=America/Los_Angeles:20260917T210000
STATUS:CONFIRMED
SUMMARY:BOCCE BY THE BAY vs BOCCE FRIENDS
URL:/League/Schedule/3067
DESCRIPTION:Regular Season match: BOCCE BY THE BAY vs BOCCE 
 FRIENDS
LOCATION:Martinez Court 14
END:VEVENT
END:VCALENDAR
