BEGIN:VCALENDAR
VERSION:2.0
PRODID:-//Clayton Bocce League
METHOD:PUBLISH
BEGIN:VTIMEZONE
TZID:America/Los_Angeles
X-LIC-LOCATION:America/Los_Angeles
BEGIN:DAYLIGHT
TZOFFSETFROM:-0800
TZOFFSETTO:-0700
TZNAME:PDT
DTSTART:20070311T020000
RRULE:FREQ=YEARLY;BYMONTH=3;BYDAY=2SU
END:DAYLIGHT
BEGIN:STANDARD
TZOFFSETFROM:-0700
TZOFFSETTO:-0800
TZNAME:PST
DTSTART:20071104T020000
RRULE:FREQ=YEARLY;BYMONTH=11;BYDAY=1SU
END:STANDARD
END:VTIMEZONE
BEGIN:VEVENT
DTSTAMP:20260419T000000Z
UID:7819f050-841f-4de9-a2f6-57aa2119f562@ClaytonBocce
DTSTART;TZID=America/Los_Angeles:20260430T183000
DTEND;TZID=America/Los_Angeles:20260430T210000
STATUS:CONFIRMED
SUMMARY:YOU WANNA BOCCE vs BOCCE BY THE BAY
URL:/League/Schedule/3070
DESCRIPTION:Regular Season match: YOU WANNA BOCCE vs BOCCE B
 Y THE BAY
LOCATION:Martinez Court 2
END:VEVENT
BEGIN:VEVENT
DTSTAMP:20260419T000000Z
UID:a347eda0-2887-43fe-a848-f8fad8d7a0e5@ClaytonBocce
DTSTART;TZID=America/Los_Angeles:20260507T183000
DTEND;TZID=America/Los_Angeles:20260507T210000
STATUS:CONFIRMED
SUMMARY:YOU WANNA BOCCE vs BUI
URL:/League/Schedule/3070
DESCRIPTION:Regular Season match: YOU WANNA BOCCE vs BUI
LOCATION:Martinez Court 7
END:VEVENT
BEGIN:VEVENT
DTSTAMP:20260419T000000Z
UID:0a265d08-27b7-44e2-ac21-1183b6c5a43d@ClaytonBocce
DTSTART;TZID=America/Los_Angeles:20260514T183000
DTEND;TZID=America/Los_Angeles:20260514T210000
STATUS:CONFIRMED
SUMMARY:YOU WANNA BOCCE vs BOCCE FRIENDS
URL:/League/Schedule/3070
DESCRIPTION:Regular Season match: YOU WANNA BOCCE vs BOCCE F
 RIENDS
LOCATION:Martinez Court 10
END:VEVENT
BEGIN:VEVENT
DTSTAMP:20260419T000000Z
UID:edd28a3f-d9a3-482c-a850-5f3f2f3bc438@ClaytonBocce
DTSTART;TZID=America/Los_Angeles:20260521T183000
DTEND;TZID=America/Los_Angeles:20260521T210000
STATUS:CONFIRMED
SUMMARY:YOU WANNA BOCCE vs D' BOCCERI BUDDIES
URL:/League/Schedule/3070
DESCRIPTION:Regular Season match: YOU WANNA BOCCE vs D' BOCC
 ERI BUDDIES
LOCATION:Martinez Court 14
END:VEVENT
BEGIN:VEVENT
DTSTAMP:20260419T000000Z
UID:452b29fb-2b84-46a3-ac20-74e3a3e09deb@ClaytonBocce
DTSTART;TZID=America/Los_Angeles:20260528T183000
DTEND;TZID=America/Los_Angeles:20260528T210000
STATUS:CONFIRMED
SUMMARY:YOU WANNA BOCCE vs REBELLIOUS REDS
URL:/League/Schedule/3070
DESCRIPTION:Regular Season match: YOU WANNA BOCCE vs REBELLI
 OUS REDS
LOCATION:Martinez Court 13
END:VEVENT
BEGIN:VEVENT
DTSTAMP:20260419T000000Z
UID:3c5417e9-eb48-4224-932b-0946e394e667@ClaytonBocce
DTSTART;TZID=America/Los_Angeles:20260604T183000
DTEND;TZID=America/Los_Angeles:20260604T210000
STATUS:CONFIRMED
SUMMARY:YOU WANNA BOCCE vs BOB'S YOUR UNCLE
URL:/League/Schedule/3070
DESCRIPTION:Regular Season match: YOU WANNA BOCCE vs BOB'S Y
 OUR UNCLE
LOCATION:Martinez Court 5
END:VEVENT
BEGIN:VEVENT
DTSTAMP:20260419T000000Z
UID:e388bd16-d5cc-40ee-b994-5c90bcb45c64@ClaytonBocce
DTSTART;TZID=America/Los_Angeles:20260618T183000
DTEND;TZID=America/Los_Angeles:20260618T210000
STATUS:CONFIRMED
SUMMARY:YOU WANNA BOCCE vs BOCCE BY THE BAY
URL:/League/Schedule/3070
DESCRIPTION:Regular Season match: YOU WANNA BOCCE vs BOCCE B
 Y THE BAY
LOCATION:Martinez Court 11
END:VEVENT
BEGIN:VEVENT
DTSTAMP:20260419T000000Z
UID:4da96aa6-6c30-41d0-928a-0c04b4a4376b@ClaytonBocce
DTSTART;TZID=America/Los_Angeles:20260625T183000
DTEND;TZID=America/Los_Angeles:20260625T210000
STATUS:CONFIRMED
SUMMARY:YOU WANNA BOCCE vs BUI
URL:/League/Schedule/3070
DESCRIPTION:Regular Season match: YOU WANNA BOCCE vs BUI
LOCATION:Martinez Court 8
END:VEVENT
BEGIN:VEVENT
DTSTAMP:20260419T000000Z
UID:c1737226-db38-4c08-b590-183174c4d972@ClaytonBocce
DTSTART;TZID=America/Los_Angeles:20260709T183000
DTEND;TZID=America/Los_Angeles:20260709T210000
STATUS:CONFIRMED
SUMMARY:YOU WANNA BOCCE vs BOCCE FRIENDS
URL:/League/Schedule/3070
DESCRIPTION:Regular Season match: YOU WANNA BOCCE vs BOCCE F
 RIENDS
LOCATION:Martinez Court 15
END:VEVENT
BEGIN:VEVENT
DTSTAMP:20260419T000000Z
UID:905a21f0-2300-4e5d-a574-d00428072941@ClaytonBocce
DTSTART;TZID=America/Los_Angeles:20260716T183000
DTEND;TZID=America/Los_Angeles:20260716T210000
STATUS:CONFIRMED
SUMMARY:YOU WANNA BOCCE vs D' BOCCERI BUDDIES
URL:/League/Schedule/3070
DESCRIPTION:Regular Season match: YOU WANNA BOCCE vs D' BOCC
 ERI BUDDIES
LOCATION:Martinez Court 4
END:VEVENT
BEGIN:VEVENT
DTSTAMP:20260419T000000Z
UID:4d16fc81-6c10-4932-8bfc-604cb5f4795e@ClaytonBocce
DTSTART;TZID=America/Los_Angeles:20260723T183000
DTEND;TZID=America/Los_Angeles:20260723T210000
STATUS:CONFIRMED
SUMMARY:YOU WANNA BOCCE vs REBELLIOUS REDS
URL:/League/Schedule/3070
DESCRIPTION:Regular Season match: YOU WANNA BOCCE vs REBELLI
 OUS REDS
LOCATION:Martinez Court 1
END:VEVENT
BEGIN:VEVENT
DTSTAMP:20260419T000000Z
UID:871fc955-a623-42ef-8c33-269ec53095c0@ClaytonBocce
DTSTART;TZID=America/Los_Angeles:20260730T183000
DTEND;TZID=America/Los_Angeles:20260730T210000
STATUS:CONFIRMED
SUMMARY:YOU WANNA BOCCE vs BOB'S YOUR UNCLE
URL:/League/Schedule/3070
DESCRIPTION:Regular Season match: YOU WANNA BOCCE vs BOB'S Y
 OUR UNCLE
LOCATION:Martinez Court 9
END:VEVENT
BEGIN:VEVENT
DTSTAMP:20260419T000000Z
UID:22d9cb0a-a155-43d8-b27b-9fa944e979ed@ClaytonBocce
DTSTART;TZID=America/Los_Angeles:20260813T183000
DTEND;TZID=America/Los_Angeles:20260813T210000
STATUS:CONFIRMED
SUMMARY:YOU WANNA BOCCE vs BOCCE BY THE BAY
URL:/League/Schedule/3070
DESCRIPTION:Regular Season match: YOU WANNA BOCCE vs BOCCE B
 Y THE BAY
LOCATION:Martinez Court 10
END:VEVENT
BEGIN:VEVENT
DTSTAMP:20260419T000000Z
UID:92823fe3-1757-417f-992e-4c53cc52a6e8@ClaytonBocce
DTSTART;TZID=America/Los_Angeles:20260820T183000
DTEND;TZID=America/Los_Angeles:20260820T210000
STATUS:CONFIRMED
SUMMARY:YOU WANNA BOCCE vs BUI
URL:/League/Schedule/3070
DESCRIPTION:Regular Season match: YOU WANNA BOCCE vs BUI
LOCATION:Martinez Court 7
END:VEVENT
BEGIN:VEVENT
DTSTAMP:20260419T000000Z
UID:10f0a235-5953-4e14-890a-e6d626b82c47@ClaytonBocce
DTSTART;TZID=America/Los_Angeles:20260827T183000
DTEND;TZID=America/Los_Angeles:20260827T210000
STATUS:CONFIRMED
SUMMARY:YOU WANNA BOCCE vs BOCCE FRIENDS
URL:/League/Schedule/3070
DESCRIPTION:Regular Season match: YOU WANNA BOCCE vs BOCCE F
 RIENDS
LOCATION:Martinez Court 3
END:VEVENT
BEGIN:VEVENT
DTSTAMP:20260419T000000Z
UID:74f3c823-4888-4ab8-a0d0-ab077edb3a39@ClaytonBocce
DTSTART;TZID=America/Los_Angeles:20260903T183000
DTEND;TZID=America/Los_Angeles:20260903T210000
STATUS:CONFIRMED
SUMMARY:YOU WANNA BOCCE vs D' BOCCERI BUDDIES
URL:/League/Schedule/3070
DESCRIPTION:Regular Season match: YOU WANNA BOCCE vs D' BOCC
 ERI BUDDIES
LOCATION:Martinez Court 12
END:VEVENT
BEGIN:VEVENT
DTSTAMP:20260419T000000Z
UID:bcd3a36b-4554-404c-ab50-069942741e21@ClaytonBocce
DTSTART;TZID=America/Los_Angeles:20260910T183000
DTEND;TZID=America/Los_Angeles:20260910T210000
STATUS:CONFIRMED
SUMMARY:YOU WANNA BOCCE vs REBELLIOUS REDS
URL:/League/Schedule/3070
DESCRIPTION:Regular Season match: YOU WANNA BOCCE vs REBELLI
 OUS REDS
LOCATION:Martinez Court 11
END:VEVENT
BEGIN:VEVENT
DTSTAMP:20260419T000000Z
UID:dad45299-7164-4c4d-a9c0-bdd469c6a2a0@ClaytonBocce
DTSTART;TZID=America/Los_Angeles:20260917T183000
DTEND;TZID=America/Los_Angeles:20260917T210000
STATUS:CONFIRMED
SUMMARY:YOU WANNA BOCCE vs BOB'S YOUR UNCLE
URL:/League/Schedule/3070
DESCRIPTION:Regular Season match: YOU WANNA BOCCE vs BOB'S Y
 OUR UNCLE
LOCATION:Martinez Court 6
END:VEVENT
END:VCALENDAR
