BEGIN:VCALENDAR
VERSION:2.0
PRODID:-//Clayton Bocce League
METHOD:PUBLISH
BEGIN:VTIMEZONE
TZID:America/Los_Angeles
X-LIC-LOCATION:America/Los_Angeles
BEGIN:DAYLIGHT
TZOFFSETFROM:-0800
TZOFFSETTO:-0700
TZNAME:PDT
DTSTART:20070311T020000
RRULE:FREQ=YEARLY;BYMONTH=3;BYDAY=2SU
END:DAYLIGHT
BEGIN:STANDARD
TZOFFSETFROM:-0700
TZOFFSETTO:-0800
TZNAME:PST
DTSTART:20071104T020000
RRULE:FREQ=YEARLY;BYMONTH=11;BYDAY=1SU
END:STANDARD
END:VTIMEZONE
BEGIN:VEVENT
DTSTAMP:20260419T000000Z
UID:c839f1a1-21d6-4069-841c-e311ffd0acb9@ClaytonBocce
DTSTART;TZID=America/Los_Angeles:20260423T183000
DTEND;TZID=America/Los_Angeles:20260423T210000
STATUS:CONFIRMED
SUMMARY:D' BOCCERI BUDDIES vs REBELLIOUS REDS
URL:/League/Schedule/3069
DESCRIPTION:Regular Season match: D' BOCCERI BUDDIES vs REBE
 LLIOUS REDS
LOCATION:Martinez Court 10
END:VEVENT
BEGIN:VEVENT
DTSTAMP:20260419T000000Z
UID:e99f621f-f0e5-4f3b-aed7-8819e5087b2d@ClaytonBocce
DTSTART;TZID=America/Los_Angeles:20260507T183000
DTEND;TZID=America/Los_Angeles:20260507T210000
STATUS:CONFIRMED
SUMMARY:D' BOCCERI BUDDIES vs BOCCE FRIENDS
URL:/League/Schedule/3069
DESCRIPTION:Regular Season match: D' BOCCERI BUDDIES vs BOCC
 E FRIENDS
LOCATION:Martinez Court 6
END:VEVENT
BEGIN:VEVENT
DTSTAMP:20260419T000000Z
UID:67285104-4f75-40ff-a85c-4ff9402045c2@ClaytonBocce
DTSTART;TZID=America/Los_Angeles:20260514T183000
DTEND;TZID=America/Los_Angeles:20260514T210000
STATUS:CONFIRMED
SUMMARY:D' BOCCERI BUDDIES vs BOB'S YOUR UNCLE
URL:/League/Schedule/3069
DESCRIPTION:Regular Season match: D' BOCCERI BUDDIES vs BOB'
 S YOUR UNCLE
LOCATION:Martinez Court 8
END:VEVENT
BEGIN:VEVENT
DTSTAMP:20260419T000000Z
UID:edd28a3f-d9a3-482c-a850-5f3f2f3bc438@ClaytonBocce
DTSTART;TZID=America/Los_Angeles:20260521T183000
DTEND;TZID=America/Los_Angeles:20260521T210000
STATUS:CONFIRMED
SUMMARY:D' BOCCERI BUDDIES vs YOU WANNA BOCCE
URL:/League/Schedule/3069
DESCRIPTION:Regular Season match: D' BOCCERI BUDDIES vs YOU 
 WANNA BOCCE
LOCATION:Martinez Court 14
END:VEVENT
BEGIN:VEVENT
DTSTAMP:20260419T000000Z
UID:d5b89a66-c603-4a60-9668-9d727e194f0c@ClaytonBocce
DTSTART;TZID=America/Los_Angeles:20260528T183000
DTEND;TZID=America/Los_Angeles:20260528T210000
STATUS:CONFIRMED
SUMMARY:D' BOCCERI BUDDIES vs BOCCE BY THE BAY
URL:/League/Schedule/3069
DESCRIPTION:Regular Season match: D' BOCCERI BUDDIES vs BOCC
 E BY THE BAY
LOCATION:Martinez Court 15
END:VEVENT
BEGIN:VEVENT
DTSTAMP:20260419T000000Z
UID:79515b0a-25dd-40a9-8785-d033d9d6c14c@ClaytonBocce
DTSTART;TZID=America/Los_Angeles:20260604T183000
DTEND;TZID=America/Los_Angeles:20260604T210000
STATUS:CONFIRMED
SUMMARY:D' BOCCERI BUDDIES vs BUI
URL:/League/Schedule/3069
DESCRIPTION:Regular Season match: D' BOCCERI BUDDIES vs BUI
LOCATION:Martinez Court 13
END:VEVENT
BEGIN:VEVENT
DTSTAMP:20260419T000000Z
UID:5c633cb4-ba6f-4ab8-9cf3-857e5a26a7c0@ClaytonBocce
DTSTART;TZID=America/Los_Angeles:20260611T183000
DTEND;TZID=America/Los_Angeles:20260611T210000
STATUS:CONFIRMED
SUMMARY:D' BOCCERI BUDDIES vs REBELLIOUS REDS
URL:/League/Schedule/3069
DESCRIPTION:Regular Season match: D' BOCCERI BUDDIES vs REBE
 LLIOUS REDS
LOCATION:Martinez Court 11
END:VEVENT
BEGIN:VEVENT
DTSTAMP:20260419T000000Z
UID:5d5eebcd-5ae2-455b-8289-6e99ffac6acc@ClaytonBocce
DTSTART;TZID=America/Los_Angeles:20260625T183000
DTEND;TZID=America/Los_Angeles:20260625T210000
STATUS:CONFIRMED
SUMMARY:D' BOCCERI BUDDIES vs BOCCE FRIENDS
URL:/League/Schedule/3069
DESCRIPTION:Regular Season match: D' BOCCERI BUDDIES vs BOCC
 E FRIENDS
LOCATION:Martinez Court 9
END:VEVENT
BEGIN:VEVENT
DTSTAMP:20260419T000000Z
UID:b41b4ec3-ad0a-4b40-b449-3e9f3b2c3340@ClaytonBocce
DTSTART;TZID=America/Los_Angeles:20260709T183000
DTEND;TZID=America/Los_Angeles:20260709T210000
STATUS:CONFIRMED
SUMMARY:D' BOCCERI BUDDIES vs BOB'S YOUR UNCLE
URL:/League/Schedule/3069
DESCRIPTION:Regular Season match: D' BOCCERI BUDDIES vs BOB'
 S YOUR UNCLE
LOCATION:Martinez Court 1
END:VEVENT
BEGIN:VEVENT
DTSTAMP:20260419T000000Z
UID:905a21f0-2300-4e5d-a574-d00428072941@ClaytonBocce
DTSTART;TZID=America/Los_Angeles:20260716T183000
DTEND;TZID=America/Los_Angeles:20260716T210000
STATUS:CONFIRMED
SUMMARY:D' BOCCERI BUDDIES vs YOU WANNA BOCCE
URL:/League/Schedule/3069
DESCRIPTION:Regular Season match: D' BOCCERI BUDDIES vs YOU 
 WANNA BOCCE
LOCATION:Martinez Court 4
END:VEVENT
BEGIN:VEVENT
DTSTAMP:20260419T000000Z
UID:044f03e8-60d4-41aa-aa5d-18898bf537ed@ClaytonBocce
DTSTART;TZID=America/Los_Angeles:20260723T183000
DTEND;TZID=America/Los_Angeles:20260723T210000
STATUS:CONFIRMED
SUMMARY:D' BOCCERI BUDDIES vs BOCCE BY THE BAY
URL:/League/Schedule/3069
DESCRIPTION:Regular Season match: D' BOCCERI BUDDIES vs BOCC
 E BY THE BAY
LOCATION:Martinez Court 8
END:VEVENT
BEGIN:VEVENT
DTSTAMP:20260419T000000Z
UID:c6f6d8de-d534-4fb5-8e09-1e5073b595b8@ClaytonBocce
DTSTART;TZID=America/Los_Angeles:20260730T183000
DTEND;TZID=America/Los_Angeles:20260730T210000
STATUS:CONFIRMED
SUMMARY:D' BOCCERI BUDDIES vs BUI
URL:/League/Schedule/3069
DESCRIPTION:Regular Season match: D' BOCCERI BUDDIES vs BUI
LOCATION:Martinez Court 2
END:VEVENT
BEGIN:VEVENT
DTSTAMP:20260419T000000Z
UID:02872781-b8b4-49df-af7f-d3b0d184b668@ClaytonBocce
DTSTART;TZID=America/Los_Angeles:20260806T183000
DTEND;TZID=America/Los_Angeles:20260806T210000
STATUS:CONFIRMED
SUMMARY:D' BOCCERI BUDDIES vs REBELLIOUS REDS
URL:/League/Schedule/3069
DESCRIPTION:Regular Season match: D' BOCCERI BUDDIES vs REBE
 LLIOUS REDS
LOCATION:Martinez Court 3
END:VEVENT
BEGIN:VEVENT
DTSTAMP:20260419T000000Z
UID:a5544143-f275-4b0c-aaf2-aef6a5e9e9eb@ClaytonBocce
DTSTART;TZID=America/Los_Angeles:20260820T183000
DTEND;TZID=America/Los_Angeles:20260820T210000
STATUS:CONFIRMED
SUMMARY:D' BOCCERI BUDDIES vs BOCCE FRIENDS
URL:/League/Schedule/3069
DESCRIPTION:Regular Season match: D' BOCCERI BUDDIES vs BOCC
 E FRIENDS
LOCATION:Martinez Court 13
END:VEVENT
BEGIN:VEVENT
DTSTAMP:20260419T000000Z
UID:23c3b9b0-0867-4742-803e-a1e2a0d603c0@ClaytonBocce
DTSTART;TZID=America/Los_Angeles:20260827T183000
DTEND;TZID=America/Los_Angeles:20260827T210000
STATUS:CONFIRMED
SUMMARY:D' BOCCERI BUDDIES vs BOB'S YOUR UNCLE
URL:/League/Schedule/3069
DESCRIPTION:Regular Season match: D' BOCCERI BUDDIES vs BOB'
 S YOUR UNCLE
LOCATION:Martinez Court 7
END:VEVENT
BEGIN:VEVENT
DTSTAMP:20260419T000000Z
UID:74f3c823-4888-4ab8-a0d0-ab077edb3a39@ClaytonBocce
DTSTART;TZID=America/Los_Angeles:20260903T183000
DTEND;TZID=America/Los_Angeles:20260903T210000
STATUS:CONFIRMED
SUMMARY:D' BOCCERI BUDDIES vs YOU WANNA BOCCE
URL:/League/Schedule/3069
DESCRIPTION:Regular Season match: D' BOCCERI BUDDIES vs YOU 
 WANNA BOCCE
LOCATION:Martinez Court 12
END:VEVENT
BEGIN:VEVENT
DTSTAMP:20260419T000000Z
UID:2bf13551-25b8-4046-a6b4-54bb0b640f7e@ClaytonBocce
DTSTART;TZID=America/Los_Angeles:20260910T183000
DTEND;TZID=America/Los_Angeles:20260910T210000
STATUS:CONFIRMED
SUMMARY:D' BOCCERI BUDDIES vs BOCCE BY THE BAY
URL:/League/Schedule/3069
DESCRIPTION:Regular Season match: D' BOCCERI BUDDIES vs BOCC
 E BY THE BAY
LOCATION:Martinez Court 4
END:VEVENT
BEGIN:VEVENT
DTSTAMP:20260419T000000Z
UID:6b545928-695a-49c8-bf33-d75b8bf04bee@ClaytonBocce
DTSTART;TZID=America/Los_Angeles:20260917T183000
DTEND;TZID=America/Los_Angeles:20260917T210000
STATUS:CONFIRMED
SUMMARY:D' BOCCERI BUDDIES vs BUI
URL:/League/Schedule/3069
DESCRIPTION:Regular Season match: D' BOCCERI BUDDIES vs BUI
LOCATION:Martinez Court 10
END:VEVENT
END:VCALENDAR
