BEGIN:VCALENDAR
VERSION:2.0
PRODID:-//Clayton Bocce League
METHOD:PUBLISH
BEGIN:VTIMEZONE
TZID:America/Los_Angeles
X-LIC-LOCATION:America/Los_Angeles
BEGIN:DAYLIGHT
TZOFFSETFROM:-0800
TZOFFSETTO:-0700
TZNAME:PDT
DTSTART:20070311T020000
RRULE:FREQ=YEARLY;BYMONTH=3;BYDAY=2SU
END:DAYLIGHT
BEGIN:STANDARD
TZOFFSETFROM:-0700
TZOFFSETTO:-0800
TZNAME:PST
DTSTART:20071104T020000
RRULE:FREQ=YEARLY;BYMONTH=11;BYDAY=1SU
END:STANDARD
END:VTIMEZONE
BEGIN:VEVENT
DTSTAMP:20260419T000000Z
UID:c839f1a1-21d6-4069-841c-e311ffd0acb9@ClaytonBocce
DTSTART;TZID=America/Los_Angeles:20260423T183000
DTEND;TZID=America/Los_Angeles:20260423T210000
STATUS:CONFIRMED
SUMMARY:REBELLIOUS REDS vs D' BOCCERI BUDDIES
URL:/League/Schedule/3064
DESCRIPTION:Regular Season match: REBELLIOUS REDS vs D' BOCC
 ERI BUDDIES
LOCATION:Martinez Court 10
END:VEVENT
BEGIN:VEVENT
DTSTAMP:20260419T000000Z
UID:277d7e8f-e303-4ffe-9da4-e5722ff3f0bc@ClaytonBocce
DTSTART;TZID=America/Los_Angeles:20260430T183000
DTEND;TZID=America/Los_Angeles:20260430T210000
STATUS:CONFIRMED
SUMMARY:REBELLIOUS REDS vs BOB'S YOUR UNCLE
URL:/League/Schedule/3064
DESCRIPTION:Regular Season match: REBELLIOUS REDS vs BOB'S Y
 OUR UNCLE
LOCATION:Martinez Court 15
END:VEVENT
BEGIN:VEVENT
DTSTAMP:20260419T000000Z
UID:a8c74cbd-7767-43cc-a0d9-3b74ffc6f257@ClaytonBocce
DTSTART;TZID=America/Los_Angeles:20260507T183000
DTEND;TZID=America/Los_Angeles:20260507T210000
STATUS:CONFIRMED
SUMMARY:REBELLIOUS REDS vs BOCCE BY THE BAY
URL:/League/Schedule/3064
DESCRIPTION:Regular Season match: REBELLIOUS REDS vs BOCCE B
 Y THE BAY
LOCATION:Martinez Court 5
END:VEVENT
BEGIN:VEVENT
DTSTAMP:20260419T000000Z
UID:fe1300f5-3adc-4c68-be82-8404773b74fa@ClaytonBocce
DTSTART;TZID=America/Los_Angeles:20260514T183000
DTEND;TZID=America/Los_Angeles:20260514T210000
STATUS:CONFIRMED
SUMMARY:REBELLIOUS REDS vs BUI
URL:/League/Schedule/3064
DESCRIPTION:Regular Season match: REBELLIOUS REDS vs BUI
LOCATION:Martinez Court 9
END:VEVENT
BEGIN:VEVENT
DTSTAMP:20260419T000000Z
UID:199cfbf0-6d2f-4e1a-b011-49677e7ca422@ClaytonBocce
DTSTART;TZID=America/Los_Angeles:20260521T183000
DTEND;TZID=America/Los_Angeles:20260521T210000
STATUS:CONFIRMED
SUMMARY:REBELLIOUS REDS vs BOCCE FRIENDS
URL:/League/Schedule/3064
DESCRIPTION:Regular Season match: REBELLIOUS REDS vs BOCCE F
 RIENDS
LOCATION:Martinez Court 12
END:VEVENT
BEGIN:VEVENT
DTSTAMP:20260419T000000Z
UID:452b29fb-2b84-46a3-ac20-74e3a3e09deb@ClaytonBocce
DTSTART;TZID=America/Los_Angeles:20260528T183000
DTEND;TZID=America/Los_Angeles:20260528T210000
STATUS:CONFIRMED
SUMMARY:REBELLIOUS REDS vs YOU WANNA BOCCE
URL:/League/Schedule/3064
DESCRIPTION:Regular Season match: REBELLIOUS REDS vs YOU WAN
 NA BOCCE
LOCATION:Martinez Court 13
END:VEVENT
BEGIN:VEVENT
DTSTAMP:20260419T000000Z
UID:5c633cb4-ba6f-4ab8-9cf3-857e5a26a7c0@ClaytonBocce
DTSTART;TZID=America/Los_Angeles:20260611T183000
DTEND;TZID=America/Los_Angeles:20260611T210000
STATUS:CONFIRMED
SUMMARY:REBELLIOUS REDS vs D' BOCCERI BUDDIES
URL:/League/Schedule/3064
DESCRIPTION:Regular Season match: REBELLIOUS REDS vs D' BOCC
 ERI BUDDIES
LOCATION:Martinez Court 11
END:VEVENT
BEGIN:VEVENT
DTSTAMP:20260419T000000Z
UID:984dd1b8-a4fb-48e1-bbc5-3d39269acfb9@ClaytonBocce
DTSTART;TZID=America/Los_Angeles:20260618T183000
DTEND;TZID=America/Los_Angeles:20260618T210000
STATUS:CONFIRMED
SUMMARY:REBELLIOUS REDS vs BOB'S YOUR UNCLE
URL:/League/Schedule/3064
DESCRIPTION:Regular Season match: REBELLIOUS REDS vs BOB'S Y
 OUR UNCLE
LOCATION:Martinez Court 1
END:VEVENT
BEGIN:VEVENT
DTSTAMP:20260419T000000Z
UID:4ead96b5-fb3f-433c-b335-4cf399ab694c@ClaytonBocce
DTSTART;TZID=America/Los_Angeles:20260625T183000
DTEND;TZID=America/Los_Angeles:20260625T210000
STATUS:CONFIRMED
SUMMARY:REBELLIOUS REDS vs BOCCE BY THE BAY
URL:/League/Schedule/3064
DESCRIPTION:Regular Season match: REBELLIOUS REDS vs BOCCE B
 Y THE BAY
LOCATION:Martinez Court 7
END:VEVENT
BEGIN:VEVENT
DTSTAMP:20260419T000000Z
UID:219ba747-21f2-47f6-897c-bf26902782cf@ClaytonBocce
DTSTART;TZID=America/Los_Angeles:20260709T183000
DTEND;TZID=America/Los_Angeles:20260709T210000
STATUS:CONFIRMED
SUMMARY:REBELLIOUS REDS vs BUI
URL:/League/Schedule/3064
DESCRIPTION:Regular Season match: REBELLIOUS REDS vs BUI
LOCATION:Martinez Court 2
END:VEVENT
BEGIN:VEVENT
DTSTAMP:20260419T000000Z
UID:a9154811-4c60-41c8-8a2c-4ebc3615811d@ClaytonBocce
DTSTART;TZID=America/Los_Angeles:20260716T183000
DTEND;TZID=America/Los_Angeles:20260716T210000
STATUS:CONFIRMED
SUMMARY:REBELLIOUS REDS vs BOCCE FRIENDS
URL:/League/Schedule/3064
DESCRIPTION:Regular Season match: REBELLIOUS REDS vs BOCCE F
 RIENDS
LOCATION:Martinez Court 14
END:VEVENT
BEGIN:VEVENT
DTSTAMP:20260419T000000Z
UID:4d16fc81-6c10-4932-8bfc-604cb5f4795e@ClaytonBocce
DTSTART;TZID=America/Los_Angeles:20260723T183000
DTEND;TZID=America/Los_Angeles:20260723T210000
STATUS:CONFIRMED
SUMMARY:REBELLIOUS REDS vs YOU WANNA BOCCE
URL:/League/Schedule/3064
DESCRIPTION:Regular Season match: REBELLIOUS REDS vs YOU WAN
 NA BOCCE
LOCATION:Martinez Court 1
END:VEVENT
BEGIN:VEVENT
DTSTAMP:20260419T000000Z
UID:02872781-b8b4-49df-af7f-d3b0d184b668@ClaytonBocce
DTSTART;TZID=America/Los_Angeles:20260806T183000
DTEND;TZID=America/Los_Angeles:20260806T210000
STATUS:CONFIRMED
SUMMARY:REBELLIOUS REDS vs D' BOCCERI BUDDIES
URL:/League/Schedule/3064
DESCRIPTION:Regular Season match: REBELLIOUS REDS vs D' BOCC
 ERI BUDDIES
LOCATION:Martinez Court 3
END:VEVENT
BEGIN:VEVENT
DTSTAMP:20260419T000000Z
UID:e976678e-0db3-4ec3-94d9-ee7d60c0f70d@ClaytonBocce
DTSTART;TZID=America/Los_Angeles:20260813T183000
DTEND;TZID=America/Los_Angeles:20260813T210000
STATUS:CONFIRMED
SUMMARY:REBELLIOUS REDS vs BOB'S YOUR UNCLE
URL:/League/Schedule/3064
DESCRIPTION:Regular Season match: REBELLIOUS REDS vs BOB'S Y
 OUR UNCLE
LOCATION:Martinez Court 4
END:VEVENT
BEGIN:VEVENT
DTSTAMP:20260419T000000Z
UID:e58de00c-5c99-476d-8a6a-5a78ee4a7708@ClaytonBocce
DTSTART;TZID=America/Los_Angeles:20260820T183000
DTEND;TZID=America/Los_Angeles:20260820T210000
STATUS:CONFIRMED
SUMMARY:REBELLIOUS REDS vs BOCCE BY THE BAY
URL:/League/Schedule/3064
DESCRIPTION:Regular Season match: REBELLIOUS REDS vs BOCCE B
 Y THE BAY
LOCATION:Martinez Court 9
END:VEVENT
BEGIN:VEVENT
DTSTAMP:20260419T000000Z
UID:1259ca8b-3a30-4ec8-a078-0b1a87614901@ClaytonBocce
DTSTART;TZID=America/Los_Angeles:20260827T183000
DTEND;TZID=America/Los_Angeles:20260827T210000
STATUS:CONFIRMED
SUMMARY:REBELLIOUS REDS vs BUI
URL:/League/Schedule/3064
DESCRIPTION:Regular Season match: REBELLIOUS REDS vs BUI
LOCATION:Martinez Court 8
END:VEVENT
BEGIN:VEVENT
DTSTAMP:20260419T000000Z
UID:8fc58df6-7fbf-4bdc-8481-3e89641e007b@ClaytonBocce
DTSTART;TZID=America/Los_Angeles:20260903T183000
DTEND;TZID=America/Los_Angeles:20260903T210000
STATUS:CONFIRMED
SUMMARY:REBELLIOUS REDS vs BOCCE FRIENDS
URL:/League/Schedule/3064
DESCRIPTION:Regular Season match: REBELLIOUS REDS vs BOCCE F
 RIENDS
LOCATION:Martinez Court 7
END:VEVENT
BEGIN:VEVENT
DTSTAMP:20260419T000000Z
UID:bcd3a36b-4554-404c-ab50-069942741e21@ClaytonBocce
DTSTART;TZID=America/Los_Angeles:20260910T183000
DTEND;TZID=America/Los_Angeles:20260910T210000
STATUS:CONFIRMED
SUMMARY:REBELLIOUS REDS vs YOU WANNA BOCCE
URL:/League/Schedule/3064
DESCRIPTION:Regular Season match: REBELLIOUS REDS vs YOU WAN
 NA BOCCE
LOCATION:Martinez Court 11
END:VEVENT
END:VCALENDAR
