BEGIN:VCALENDAR
VERSION:2.0
PRODID:-//Clayton Bocce League
METHOD:PUBLISH
BEGIN:VTIMEZONE
TZID:America/Los_Angeles
X-LIC-LOCATION:America/Los_Angeles
BEGIN:DAYLIGHT
TZOFFSETFROM:-0800
TZOFFSETTO:-0700
TZNAME:PDT
DTSTART:20070311T020000
RRULE:FREQ=YEARLY;BYMONTH=3;BYDAY=2SU
END:DAYLIGHT
BEGIN:STANDARD
TZOFFSETFROM:-0700
TZOFFSETTO:-0800
TZNAME:PST
DTSTART:20071104T020000
RRULE:FREQ=YEARLY;BYMONTH=11;BYDAY=1SU
END:STANDARD
END:VTIMEZONE
BEGIN:VEVENT
DTSTAMP:20260419T000000Z
UID:482dc3ca-a966-4f8f-8107-4b1ea0c718fc@ClaytonBocce
DTSTART;TZID=America/Los_Angeles:20260423T183000
DTEND;TZID=America/Los_Angeles:20260423T210000
STATUS:CONFIRMED
SUMMARY:BOCCE FRIENDS vs BOB'S YOUR UNCLE
URL:/League/Schedule/3065
DESCRIPTION:Regular Season match: BOCCE FRIENDS vs BOB'S YOU
 R UNCLE
LOCATION:Martinez Court 11
END:VEVENT
BEGIN:VEVENT
DTSTAMP:20260419T000000Z
UID:91c0b78d-45fe-4c9c-b78b-9cb57a494614@ClaytonBocce
DTSTART;TZID=America/Los_Angeles:20260430T183000
DTEND;TZID=America/Los_Angeles:20260430T210000
STATUS:CONFIRMED
SUMMARY:BOCCE FRIENDS vs BUI
URL:/League/Schedule/3065
DESCRIPTION:Regular Season match: BOCCE FRIENDS vs BUI
LOCATION:Martinez Court 1
END:VEVENT
BEGIN:VEVENT
DTSTAMP:20260419T000000Z
UID:e99f621f-f0e5-4f3b-aed7-8819e5087b2d@ClaytonBocce
DTSTART;TZID=America/Los_Angeles:20260507T183000
DTEND;TZID=America/Los_Angeles:20260507T210000
STATUS:CONFIRMED
SUMMARY:BOCCE FRIENDS vs D' BOCCERI BUDDIES
URL:/League/Schedule/3065
DESCRIPTION:Regular Season match: BOCCE FRIENDS vs D' BOCCER
 I BUDDIES
LOCATION:Martinez Court 6
END:VEVENT
BEGIN:VEVENT
DTSTAMP:20260419T000000Z
UID:0a265d08-27b7-44e2-ac21-1183b6c5a43d@ClaytonBocce
DTSTART;TZID=America/Los_Angeles:20260514T183000
DTEND;TZID=America/Los_Angeles:20260514T210000
STATUS:CONFIRMED
SUMMARY:BOCCE FRIENDS vs YOU WANNA BOCCE
URL:/League/Schedule/3065
DESCRIPTION:Regular Season match: BOCCE FRIENDS vs YOU WANNA
  BOCCE
LOCATION:Martinez Court 10
END:VEVENT
BEGIN:VEVENT
DTSTAMP:20260419T000000Z
UID:199cfbf0-6d2f-4e1a-b011-49677e7ca422@ClaytonBocce
DTSTART;TZID=America/Los_Angeles:20260521T183000
DTEND;TZID=America/Los_Angeles:20260521T210000
STATUS:CONFIRMED
SUMMARY:BOCCE FRIENDS vs REBELLIOUS REDS
URL:/League/Schedule/3065
DESCRIPTION:Regular Season match: BOCCE FRIENDS vs REBELLIOU
 S REDS
LOCATION:Martinez Court 12
END:VEVENT
BEGIN:VEVENT
DTSTAMP:20260419T000000Z
UID:da710018-1695-47b5-852f-d6ee2a378660@ClaytonBocce
DTSTART;TZID=America/Los_Angeles:20260604T183000
DTEND;TZID=America/Los_Angeles:20260604T210000
STATUS:CONFIRMED
SUMMARY:BOCCE FRIENDS vs BOCCE BY THE BAY
URL:/League/Schedule/3065
DESCRIPTION:Regular Season match: BOCCE FRIENDS vs BOCCE BY 
 THE BAY
LOCATION:Martinez Court 4
END:VEVENT
BEGIN:VEVENT
DTSTAMP:20260419T000000Z
UID:14d636b7-fb2a-4817-b7b0-e33d0b7a38b2@ClaytonBocce
DTSTART;TZID=America/Los_Angeles:20260611T183000
DTEND;TZID=America/Los_Angeles:20260611T210000
STATUS:CONFIRMED
SUMMARY:BOCCE FRIENDS vs BOB'S YOUR UNCLE
URL:/League/Schedule/3065
DESCRIPTION:Regular Season match: BOCCE FRIENDS vs BOB'S YOU
 R UNCLE
LOCATION:Martinez Court 12
END:VEVENT
BEGIN:VEVENT
DTSTAMP:20260419T000000Z
UID:811692eb-8048-472f-b071-be2d0d0ad2aa@ClaytonBocce
DTSTART;TZID=America/Los_Angeles:20260618T183000
DTEND;TZID=America/Los_Angeles:20260618T210000
STATUS:CONFIRMED
SUMMARY:BOCCE FRIENDS vs BUI
URL:/League/Schedule/3065
DESCRIPTION:Regular Season match: BOCCE FRIENDS vs BUI
LOCATION:Martinez Court 3
END:VEVENT
BEGIN:VEVENT
DTSTAMP:20260419T000000Z
UID:5d5eebcd-5ae2-455b-8289-6e99ffac6acc@ClaytonBocce
DTSTART;TZID=America/Los_Angeles:20260625T183000
DTEND;TZID=America/Los_Angeles:20260625T210000
STATUS:CONFIRMED
SUMMARY:BOCCE FRIENDS vs D' BOCCERI BUDDIES
URL:/League/Schedule/3065
DESCRIPTION:Regular Season match: BOCCE FRIENDS vs D' BOCCER
 I BUDDIES
LOCATION:Martinez Court 9
END:VEVENT
BEGIN:VEVENT
DTSTAMP:20260419T000000Z
UID:c1737226-db38-4c08-b590-183174c4d972@ClaytonBocce
DTSTART;TZID=America/Los_Angeles:20260709T183000
DTEND;TZID=America/Los_Angeles:20260709T210000
STATUS:CONFIRMED
SUMMARY:BOCCE FRIENDS vs YOU WANNA BOCCE
URL:/League/Schedule/3065
DESCRIPTION:Regular Season match: BOCCE FRIENDS vs YOU WANNA
  BOCCE
LOCATION:Martinez Court 15
END:VEVENT
BEGIN:VEVENT
DTSTAMP:20260419T000000Z
UID:a9154811-4c60-41c8-8a2c-4ebc3615811d@ClaytonBocce
DTSTART;TZID=America/Los_Angeles:20260716T183000
DTEND;TZID=America/Los_Angeles:20260716T210000
STATUS:CONFIRMED
SUMMARY:BOCCE FRIENDS vs REBELLIOUS REDS
URL:/League/Schedule/3065
DESCRIPTION:Regular Season match: BOCCE FRIENDS vs REBELLIOU
 S REDS
LOCATION:Martinez Court 14
END:VEVENT
BEGIN:VEVENT
DTSTAMP:20260419T000000Z
UID:9571471f-b548-4361-bca3-a79f324e2f7d@ClaytonBocce
DTSTART;TZID=America/Los_Angeles:20260730T183000
DTEND;TZID=America/Los_Angeles:20260730T210000
STATUS:CONFIRMED
SUMMARY:BOCCE FRIENDS vs BOCCE BY THE BAY
URL:/League/Schedule/3065
DESCRIPTION:Regular Season match: BOCCE FRIENDS vs BOCCE BY 
 THE BAY
LOCATION:Martinez Court 6
END:VEVENT
BEGIN:VEVENT
DTSTAMP:20260419T000000Z
UID:f23e643f-2873-4711-8325-b5049851b29a@ClaytonBocce
DTSTART;TZID=America/Los_Angeles:20260806T183000
DTEND;TZID=America/Los_Angeles:20260806T210000
STATUS:CONFIRMED
SUMMARY:BOCCE FRIENDS vs BOB'S YOUR UNCLE
URL:/League/Schedule/3065
DESCRIPTION:Regular Season match: BOCCE FRIENDS vs BOB'S YOU
 R UNCLE
LOCATION:Martinez Court 2
END:VEVENT
BEGIN:VEVENT
DTSTAMP:20260419T000000Z
UID:3a4d801f-8ce3-4cb7-b01c-86d956e01110@ClaytonBocce
DTSTART;TZID=America/Los_Angeles:20260813T183000
DTEND;TZID=America/Los_Angeles:20260813T210000
STATUS:CONFIRMED
SUMMARY:BOCCE FRIENDS vs BUI
URL:/League/Schedule/3065
DESCRIPTION:Regular Season match: BOCCE FRIENDS vs BUI
LOCATION:Martinez Court 5
END:VEVENT
BEGIN:VEVENT
DTSTAMP:20260419T000000Z
UID:a5544143-f275-4b0c-aaf2-aef6a5e9e9eb@ClaytonBocce
DTSTART;TZID=America/Los_Angeles:20260820T183000
DTEND;TZID=America/Los_Angeles:20260820T210000
STATUS:CONFIRMED
SUMMARY:BOCCE FRIENDS vs D' BOCCERI BUDDIES
URL:/League/Schedule/3065
DESCRIPTION:Regular Season match: BOCCE FRIENDS vs D' BOCCER
 I BUDDIES
LOCATION:Martinez Court 13
END:VEVENT
BEGIN:VEVENT
DTSTAMP:20260419T000000Z
UID:10f0a235-5953-4e14-890a-e6d626b82c47@ClaytonBocce
DTSTART;TZID=America/Los_Angeles:20260827T183000
DTEND;TZID=America/Los_Angeles:20260827T210000
STATUS:CONFIRMED
SUMMARY:BOCCE FRIENDS vs YOU WANNA BOCCE
URL:/League/Schedule/3065
DESCRIPTION:Regular Season match: BOCCE FRIENDS vs YOU WANNA
  BOCCE
LOCATION:Martinez Court 3
END:VEVENT
BEGIN:VEVENT
DTSTAMP:20260419T000000Z
UID:8fc58df6-7fbf-4bdc-8481-3e89641e007b@ClaytonBocce
DTSTART;TZID=America/Los_Angeles:20260903T183000
DTEND;TZID=America/Los_Angeles:20260903T210000
STATUS:CONFIRMED
SUMMARY:BOCCE FRIENDS vs REBELLIOUS REDS
URL:/League/Schedule/3065
DESCRIPTION:Regular Season match: BOCCE FRIENDS vs REBELLIOU
 S REDS
LOCATION:Martinez Court 7
END:VEVENT
BEGIN:VEVENT
DTSTAMP:20260419T000000Z
UID:99acfa3c-233e-4c43-b903-911b2e3cdc99@ClaytonBocce
DTSTART;TZID=America/Los_Angeles:20260917T183000
DTEND;TZID=America/Los_Angeles:20260917T210000
STATUS:CONFIRMED
SUMMARY:BOCCE FRIENDS vs BOCCE BY THE BAY
URL:/League/Schedule/3065
DESCRIPTION:Regular Season match: BOCCE FRIENDS vs BOCCE BY 
 THE BAY
LOCATION:Martinez Court 14
END:VEVENT
END:VCALENDAR
