BEGIN:VCALENDAR
VERSION:2.0
PRODID:-//Clayton Bocce League
METHOD:PUBLISH
BEGIN:VTIMEZONE
TZID:America/Los_Angeles
X-LIC-LOCATION:America/Los_Angeles
BEGIN:DAYLIGHT
TZOFFSETFROM:-0800
TZOFFSETTO:-0700
TZNAME:PDT
DTSTART:20070311T020000
RRULE:FREQ=YEARLY;BYMONTH=3;BYDAY=2SU
END:DAYLIGHT
BEGIN:STANDARD
TZOFFSETFROM:-0700
TZOFFSETTO:-0800
TZNAME:PST
DTSTART:20071104T020000
RRULE:FREQ=YEARLY;BYMONTH=11;BYDAY=1SU
END:STANDARD
END:VTIMEZONE
BEGIN:VEVENT
DTSTAMP:20260419T000000Z
UID:482dc3ca-a966-4f8f-8107-4b1ea0c718fc@ClaytonBocce
DTSTART;TZID=America/Los_Angeles:20260423T183000
DTEND;TZID=America/Los_Angeles:20260423T210000
STATUS:CONFIRMED
SUMMARY:BOB'S YOUR UNCLE vs BOCCE FRIENDS
URL:/League/Schedule/3068
DESCRIPTION:Regular Season match: BOB'S YOUR UNCLE vs BOCCE 
 FRIENDS
LOCATION:Martinez Court 11
END:VEVENT
BEGIN:VEVENT
DTSTAMP:20260419T000000Z
UID:277d7e8f-e303-4ffe-9da4-e5722ff3f0bc@ClaytonBocce
DTSTART;TZID=America/Los_Angeles:20260430T183000
DTEND;TZID=America/Los_Angeles:20260430T210000
STATUS:CONFIRMED
SUMMARY:BOB'S YOUR UNCLE vs REBELLIOUS REDS
URL:/League/Schedule/3068
DESCRIPTION:Regular Season match: BOB'S YOUR UNCLE vs REBELL
 IOUS REDS
LOCATION:Martinez Court 15
END:VEVENT
BEGIN:VEVENT
DTSTAMP:20260419T000000Z
UID:67285104-4f75-40ff-a85c-4ff9402045c2@ClaytonBocce
DTSTART;TZID=America/Los_Angeles:20260514T183000
DTEND;TZID=America/Los_Angeles:20260514T210000
STATUS:CONFIRMED
SUMMARY:BOB'S YOUR UNCLE vs D' BOCCERI BUDDIES
URL:/League/Schedule/3068
DESCRIPTION:Regular Season match: BOB'S YOUR UNCLE vs D' BOC
 CERI BUDDIES
LOCATION:Martinez Court 8
END:VEVENT
BEGIN:VEVENT
DTSTAMP:20260419T000000Z
UID:64af4e52-5da4-4afc-ae44-a985fa711904@ClaytonBocce
DTSTART;TZID=America/Los_Angeles:20260521T183000
DTEND;TZID=America/Los_Angeles:20260521T210000
STATUS:CONFIRMED
SUMMARY:BOB'S YOUR UNCLE vs BOCCE BY THE BAY
URL:/League/Schedule/3068
DESCRIPTION:Regular Season match: BOB'S YOUR UNCLE vs BOCCE 
 BY THE BAY
LOCATION:Martinez Court 13
END:VEVENT
BEGIN:VEVENT
DTSTAMP:20260419T000000Z
UID:500bf2d9-3b72-492f-afbe-0cd2d626cdd6@ClaytonBocce
DTSTART;TZID=America/Los_Angeles:20260528T183000
DTEND;TZID=America/Los_Angeles:20260528T210000
STATUS:CONFIRMED
SUMMARY:BOB'S YOUR UNCLE vs BUI
URL:/League/Schedule/3068
DESCRIPTION:Regular Season match: BOB'S YOUR UNCLE vs BUI
LOCATION:Martinez Court 14
END:VEVENT
BEGIN:VEVENT
DTSTAMP:20260419T000000Z
UID:3c5417e9-eb48-4224-932b-0946e394e667@ClaytonBocce
DTSTART;TZID=America/Los_Angeles:20260604T183000
DTEND;TZID=America/Los_Angeles:20260604T210000
STATUS:CONFIRMED
SUMMARY:BOB'S YOUR UNCLE vs YOU WANNA BOCCE
URL:/League/Schedule/3068
DESCRIPTION:Regular Season match: BOB'S YOUR UNCLE vs YOU WA
 NNA BOCCE
LOCATION:Martinez Court 5
END:VEVENT
BEGIN:VEVENT
DTSTAMP:20260419T000000Z
UID:14d636b7-fb2a-4817-b7b0-e33d0b7a38b2@ClaytonBocce
DTSTART;TZID=America/Los_Angeles:20260611T183000
DTEND;TZID=America/Los_Angeles:20260611T210000
STATUS:CONFIRMED
SUMMARY:BOB'S YOUR UNCLE vs BOCCE FRIENDS
URL:/League/Schedule/3068
DESCRIPTION:Regular Season match: BOB'S YOUR UNCLE vs BOCCE 
 FRIENDS
LOCATION:Martinez Court 12
END:VEVENT
BEGIN:VEVENT
DTSTAMP:20260419T000000Z
UID:984dd1b8-a4fb-48e1-bbc5-3d39269acfb9@ClaytonBocce
DTSTART;TZID=America/Los_Angeles:20260618T183000
DTEND;TZID=America/Los_Angeles:20260618T210000
STATUS:CONFIRMED
SUMMARY:BOB'S YOUR UNCLE vs REBELLIOUS REDS
URL:/League/Schedule/3068
DESCRIPTION:Regular Season match: BOB'S YOUR UNCLE vs REBELL
 IOUS REDS
LOCATION:Martinez Court 1
END:VEVENT
BEGIN:VEVENT
DTSTAMP:20260419T000000Z
UID:b41b4ec3-ad0a-4b40-b449-3e9f3b2c3340@ClaytonBocce
DTSTART;TZID=America/Los_Angeles:20260709T183000
DTEND;TZID=America/Los_Angeles:20260709T210000
STATUS:CONFIRMED
SUMMARY:BOB'S YOUR UNCLE vs D' BOCCERI BUDDIES
URL:/League/Schedule/3068
DESCRIPTION:Regular Season match: BOB'S YOUR UNCLE vs D' BOC
 CERI BUDDIES
LOCATION:Martinez Court 1
END:VEVENT
BEGIN:VEVENT
DTSTAMP:20260419T000000Z
UID:aa2b88e5-371a-487e-b914-e39f37678010@ClaytonBocce
DTSTART;TZID=America/Los_Angeles:20260716T183000
DTEND;TZID=America/Los_Angeles:20260716T210000
STATUS:CONFIRMED
SUMMARY:BOB'S YOUR UNCLE vs BOCCE BY THE BAY
URL:/League/Schedule/3068
DESCRIPTION:Regular Season match: BOB'S YOUR UNCLE vs BOCCE 
 BY THE BAY
LOCATION:Martinez Court 3
END:VEVENT
BEGIN:VEVENT
DTSTAMP:20260419T000000Z
UID:744ab005-5f0d-4b20-a283-0761473b7d38@ClaytonBocce
DTSTART;TZID=America/Los_Angeles:20260723T183000
DTEND;TZID=America/Los_Angeles:20260723T210000
STATUS:CONFIRMED
SUMMARY:BOB'S YOUR UNCLE vs BUI
URL:/League/Schedule/3068
DESCRIPTION:Regular Season match: BOB'S YOUR UNCLE vs BUI
LOCATION:Martinez Court 6
END:VEVENT
BEGIN:VEVENT
DTSTAMP:20260419T000000Z
UID:871fc955-a623-42ef-8c33-269ec53095c0@ClaytonBocce
DTSTART;TZID=America/Los_Angeles:20260730T183000
DTEND;TZID=America/Los_Angeles:20260730T210000
STATUS:CONFIRMED
SUMMARY:BOB'S YOUR UNCLE vs YOU WANNA BOCCE
URL:/League/Schedule/3068
DESCRIPTION:Regular Season match: BOB'S YOUR UNCLE vs YOU WA
 NNA BOCCE
LOCATION:Martinez Court 9
END:VEVENT
BEGIN:VEVENT
DTSTAMP:20260419T000000Z
UID:f23e643f-2873-4711-8325-b5049851b29a@ClaytonBocce
DTSTART;TZID=America/Los_Angeles:20260806T183000
DTEND;TZID=America/Los_Angeles:20260806T210000
STATUS:CONFIRMED
SUMMARY:BOB'S YOUR UNCLE vs BOCCE FRIENDS
URL:/League/Schedule/3068
DESCRIPTION:Regular Season match: BOB'S YOUR UNCLE vs BOCCE 
 FRIENDS
LOCATION:Martinez Court 2
END:VEVENT
BEGIN:VEVENT
DTSTAMP:20260419T000000Z
UID:e976678e-0db3-4ec3-94d9-ee7d60c0f70d@ClaytonBocce
DTSTART;TZID=America/Los_Angeles:20260813T183000
DTEND;TZID=America/Los_Angeles:20260813T210000
STATUS:CONFIRMED
SUMMARY:BOB'S YOUR UNCLE vs REBELLIOUS REDS
URL:/League/Schedule/3068
DESCRIPTION:Regular Season match: BOB'S YOUR UNCLE vs REBELL
 IOUS REDS
LOCATION:Martinez Court 4
END:VEVENT
BEGIN:VEVENT
DTSTAMP:20260419T000000Z
UID:23c3b9b0-0867-4742-803e-a1e2a0d603c0@ClaytonBocce
DTSTART;TZID=America/Los_Angeles:20260827T183000
DTEND;TZID=America/Los_Angeles:20260827T210000
STATUS:CONFIRMED
SUMMARY:BOB'S YOUR UNCLE vs D' BOCCERI BUDDIES
URL:/League/Schedule/3068
DESCRIPTION:Regular Season match: BOB'S YOUR UNCLE vs D' BOC
 CERI BUDDIES
LOCATION:Martinez Court 7
END:VEVENT
BEGIN:VEVENT
DTSTAMP:20260419T000000Z
UID:45ea4119-e3f6-403e-b399-88ce72208593@ClaytonBocce
DTSTART;TZID=America/Los_Angeles:20260903T183000
DTEND;TZID=America/Los_Angeles:20260903T210000
STATUS:CONFIRMED
SUMMARY:BOB'S YOUR UNCLE vs BOCCE BY THE BAY
URL:/League/Schedule/3068
DESCRIPTION:Regular Season match: BOB'S YOUR UNCLE vs BOCCE 
 BY THE BAY
LOCATION:Martinez Court 8
END:VEVENT
BEGIN:VEVENT
DTSTAMP:20260419T000000Z
UID:9565651d-28b0-45cb-b475-b42c23baf8f4@ClaytonBocce
DTSTART;TZID=America/Los_Angeles:20260910T183000
DTEND;TZID=America/Los_Angeles:20260910T210000
STATUS:CONFIRMED
SUMMARY:BOB'S YOUR UNCLE vs BUI
URL:/League/Schedule/3068
DESCRIPTION:Regular Season match: BOB'S YOUR UNCLE vs BUI
LOCATION:Martinez Court 15
END:VEVENT
BEGIN:VEVENT
DTSTAMP:20260419T000000Z
UID:dad45299-7164-4c4d-a9c0-bdd469c6a2a0@ClaytonBocce
DTSTART;TZID=America/Los_Angeles:20260917T183000
DTEND;TZID=America/Los_Angeles:20260917T210000
STATUS:CONFIRMED
SUMMARY:BOB'S YOUR UNCLE vs YOU WANNA BOCCE
URL:/League/Schedule/3068
DESCRIPTION:Regular Season match: BOB'S YOUR UNCLE vs YOU WA
 NNA BOCCE
LOCATION:Martinez Court 6
END:VEVENT
END:VCALENDAR
