BEGIN:VCALENDAR
VERSION:2.0
PRODID:-//Clayton Bocce League
METHOD:PUBLISH
BEGIN:VTIMEZONE
TZID:America/Los_Angeles
X-LIC-LOCATION:America/Los_Angeles
BEGIN:DAYLIGHT
TZOFFSETFROM:-0800
TZOFFSETTO:-0700
TZNAME:PDT
DTSTART:20070311T020000
RRULE:FREQ=YEARLY;BYMONTH=3;BYDAY=2SU
END:DAYLIGHT
BEGIN:STANDARD
TZOFFSETFROM:-0700
TZOFFSETTO:-0800
TZNAME:PST
DTSTART:20071104T020000
RRULE:FREQ=YEARLY;BYMONTH=11;BYDAY=1SU
END:STANDARD
END:VTIMEZONE
BEGIN:VEVENT
DTSTAMP:20260419T000000Z
UID:0ad6e923-801e-4dda-9c59-da9bc8c89bf1@ClaytonBocce
DTSTART;TZID=America/Los_Angeles:20260430T183000
DTEND;TZID=America/Los_Angeles:20260430T210000
STATUS:CONFIRMED
SUMMARY:GOOD TIME ROLLERS vs SONS OF A BOCCE
URL:/League/Schedule/3063
DESCRIPTION:Regular Season match: GOOD TIME ROLLERS vs SONS 
 OF A BOCCE
LOCATION:Martinez Court 14
END:VEVENT
BEGIN:VEVENT
DTSTAMP:20260419T000000Z
UID:9159401d-d816-4374-8509-e58a28a69de9@ClaytonBocce
DTSTART;TZID=America/Los_Angeles:20260507T183000
DTEND;TZID=America/Los_Angeles:20260507T210000
STATUS:CONFIRMED
SUMMARY:GOOD TIME ROLLERS vs MEASURE THIS
URL:/League/Schedule/3063
DESCRIPTION:Regular Season match: GOOD TIME ROLLERS vs MEASU
 RE THIS
LOCATION:Martinez Court 3
END:VEVENT
BEGIN:VEVENT
DTSTAMP:20260419T000000Z
UID:e662dfcf-9753-4ad2-9af3-bff0faa14e2b@ClaytonBocce
DTSTART;TZID=America/Los_Angeles:20260514T183000
DTEND;TZID=America/Los_Angeles:20260514T210000
STATUS:CONFIRMED
SUMMARY:GOOD TIME ROLLERS vs INCOGNITO
URL:/League/Schedule/3063
DESCRIPTION:Regular Season match: GOOD TIME ROLLERS vs INCOG
 NITO
LOCATION:Martinez Court 12
END:VEVENT
BEGIN:VEVENT
DTSTAMP:20260419T000000Z
UID:ae10a12a-d30b-47d3-94c9-d77de3d3de9d@ClaytonBocce
DTSTART;TZID=America/Los_Angeles:20260521T183000
DTEND;TZID=America/Los_Angeles:20260521T210000
STATUS:CONFIRMED
SUMMARY:GOOD TIME ROLLERS vs MISSION IMBOCCEBALL
URL:/League/Schedule/3063
DESCRIPTION:Regular Season match: GOOD TIME ROLLERS vs MISSI
 ON IMBOCCEBALL
LOCATION:Martinez Court 11
END:VEVENT
BEGIN:VEVENT
DTSTAMP:20260419T000000Z
UID:9f105ea1-8dc8-4819-b6af-0d5aab0f2bbe@ClaytonBocce
DTSTART;TZID=America/Los_Angeles:20260528T183000
DTEND;TZID=America/Los_Angeles:20260528T210000
STATUS:CONFIRMED
SUMMARY:GOOD TIME ROLLERS vs BOWLING THUNDER
URL:/League/Schedule/3063
DESCRIPTION:Regular Season match: GOOD TIME ROLLERS vs BOWLI
 NG THUNDER
LOCATION:Martinez Court 10
END:VEVENT
BEGIN:VEVENT
DTSTAMP:20260419T000000Z
UID:09fd0b0c-250f-4eed-a837-cb142640ad01@ClaytonBocce
DTSTART;TZID=America/Los_Angeles:20260604T183000
DTEND;TZID=America/Los_Angeles:20260604T210000
STATUS:CONFIRMED
SUMMARY:GOOD TIME ROLLERS vs UNITY BROS.
URL:/League/Schedule/3063
DESCRIPTION:Regular Season match: GOOD TIME ROLLERS vs UNITY
  BROS.
LOCATION:Martinez Court 2
END:VEVENT
BEGIN:VEVENT
DTSTAMP:20260419T000000Z
UID:9eff4143-09d6-4fba-980f-ccd14a3ee924@ClaytonBocce
DTSTART;TZID=America/Los_Angeles:20260618T183000
DTEND;TZID=America/Los_Angeles:20260618T210000
STATUS:CONFIRMED
SUMMARY:GOOD TIME ROLLERS vs SONS OF A BOCCE
URL:/League/Schedule/3063
DESCRIPTION:Regular Season match: GOOD TIME ROLLERS vs SONS 
 OF A BOCCE
LOCATION:Martinez Court 15
END:VEVENT
BEGIN:VEVENT
DTSTAMP:20260419T000000Z
UID:4f6ab8e3-afcc-4cdf-89cd-11f691861903@ClaytonBocce
DTSTART;TZID=America/Los_Angeles:20260625T183000
DTEND;TZID=America/Los_Angeles:20260625T210000
STATUS:CONFIRMED
SUMMARY:GOOD TIME ROLLERS vs MEASURE THIS
URL:/League/Schedule/3063
DESCRIPTION:Regular Season match: GOOD TIME ROLLERS vs MEASU
 RE THIS
LOCATION:Martinez Court 5
END:VEVENT
BEGIN:VEVENT
DTSTAMP:20260419T000000Z
UID:fa956954-7c8f-4c55-b24b-67e46900de43@ClaytonBocce
DTSTART;TZID=America/Los_Angeles:20260709T183000
DTEND;TZID=America/Los_Angeles:20260709T210000
STATUS:CONFIRMED
SUMMARY:GOOD TIME ROLLERS vs INCOGNITO
URL:/League/Schedule/3063
DESCRIPTION:Regular Season match: GOOD TIME ROLLERS vs INCOG
 NITO
LOCATION:Martinez Court 3
END:VEVENT
BEGIN:VEVENT
DTSTAMP:20260419T000000Z
UID:b35178b2-d3be-47e2-943e-ae67adaf69bf@ClaytonBocce
DTSTART;TZID=America/Los_Angeles:20260716T183000
DTEND;TZID=America/Los_Angeles:20260716T210000
STATUS:CONFIRMED
SUMMARY:GOOD TIME ROLLERS vs MISSION IMBOCCEBALL
URL:/League/Schedule/3063
DESCRIPTION:Regular Season match: GOOD TIME ROLLERS vs MISSI
 ON IMBOCCEBALL
LOCATION:Martinez Court 15
END:VEVENT
BEGIN:VEVENT
DTSTAMP:20260419T000000Z
UID:420718de-4092-4aac-80e3-5e1a5bac0db4@ClaytonBocce
DTSTART;TZID=America/Los_Angeles:20260723T183000
DTEND;TZID=America/Los_Angeles:20260723T210000
STATUS:CONFIRMED
SUMMARY:GOOD TIME ROLLERS vs BOWLING THUNDER
URL:/League/Schedule/3063
DESCRIPTION:Regular Season match: GOOD TIME ROLLERS vs BOWLI
 NG THUNDER
LOCATION:Martinez Court 13
END:VEVENT
BEGIN:VEVENT
DTSTAMP:20260419T000000Z
UID:24fd375b-99b4-40a9-9527-9064b82542ea@ClaytonBocce
DTSTART;TZID=America/Los_Angeles:20260730T183000
DTEND;TZID=America/Los_Angeles:20260730T210000
STATUS:CONFIRMED
SUMMARY:GOOD TIME ROLLERS vs UNITY BROS.
URL:/League/Schedule/3063
DESCRIPTION:Regular Season match: GOOD TIME ROLLERS vs UNITY
  BROS.
LOCATION:Martinez Court 8
END:VEVENT
BEGIN:VEVENT
DTSTAMP:20260419T000000Z
UID:e5de2491-78ce-4103-9005-59decb9e1011@ClaytonBocce
DTSTART;TZID=America/Los_Angeles:20260813T183000
DTEND;TZID=America/Los_Angeles:20260813T210000
STATUS:CONFIRMED
SUMMARY:GOOD TIME ROLLERS vs SONS OF A BOCCE
URL:/League/Schedule/3063
DESCRIPTION:Regular Season match: GOOD TIME ROLLERS vs SONS 
 OF A BOCCE
LOCATION:Martinez Court 9
END:VEVENT
BEGIN:VEVENT
DTSTAMP:20260419T000000Z
UID:e5864669-b3a6-4cb0-bc7e-e451967bab0e@ClaytonBocce
DTSTART;TZID=America/Los_Angeles:20260820T183000
DTEND;TZID=America/Los_Angeles:20260820T210000
STATUS:CONFIRMED
SUMMARY:GOOD TIME ROLLERS vs MEASURE THIS
URL:/League/Schedule/3063
DESCRIPTION:Regular Season match: GOOD TIME ROLLERS vs MEASU
 RE THIS
LOCATION:Martinez Court 12
END:VEVENT
BEGIN:VEVENT
DTSTAMP:20260419T000000Z
UID:12884d7a-ec51-443f-a997-cc1e0e688e6b@ClaytonBocce
DTSTART;TZID=America/Los_Angeles:20260827T183000
DTEND;TZID=America/Los_Angeles:20260827T210000
STATUS:CONFIRMED
SUMMARY:GOOD TIME ROLLERS vs INCOGNITO
URL:/League/Schedule/3063
DESCRIPTION:Regular Season match: GOOD TIME ROLLERS vs INCOG
 NITO
LOCATION:Martinez Court 11
END:VEVENT
BEGIN:VEVENT
DTSTAMP:20260419T000000Z
UID:09715f2a-01a6-4bcd-a2a8-68975e2308d5@ClaytonBocce
DTSTART;TZID=America/Los_Angeles:20260903T183000
DTEND;TZID=America/Los_Angeles:20260903T210000
STATUS:CONFIRMED
SUMMARY:GOOD TIME ROLLERS vs MISSION IMBOCCEBALL
URL:/League/Schedule/3063
DESCRIPTION:Regular Season match: GOOD TIME ROLLERS vs MISSI
 ON IMBOCCEBALL
LOCATION:Martinez Court 5
END:VEVENT
BEGIN:VEVENT
DTSTAMP:20260419T000000Z
UID:3e331c7b-bc82-441d-9074-84290ab0f02c@ClaytonBocce
DTSTART;TZID=America/Los_Angeles:20260910T183000
DTEND;TZID=America/Los_Angeles:20260910T210000
STATUS:CONFIRMED
SUMMARY:GOOD TIME ROLLERS vs BOWLING THUNDER
URL:/League/Schedule/3063
DESCRIPTION:Regular Season match: GOOD TIME ROLLERS vs BOWLI
 NG THUNDER
LOCATION:Martinez Court 1
END:VEVENT
BEGIN:VEVENT
DTSTAMP:20260419T000000Z
UID:454daa32-07aa-4216-adfe-ddcb9c2360eb@ClaytonBocce
DTSTART;TZID=America/Los_Angeles:20260917T183000
DTEND;TZID=America/Los_Angeles:20260917T210000
STATUS:CONFIRMED
SUMMARY:GOOD TIME ROLLERS vs UNITY BROS.
URL:/League/Schedule/3063
DESCRIPTION:Regular Season match: GOOD TIME ROLLERS vs UNITY
  BROS.
LOCATION:Martinez Court 7
END:VEVENT
END:VCALENDAR
