BEGIN:VCALENDAR
VERSION:2.0
PRODID:-//Clayton Bocce League
METHOD:PUBLISH
BEGIN:VTIMEZONE
TZID:America/Los_Angeles
X-LIC-LOCATION:America/Los_Angeles
BEGIN:DAYLIGHT
TZOFFSETFROM:-0800
TZOFFSETTO:-0700
TZNAME:PDT
DTSTART:20070311T020000
RRULE:FREQ=YEARLY;BYMONTH=3;BYDAY=2SU
END:DAYLIGHT
BEGIN:STANDARD
TZOFFSETFROM:-0700
TZOFFSETTO:-0800
TZNAME:PST
DTSTART:20071104T020000
RRULE:FREQ=YEARLY;BYMONTH=11;BYDAY=1SU
END:STANDARD
END:VTIMEZONE
BEGIN:VEVENT
DTSTAMP:20260419T000000Z
UID:3e9106ea-b68e-4171-a884-931fc4159b8e@ClaytonBocce
DTSTART;TZID=America/Los_Angeles:20260423T183000
DTEND;TZID=America/Los_Angeles:20260423T210000
STATUS:CONFIRMED
SUMMARY:INCOGNITO vs UNITY BROS.
URL:/League/Schedule/3058
DESCRIPTION:Regular Season match: INCOGNITO vs UNITY BROS.
LOCATION:Martinez Court 8
END:VEVENT
BEGIN:VEVENT
DTSTAMP:20260419T000000Z
UID:f2df386e-68a6-4a65-a136-ddfa90a04d75@ClaytonBocce
DTSTART;TZID=America/Los_Angeles:20260430T183000
DTEND;TZID=America/Los_Angeles:20260430T210000
STATUS:CONFIRMED
SUMMARY:INCOGNITO vs MEASURE THIS
URL:/League/Schedule/3058
DESCRIPTION:Regular Season match: INCOGNITO vs MEASURE THIS
LOCATION:Martinez Court 13
END:VEVENT
BEGIN:VEVENT
DTSTAMP:20260419T000000Z
UID:f015bc48-8397-459e-bd55-63d61c9b0225@ClaytonBocce
DTSTART;TZID=America/Los_Angeles:20260507T183000
DTEND;TZID=America/Los_Angeles:20260507T210000
STATUS:CONFIRMED
SUMMARY:INCOGNITO vs MISSION IMBOCCEBALL
URL:/League/Schedule/3058
DESCRIPTION:Regular Season match: INCOGNITO vs MISSION IMBOC
 CEBALL
LOCATION:Martinez Court 4
END:VEVENT
BEGIN:VEVENT
DTSTAMP:20260419T000000Z
UID:e662dfcf-9753-4ad2-9af3-bff0faa14e2b@ClaytonBocce
DTSTART;TZID=America/Los_Angeles:20260514T183000
DTEND;TZID=America/Los_Angeles:20260514T210000
STATUS:CONFIRMED
SUMMARY:INCOGNITO vs GOOD TIME ROLLERS
URL:/League/Schedule/3058
DESCRIPTION:Regular Season match: INCOGNITO vs GOOD TIME ROL
 LERS
LOCATION:Martinez Court 12
END:VEVENT
BEGIN:VEVENT
DTSTAMP:20260419T000000Z
UID:81da311b-555f-4575-9537-54f5f5e02a25@ClaytonBocce
DTSTART;TZID=America/Los_Angeles:20260521T183000
DTEND;TZID=America/Los_Angeles:20260521T210000
STATUS:CONFIRMED
SUMMARY:INCOGNITO vs BOWLING THUNDER
URL:/League/Schedule/3058
DESCRIPTION:Regular Season match: INCOGNITO vs BOWLING THUND
 ER
LOCATION:Martinez Court 9
END:VEVENT
BEGIN:VEVENT
DTSTAMP:20260419T000000Z
UID:82bc9454-83a8-46fe-b8b8-45d3f0d37776@ClaytonBocce
DTSTART;TZID=America/Los_Angeles:20260604T183000
DTEND;TZID=America/Los_Angeles:20260604T210000
STATUS:CONFIRMED
SUMMARY:INCOGNITO vs SONS OF A BOCCE
URL:/League/Schedule/3058
DESCRIPTION:Regular Season match: INCOGNITO vs SONS OF A BOC
 CE
LOCATION:Martinez Court 1
END:VEVENT
BEGIN:VEVENT
DTSTAMP:20260419T000000Z
UID:b723c6b0-685f-44ea-8f9d-17bb6799ba96@ClaytonBocce
DTSTART;TZID=America/Los_Angeles:20260611T183000
DTEND;TZID=America/Los_Angeles:20260611T210000
STATUS:CONFIRMED
SUMMARY:INCOGNITO vs UNITY BROS.
URL:/League/Schedule/3058
DESCRIPTION:Regular Season match: INCOGNITO vs UNITY BROS.
LOCATION:Martinez Court 7
END:VEVENT
BEGIN:VEVENT
DTSTAMP:20260419T000000Z
UID:bafa6b71-8da5-43b0-941d-b578cec6af6e@ClaytonBocce
DTSTART;TZID=America/Los_Angeles:20260618T183000
DTEND;TZID=America/Los_Angeles:20260618T210000
STATUS:CONFIRMED
SUMMARY:INCOGNITO vs MEASURE THIS
URL:/League/Schedule/3058
DESCRIPTION:Regular Season match: INCOGNITO vs MEASURE THIS
LOCATION:Martinez Court 2
END:VEVENT
BEGIN:VEVENT
DTSTAMP:20260419T000000Z
UID:ba84d1c3-fcad-4375-be23-430e2e781296@ClaytonBocce
DTSTART;TZID=America/Los_Angeles:20260625T183000
DTEND;TZID=America/Los_Angeles:20260625T210000
STATUS:CONFIRMED
SUMMARY:INCOGNITO vs MISSION IMBOCCEBALL
URL:/League/Schedule/3058
DESCRIPTION:Regular Season match: INCOGNITO vs MISSION IMBOC
 CEBALL
LOCATION:Martinez Court 6
END:VEVENT
BEGIN:VEVENT
DTSTAMP:20260419T000000Z
UID:fa956954-7c8f-4c55-b24b-67e46900de43@ClaytonBocce
DTSTART;TZID=America/Los_Angeles:20260709T183000
DTEND;TZID=America/Los_Angeles:20260709T210000
STATUS:CONFIRMED
SUMMARY:INCOGNITO vs GOOD TIME ROLLERS
URL:/League/Schedule/3058
DESCRIPTION:Regular Season match: INCOGNITO vs GOOD TIME ROL
 LERS
LOCATION:Martinez Court 3
END:VEVENT
BEGIN:VEVENT
DTSTAMP:20260419T000000Z
UID:62667cda-0ab5-4e95-8855-92842e2b9516@ClaytonBocce
DTSTART;TZID=America/Los_Angeles:20260716T183000
DTEND;TZID=America/Los_Angeles:20260716T210000
STATUS:CONFIRMED
SUMMARY:INCOGNITO vs BOWLING THUNDER
URL:/League/Schedule/3058
DESCRIPTION:Regular Season match: INCOGNITO vs BOWLING THUND
 ER
LOCATION:Martinez Court 11
END:VEVENT
BEGIN:VEVENT
DTSTAMP:20260419T000000Z
UID:b9454c4c-6b28-4f4d-9e22-57b033b87497@ClaytonBocce
DTSTART;TZID=America/Los_Angeles:20260730T183000
DTEND;TZID=America/Los_Angeles:20260730T210000
STATUS:CONFIRMED
SUMMARY:INCOGNITO vs SONS OF A BOCCE
URL:/League/Schedule/3058
DESCRIPTION:Regular Season match: INCOGNITO vs SONS OF A BOC
 CE
LOCATION:Martinez Court 14
END:VEVENT
BEGIN:VEVENT
DTSTAMP:20260419T000000Z
UID:7866503f-f557-4418-b98b-3e77a35d575c@ClaytonBocce
DTSTART;TZID=America/Los_Angeles:20260806T183000
DTEND;TZID=America/Los_Angeles:20260806T210000
STATUS:CONFIRMED
SUMMARY:INCOGNITO vs UNITY BROS.
URL:/League/Schedule/3058
DESCRIPTION:Regular Season match: INCOGNITO vs UNITY BROS.
LOCATION:Martinez Court 15
END:VEVENT
BEGIN:VEVENT
DTSTAMP:20260419T000000Z
UID:08520606-a725-4cb4-b281-3846b844f30e@ClaytonBocce
DTSTART;TZID=America/Los_Angeles:20260813T183000
DTEND;TZID=America/Los_Angeles:20260813T210000
STATUS:CONFIRMED
SUMMARY:INCOGNITO vs MEASURE THIS
URL:/League/Schedule/3058
DESCRIPTION:Regular Season match: INCOGNITO vs MEASURE THIS
LOCATION:Martinez Court 7
END:VEVENT
BEGIN:VEVENT
DTSTAMP:20260419T000000Z
UID:d429d4ab-7fd7-4b4f-96b1-ee616958df12@ClaytonBocce
DTSTART;TZID=America/Los_Angeles:20260820T183000
DTEND;TZID=America/Los_Angeles:20260820T210000
STATUS:CONFIRMED
SUMMARY:INCOGNITO vs MISSION IMBOCCEBALL
URL:/League/Schedule/3058
DESCRIPTION:Regular Season match: INCOGNITO vs MISSION IMBOC
 CEBALL
LOCATION:Martinez Court 10
END:VEVENT
BEGIN:VEVENT
DTSTAMP:20260419T000000Z
UID:12884d7a-ec51-443f-a997-cc1e0e688e6b@ClaytonBocce
DTSTART;TZID=America/Los_Angeles:20260827T183000
DTEND;TZID=America/Los_Angeles:20260827T210000
STATUS:CONFIRMED
SUMMARY:INCOGNITO vs GOOD TIME ROLLERS
URL:/League/Schedule/3058
DESCRIPTION:Regular Season match: INCOGNITO vs GOOD TIME ROL
 LERS
LOCATION:Martinez Court 11
END:VEVENT
BEGIN:VEVENT
DTSTAMP:20260419T000000Z
UID:4eda75a4-b47f-4d02-b437-8fbc78b770d0@ClaytonBocce
DTSTART;TZID=America/Los_Angeles:20260903T183000
DTEND;TZID=America/Los_Angeles:20260903T210000
STATUS:CONFIRMED
SUMMARY:INCOGNITO vs BOWLING THUNDER
URL:/League/Schedule/3058
DESCRIPTION:Regular Season match: INCOGNITO vs BOWLING THUND
 ER
LOCATION:Martinez Court 6
END:VEVENT
BEGIN:VEVENT
DTSTAMP:20260419T000000Z
UID:036b20ac-802d-4fda-ab07-2cdf0eedb4c4@ClaytonBocce
DTSTART;TZID=America/Los_Angeles:20260917T183000
DTEND;TZID=America/Los_Angeles:20260917T210000
STATUS:CONFIRMED
SUMMARY:INCOGNITO vs SONS OF A BOCCE
URL:/League/Schedule/3058
DESCRIPTION:Regular Season match: INCOGNITO vs SONS OF A BOC
 CE
LOCATION:Martinez Court 5
END:VEVENT
END:VCALENDAR
