BEGIN:VCALENDAR
VERSION:2.0
PRODID:-//Clayton Bocce League
METHOD:PUBLISH
BEGIN:VTIMEZONE
TZID:America/Los_Angeles
X-LIC-LOCATION:America/Los_Angeles
BEGIN:DAYLIGHT
TZOFFSETFROM:-0800
TZOFFSETTO:-0700
TZNAME:PDT
DTSTART:20070311T020000
RRULE:FREQ=YEARLY;BYMONTH=3;BYDAY=2SU
END:DAYLIGHT
BEGIN:STANDARD
TZOFFSETFROM:-0700
TZOFFSETTO:-0800
TZNAME:PST
DTSTART:20071104T020000
RRULE:FREQ=YEARLY;BYMONTH=11;BYDAY=1SU
END:STANDARD
END:VTIMEZONE
BEGIN:VEVENT
DTSTAMP:20260419T000000Z
UID:3e9106ea-b68e-4171-a884-931fc4159b8e@ClaytonBocce
DTSTART;TZID=America/Los_Angeles:20260423T183000
DTEND;TZID=America/Los_Angeles:20260423T210000
STATUS:CONFIRMED
SUMMARY:UNITY BROS. vs INCOGNITO
URL:/League/Schedule/3061
DESCRIPTION:Regular Season match: UNITY BROS. vs INCOGNITO
LOCATION:Martinez Court 8
END:VEVENT
BEGIN:VEVENT
DTSTAMP:20260419T000000Z
UID:57b1a5b2-8f88-4cb2-8e6d-0478cb47820e@ClaytonBocce
DTSTART;TZID=America/Los_Angeles:20260430T183000
DTEND;TZID=America/Los_Angeles:20260430T210000
STATUS:CONFIRMED
SUMMARY:UNITY BROS. vs BOWLING THUNDER
URL:/League/Schedule/3061
DESCRIPTION:Regular Season match: UNITY BROS. vs BOWLING THU
 NDER
LOCATION:Martinez Court 12
END:VEVENT
BEGIN:VEVENT
DTSTAMP:20260419T000000Z
UID:70141651-bd32-4d4f-9f61-65fc77df185b@ClaytonBocce
DTSTART;TZID=America/Los_Angeles:20260514T183000
DTEND;TZID=America/Los_Angeles:20260514T210000
STATUS:CONFIRMED
SUMMARY:UNITY BROS. vs MISSION IMBOCCEBALL
URL:/League/Schedule/3061
DESCRIPTION:Regular Season match: UNITY BROS. vs MISSION IMB
 OCCEBALL
LOCATION:Martinez Court 5
END:VEVENT
BEGIN:VEVENT
DTSTAMP:20260419T000000Z
UID:6f4f5d55-d7dd-4639-b946-65122dde8054@ClaytonBocce
DTSTART;TZID=America/Los_Angeles:20260521T183000
DTEND;TZID=America/Los_Angeles:20260521T210000
STATUS:CONFIRMED
SUMMARY:UNITY BROS. vs SONS OF A BOCCE
URL:/League/Schedule/3061
DESCRIPTION:Regular Season match: UNITY BROS. vs SONS OF A B
 OCCE
LOCATION:Martinez Court 10
END:VEVENT
BEGIN:VEVENT
DTSTAMP:20260419T000000Z
UID:6c038b66-8cab-49c9-a9cd-161ba4dd5582@ClaytonBocce
DTSTART;TZID=America/Los_Angeles:20260528T183000
DTEND;TZID=America/Los_Angeles:20260528T210000
STATUS:CONFIRMED
SUMMARY:UNITY BROS. vs MEASURE THIS
URL:/League/Schedule/3061
DESCRIPTION:Regular Season match: UNITY BROS. vs MEASURE THI
 S
LOCATION:Martinez Court 11
END:VEVENT
BEGIN:VEVENT
DTSTAMP:20260419T000000Z
UID:09fd0b0c-250f-4eed-a837-cb142640ad01@ClaytonBocce
DTSTART;TZID=America/Los_Angeles:20260604T183000
DTEND;TZID=America/Los_Angeles:20260604T210000
STATUS:CONFIRMED
SUMMARY:UNITY BROS. vs GOOD TIME ROLLERS
URL:/League/Schedule/3061
DESCRIPTION:Regular Season match: UNITY BROS. vs GOOD TIME R
 OLLERS
LOCATION:Martinez Court 2
END:VEVENT
BEGIN:VEVENT
DTSTAMP:20260419T000000Z
UID:b723c6b0-685f-44ea-8f9d-17bb6799ba96@ClaytonBocce
DTSTART;TZID=America/Los_Angeles:20260611T183000
DTEND;TZID=America/Los_Angeles:20260611T210000
STATUS:CONFIRMED
SUMMARY:UNITY BROS. vs INCOGNITO
URL:/League/Schedule/3061
DESCRIPTION:Regular Season match: UNITY BROS. vs INCOGNITO
LOCATION:Martinez Court 7
END:VEVENT
BEGIN:VEVENT
DTSTAMP:20260419T000000Z
UID:66f73bd8-3117-4bc0-ba35-5ecdb2ea04d4@ClaytonBocce
DTSTART;TZID=America/Los_Angeles:20260618T183000
DTEND;TZID=America/Los_Angeles:20260618T210000
STATUS:CONFIRMED
SUMMARY:UNITY BROS. vs BOWLING THUNDER
URL:/League/Schedule/3061
DESCRIPTION:Regular Season match: UNITY BROS. vs BOWLING THU
 NDER
LOCATION:Martinez Court 5
END:VEVENT
BEGIN:VEVENT
DTSTAMP:20260419T000000Z
UID:a883052c-87aa-4610-8266-53319eae3581@ClaytonBocce
DTSTART;TZID=America/Los_Angeles:20260709T183000
DTEND;TZID=America/Los_Angeles:20260709T210000
STATUS:CONFIRMED
SUMMARY:UNITY BROS. vs MISSION IMBOCCEBALL
URL:/League/Schedule/3061
DESCRIPTION:Regular Season match: UNITY BROS. vs MISSION IMB
 OCCEBALL
LOCATION:Martinez Court 13
END:VEVENT
BEGIN:VEVENT
DTSTAMP:20260419T000000Z
UID:bf3c9b38-d1f6-43b9-9b37-ba864f54d444@ClaytonBocce
DTSTART;TZID=America/Los_Angeles:20260716T183000
DTEND;TZID=America/Los_Angeles:20260716T210000
STATUS:CONFIRMED
SUMMARY:UNITY BROS. vs SONS OF A BOCCE
URL:/League/Schedule/3061
DESCRIPTION:Regular Season match: UNITY BROS. vs SONS OF A B
 OCCE
LOCATION:Martinez Court 1
END:VEVENT
BEGIN:VEVENT
DTSTAMP:20260419T000000Z
UID:76e6ed81-cded-46d1-887c-b3b669a0923e@ClaytonBocce
DTSTART;TZID=America/Los_Angeles:20260723T183000
DTEND;TZID=America/Los_Angeles:20260723T210000
STATUS:CONFIRMED
SUMMARY:UNITY BROS. vs MEASURE THIS
URL:/League/Schedule/3061
DESCRIPTION:Regular Season match: UNITY BROS. vs MEASURE THI
 S
LOCATION:Martinez Court 2
END:VEVENT
BEGIN:VEVENT
DTSTAMP:20260419T000000Z
UID:24fd375b-99b4-40a9-9527-9064b82542ea@ClaytonBocce
DTSTART;TZID=America/Los_Angeles:20260730T183000
DTEND;TZID=America/Los_Angeles:20260730T210000
STATUS:CONFIRMED
SUMMARY:UNITY BROS. vs GOOD TIME ROLLERS
URL:/League/Schedule/3061
DESCRIPTION:Regular Season match: UNITY BROS. vs GOOD TIME R
 OLLERS
LOCATION:Martinez Court 8
END:VEVENT
BEGIN:VEVENT
DTSTAMP:20260419T000000Z
UID:7866503f-f557-4418-b98b-3e77a35d575c@ClaytonBocce
DTSTART;TZID=America/Los_Angeles:20260806T183000
DTEND;TZID=America/Los_Angeles:20260806T210000
STATUS:CONFIRMED
SUMMARY:UNITY BROS. vs INCOGNITO
URL:/League/Schedule/3061
DESCRIPTION:Regular Season match: UNITY BROS. vs INCOGNITO
LOCATION:Martinez Court 15
END:VEVENT
BEGIN:VEVENT
DTSTAMP:20260419T000000Z
UID:3995646d-c1ee-466d-b59e-298e431092d2@ClaytonBocce
DTSTART;TZID=America/Los_Angeles:20260813T183000
DTEND;TZID=America/Los_Angeles:20260813T210000
STATUS:CONFIRMED
SUMMARY:UNITY BROS. vs BOWLING THUNDER
URL:/League/Schedule/3061
DESCRIPTION:Regular Season match: UNITY BROS. vs BOWLING THU
 NDER
LOCATION:Martinez Court 12
END:VEVENT
BEGIN:VEVENT
DTSTAMP:20260419T000000Z
UID:a2dcf390-e621-4ec6-aea7-d230a4ad4408@ClaytonBocce
DTSTART;TZID=America/Los_Angeles:20260827T183000
DTEND;TZID=America/Los_Angeles:20260827T210000
STATUS:CONFIRMED
SUMMARY:UNITY BROS. vs MISSION IMBOCCEBALL
URL:/League/Schedule/3061
DESCRIPTION:Regular Season match: UNITY BROS. vs MISSION IMB
 OCCEBALL
LOCATION:Martinez Court 9
END:VEVENT
BEGIN:VEVENT
DTSTAMP:20260419T000000Z
UID:d02c4457-917a-4b7b-8a1f-6a0ba4b041cd@ClaytonBocce
DTSTART;TZID=America/Los_Angeles:20260903T183000
DTEND;TZID=America/Los_Angeles:20260903T210000
STATUS:CONFIRMED
SUMMARY:UNITY BROS. vs SONS OF A BOCCE
URL:/League/Schedule/3061
DESCRIPTION:Regular Season match: UNITY BROS. vs SONS OF A B
 OCCE
LOCATION:Martinez Court 3
END:VEVENT
BEGIN:VEVENT
DTSTAMP:20260419T000000Z
UID:f479d1b9-2b0d-4a09-84cb-e78834a94ce4@ClaytonBocce
DTSTART;TZID=America/Los_Angeles:20260910T183000
DTEND;TZID=America/Los_Angeles:20260910T210000
STATUS:CONFIRMED
SUMMARY:UNITY BROS. vs MEASURE THIS
URL:/League/Schedule/3061
DESCRIPTION:Regular Season match: UNITY BROS. vs MEASURE THI
 S
LOCATION:Martinez Court 10
END:VEVENT
BEGIN:VEVENT
DTSTAMP:20260419T000000Z
UID:454daa32-07aa-4216-adfe-ddcb9c2360eb@ClaytonBocce
DTSTART;TZID=America/Los_Angeles:20260917T183000
DTEND;TZID=America/Los_Angeles:20260917T210000
STATUS:CONFIRMED
SUMMARY:UNITY BROS. vs GOOD TIME ROLLERS
URL:/League/Schedule/3061
DESCRIPTION:Regular Season match: UNITY BROS. vs GOOD TIME R
 OLLERS
LOCATION:Martinez Court 7
END:VEVENT
END:VCALENDAR
