BEGIN:VCALENDAR
VERSION:2.0
PRODID:-//Clayton Bocce League
METHOD:PUBLISH
BEGIN:VTIMEZONE
TZID:America/Los_Angeles
X-LIC-LOCATION:America/Los_Angeles
BEGIN:DAYLIGHT
TZOFFSETFROM:-0800
TZOFFSETTO:-0700
TZNAME:PDT
DTSTART:20070311T020000
RRULE:FREQ=YEARLY;BYMONTH=3;BYDAY=2SU
END:DAYLIGHT
BEGIN:STANDARD
TZOFFSETFROM:-0700
TZOFFSETTO:-0800
TZNAME:PST
DTSTART:20071104T020000
RRULE:FREQ=YEARLY;BYMONTH=11;BYDAY=1SU
END:STANDARD
END:VTIMEZONE
BEGIN:VEVENT
DTSTAMP:20260419T000000Z
UID:1fe477f0-8e79-4748-bc3f-23b790080c96@ClaytonBocce
DTSTART;TZID=America/Los_Angeles:20260423T183000
DTEND;TZID=America/Los_Angeles:20260423T210000
STATUS:CONFIRMED
SUMMARY:BOWLING THUNDER vs MISSION IMBOCCEBALL
URL:/League/Schedule/3057
DESCRIPTION:Regular Season match: BOWLING THUNDER vs MISSION
  IMBOCCEBALL
LOCATION:Martinez Court 7
END:VEVENT
BEGIN:VEVENT
DTSTAMP:20260419T000000Z
UID:57b1a5b2-8f88-4cb2-8e6d-0478cb47820e@ClaytonBocce
DTSTART;TZID=America/Los_Angeles:20260430T183000
DTEND;TZID=America/Los_Angeles:20260430T210000
STATUS:CONFIRMED
SUMMARY:BOWLING THUNDER vs UNITY BROS.
URL:/League/Schedule/3057
DESCRIPTION:Regular Season match: BOWLING THUNDER vs UNITY B
 ROS.
LOCATION:Martinez Court 12
END:VEVENT
BEGIN:VEVENT
DTSTAMP:20260419T000000Z
UID:b0899553-086b-46e4-98c0-830619cecca3@ClaytonBocce
DTSTART;TZID=America/Los_Angeles:20260507T183000
DTEND;TZID=America/Los_Angeles:20260507T210000
STATUS:CONFIRMED
SUMMARY:BOWLING THUNDER vs SONS OF A BOCCE
URL:/League/Schedule/3057
DESCRIPTION:Regular Season match: BOWLING THUNDER vs SONS OF
  A BOCCE
LOCATION:Martinez Court 2
END:VEVENT
BEGIN:VEVENT
DTSTAMP:20260419T000000Z
UID:dd6923b3-9cef-4a31-9228-a4bc044854d8@ClaytonBocce
DTSTART;TZID=America/Los_Angeles:20260514T183000
DTEND;TZID=America/Los_Angeles:20260514T210000
STATUS:CONFIRMED
SUMMARY:BOWLING THUNDER vs MEASURE THIS
URL:/League/Schedule/3057
DESCRIPTION:Regular Season match: BOWLING THUNDER vs MEASURE
  THIS
LOCATION:Martinez Court 6
END:VEVENT
BEGIN:VEVENT
DTSTAMP:20260419T000000Z
UID:81da311b-555f-4575-9537-54f5f5e02a25@ClaytonBocce
DTSTART;TZID=America/Los_Angeles:20260521T183000
DTEND;TZID=America/Los_Angeles:20260521T210000
STATUS:CONFIRMED
SUMMARY:BOWLING THUNDER vs INCOGNITO
URL:/League/Schedule/3057
DESCRIPTION:Regular Season match: BOWLING THUNDER vs INCOGNI
 TO
LOCATION:Martinez Court 9
END:VEVENT
BEGIN:VEVENT
DTSTAMP:20260419T000000Z
UID:9f105ea1-8dc8-4819-b6af-0d5aab0f2bbe@ClaytonBocce
DTSTART;TZID=America/Los_Angeles:20260528T183000
DTEND;TZID=America/Los_Angeles:20260528T210000
STATUS:CONFIRMED
SUMMARY:BOWLING THUNDER vs GOOD TIME ROLLERS
URL:/League/Schedule/3057
DESCRIPTION:Regular Season match: BOWLING THUNDER vs GOOD TI
 ME ROLLERS
LOCATION:Martinez Court 10
END:VEVENT
BEGIN:VEVENT
DTSTAMP:20260419T000000Z
UID:bb5e3153-8347-4740-80aa-b910e8ddc4ae@ClaytonBocce
DTSTART;TZID=America/Los_Angeles:20260611T183000
DTEND;TZID=America/Los_Angeles:20260611T210000
STATUS:CONFIRMED
SUMMARY:BOWLING THUNDER vs MISSION IMBOCCEBALL
URL:/League/Schedule/3057
DESCRIPTION:Regular Season match: BOWLING THUNDER vs MISSION
  IMBOCCEBALL
LOCATION:Martinez Court 3
END:VEVENT
BEGIN:VEVENT
DTSTAMP:20260419T000000Z
UID:66f73bd8-3117-4bc0-ba35-5ecdb2ea04d4@ClaytonBocce
DTSTART;TZID=America/Los_Angeles:20260618T183000
DTEND;TZID=America/Los_Angeles:20260618T210000
STATUS:CONFIRMED
SUMMARY:BOWLING THUNDER vs UNITY BROS.
URL:/League/Schedule/3057
DESCRIPTION:Regular Season match: BOWLING THUNDER vs UNITY B
 ROS.
LOCATION:Martinez Court 5
END:VEVENT
BEGIN:VEVENT
DTSTAMP:20260419T000000Z
UID:1671b8bd-3f5b-4db1-b3c5-b0d8c0b9904e@ClaytonBocce
DTSTART;TZID=America/Los_Angeles:20260625T183000
DTEND;TZID=America/Los_Angeles:20260625T210000
STATUS:CONFIRMED
SUMMARY:BOWLING THUNDER vs SONS OF A BOCCE
URL:/League/Schedule/3057
DESCRIPTION:Regular Season match: BOWLING THUNDER vs SONS OF
  A BOCCE
LOCATION:Martinez Court 4
END:VEVENT
BEGIN:VEVENT
DTSTAMP:20260419T000000Z
UID:62528b96-8e6c-41b8-ae76-73b2a52fc1c4@ClaytonBocce
DTSTART;TZID=America/Los_Angeles:20260709T183000
DTEND;TZID=America/Los_Angeles:20260709T210000
STATUS:CONFIRMED
SUMMARY:BOWLING THUNDER vs MEASURE THIS
URL:/League/Schedule/3057
DESCRIPTION:Regular Season match: BOWLING THUNDER vs MEASURE
  THIS
LOCATION:Martinez Court 14
END:VEVENT
BEGIN:VEVENT
DTSTAMP:20260419T000000Z
UID:62667cda-0ab5-4e95-8855-92842e2b9516@ClaytonBocce
DTSTART;TZID=America/Los_Angeles:20260716T183000
DTEND;TZID=America/Los_Angeles:20260716T210000
STATUS:CONFIRMED
SUMMARY:BOWLING THUNDER vs INCOGNITO
URL:/League/Schedule/3057
DESCRIPTION:Regular Season match: BOWLING THUNDER vs INCOGNI
 TO
LOCATION:Martinez Court 11
END:VEVENT
BEGIN:VEVENT
DTSTAMP:20260419T000000Z
UID:420718de-4092-4aac-80e3-5e1a5bac0db4@ClaytonBocce
DTSTART;TZID=America/Los_Angeles:20260723T183000
DTEND;TZID=America/Los_Angeles:20260723T210000
STATUS:CONFIRMED
SUMMARY:BOWLING THUNDER vs GOOD TIME ROLLERS
URL:/League/Schedule/3057
DESCRIPTION:Regular Season match: BOWLING THUNDER vs GOOD TI
 ME ROLLERS
LOCATION:Martinez Court 13
END:VEVENT
BEGIN:VEVENT
DTSTAMP:20260419T000000Z
UID:b9a26b6a-cccb-4022-81d5-48c0ad813b26@ClaytonBocce
DTSTART;TZID=America/Los_Angeles:20260806T183000
DTEND;TZID=America/Los_Angeles:20260806T210000
STATUS:CONFIRMED
SUMMARY:BOWLING THUNDER vs MISSION IMBOCCEBALL
URL:/League/Schedule/3057
DESCRIPTION:Regular Season match: BOWLING THUNDER vs MISSION
  IMBOCCEBALL
LOCATION:Martinez Court 14
END:VEVENT
BEGIN:VEVENT
DTSTAMP:20260419T000000Z
UID:3995646d-c1ee-466d-b59e-298e431092d2@ClaytonBocce
DTSTART;TZID=America/Los_Angeles:20260813T183000
DTEND;TZID=America/Los_Angeles:20260813T210000
STATUS:CONFIRMED
SUMMARY:BOWLING THUNDER vs UNITY BROS.
URL:/League/Schedule/3057
DESCRIPTION:Regular Season match: BOWLING THUNDER vs UNITY B
 ROS.
LOCATION:Martinez Court 12
END:VEVENT
BEGIN:VEVENT
DTSTAMP:20260419T000000Z
UID:c171a028-c639-4428-a3c0-49bc555132b1@ClaytonBocce
DTSTART;TZID=America/Los_Angeles:20260820T183000
DTEND;TZID=America/Los_Angeles:20260820T210000
STATUS:CONFIRMED
SUMMARY:BOWLING THUNDER vs SONS OF A BOCCE
URL:/League/Schedule/3057
DESCRIPTION:Regular Season match: BOWLING THUNDER vs SONS OF
  A BOCCE
LOCATION:Martinez Court 15
END:VEVENT
BEGIN:VEVENT
DTSTAMP:20260419T000000Z
UID:65c9baa9-de83-4922-abfa-356e3432e350@ClaytonBocce
DTSTART;TZID=America/Los_Angeles:20260827T183000
DTEND;TZID=America/Los_Angeles:20260827T210000
STATUS:CONFIRMED
SUMMARY:BOWLING THUNDER vs MEASURE THIS
URL:/League/Schedule/3057
DESCRIPTION:Regular Season match: BOWLING THUNDER vs MEASURE
  THIS
LOCATION:Martinez Court 5
END:VEVENT
BEGIN:VEVENT
DTSTAMP:20260419T000000Z
UID:4eda75a4-b47f-4d02-b437-8fbc78b770d0@ClaytonBocce
DTSTART;TZID=America/Los_Angeles:20260903T183000
DTEND;TZID=America/Los_Angeles:20260903T210000
STATUS:CONFIRMED
SUMMARY:BOWLING THUNDER vs INCOGNITO
URL:/League/Schedule/3057
DESCRIPTION:Regular Season match: BOWLING THUNDER vs INCOGNI
 TO
LOCATION:Martinez Court 6
END:VEVENT
BEGIN:VEVENT
DTSTAMP:20260419T000000Z
UID:3e331c7b-bc82-441d-9074-84290ab0f02c@ClaytonBocce
DTSTART;TZID=America/Los_Angeles:20260910T183000
DTEND;TZID=America/Los_Angeles:20260910T210000
STATUS:CONFIRMED
SUMMARY:BOWLING THUNDER vs GOOD TIME ROLLERS
URL:/League/Schedule/3057
DESCRIPTION:Regular Season match: BOWLING THUNDER vs GOOD TI
 ME ROLLERS
LOCATION:Martinez Court 1
END:VEVENT
END:VCALENDAR
