BEGIN:VCALENDAR
VERSION:2.0
PRODID:-//Clayton Bocce League
METHOD:PUBLISH
BEGIN:VTIMEZONE
TZID:America/Los_Angeles
X-LIC-LOCATION:America/Los_Angeles
BEGIN:DAYLIGHT
TZOFFSETFROM:-0800
TZOFFSETTO:-0700
TZNAME:PDT
DTSTART:20070311T020000
RRULE:FREQ=YEARLY;BYMONTH=3;BYDAY=2SU
END:DAYLIGHT
BEGIN:STANDARD
TZOFFSETFROM:-0700
TZOFFSETTO:-0800
TZNAME:PST
DTSTART:20071104T020000
RRULE:FREQ=YEARLY;BYMONTH=11;BYDAY=1SU
END:STANDARD
END:VTIMEZONE
BEGIN:VEVENT
DTSTAMP:20260419T000000Z
UID:1fe477f0-8e79-4748-bc3f-23b790080c96@ClaytonBocce
DTSTART;TZID=America/Los_Angeles:20260423T183000
DTEND;TZID=America/Los_Angeles:20260423T210000
STATUS:CONFIRMED
SUMMARY:MISSION IMBOCCEBALL vs BOWLING THUNDER
URL:/League/Schedule/3062
DESCRIPTION:Regular Season match: MISSION IMBOCCEBALL vs BOW
 LING THUNDER
LOCATION:Martinez Court 7
END:VEVENT
BEGIN:VEVENT
DTSTAMP:20260419T000000Z
UID:f015bc48-8397-459e-bd55-63d61c9b0225@ClaytonBocce
DTSTART;TZID=America/Los_Angeles:20260507T183000
DTEND;TZID=America/Los_Angeles:20260507T210000
STATUS:CONFIRMED
SUMMARY:MISSION IMBOCCEBALL vs INCOGNITO
URL:/League/Schedule/3062
DESCRIPTION:Regular Season match: MISSION IMBOCCEBALL vs INC
 OGNITO
LOCATION:Martinez Court 4
END:VEVENT
BEGIN:VEVENT
DTSTAMP:20260419T000000Z
UID:70141651-bd32-4d4f-9f61-65fc77df185b@ClaytonBocce
DTSTART;TZID=America/Los_Angeles:20260514T183000
DTEND;TZID=America/Los_Angeles:20260514T210000
STATUS:CONFIRMED
SUMMARY:MISSION IMBOCCEBALL vs UNITY BROS.
URL:/League/Schedule/3062
DESCRIPTION:Regular Season match: MISSION IMBOCCEBALL vs UNI
 TY BROS.
LOCATION:Martinez Court 5
END:VEVENT
BEGIN:VEVENT
DTSTAMP:20260419T000000Z
UID:ae10a12a-d30b-47d3-94c9-d77de3d3de9d@ClaytonBocce
DTSTART;TZID=America/Los_Angeles:20260521T183000
DTEND;TZID=America/Los_Angeles:20260521T210000
STATUS:CONFIRMED
SUMMARY:MISSION IMBOCCEBALL vs GOOD TIME ROLLERS
URL:/League/Schedule/3062
DESCRIPTION:Regular Season match: MISSION IMBOCCEBALL vs GOO
 D TIME ROLLERS
LOCATION:Martinez Court 11
END:VEVENT
BEGIN:VEVENT
DTSTAMP:20260419T000000Z
UID:e7abe4d6-3b0b-4538-902c-41251fdfedc0@ClaytonBocce
DTSTART;TZID=America/Los_Angeles:20260528T183000
DTEND;TZID=America/Los_Angeles:20260528T210000
STATUS:CONFIRMED
SUMMARY:MISSION IMBOCCEBALL vs SONS OF A BOCCE
URL:/League/Schedule/3062
DESCRIPTION:Regular Season match: MISSION IMBOCCEBALL vs SON
 S OF A BOCCE
LOCATION:Martinez Court 12
END:VEVENT
BEGIN:VEVENT
DTSTAMP:20260419T000000Z
UID:c8f266dd-bd64-494c-9344-370f7a08120c@ClaytonBocce
DTSTART;TZID=America/Los_Angeles:20260604T183000
DTEND;TZID=America/Los_Angeles:20260604T210000
STATUS:CONFIRMED
SUMMARY:MISSION IMBOCCEBALL vs MEASURE THIS
URL:/League/Schedule/3062
DESCRIPTION:Regular Season match: MISSION IMBOCCEBALL vs MEA
 SURE THIS
LOCATION:Martinez Court 15
END:VEVENT
BEGIN:VEVENT
DTSTAMP:20260419T000000Z
UID:bb5e3153-8347-4740-80aa-b910e8ddc4ae@ClaytonBocce
DTSTART;TZID=America/Los_Angeles:20260611T183000
DTEND;TZID=America/Los_Angeles:20260611T210000
STATUS:CONFIRMED
SUMMARY:MISSION IMBOCCEBALL vs BOWLING THUNDER
URL:/League/Schedule/3062
DESCRIPTION:Regular Season match: MISSION IMBOCCEBALL vs BOW
 LING THUNDER
LOCATION:Martinez Court 3
END:VEVENT
BEGIN:VEVENT
DTSTAMP:20260419T000000Z
UID:ba84d1c3-fcad-4375-be23-430e2e781296@ClaytonBocce
DTSTART;TZID=America/Los_Angeles:20260625T183000
DTEND;TZID=America/Los_Angeles:20260625T210000
STATUS:CONFIRMED
SUMMARY:MISSION IMBOCCEBALL vs INCOGNITO
URL:/League/Schedule/3062
DESCRIPTION:Regular Season match: MISSION IMBOCCEBALL vs INC
 OGNITO
LOCATION:Martinez Court 6
END:VEVENT
BEGIN:VEVENT
DTSTAMP:20260419T000000Z
UID:a883052c-87aa-4610-8266-53319eae3581@ClaytonBocce
DTSTART;TZID=America/Los_Angeles:20260709T183000
DTEND;TZID=America/Los_Angeles:20260709T210000
STATUS:CONFIRMED
SUMMARY:MISSION IMBOCCEBALL vs UNITY BROS.
URL:/League/Schedule/3062
DESCRIPTION:Regular Season match: MISSION IMBOCCEBALL vs UNI
 TY BROS.
LOCATION:Martinez Court 13
END:VEVENT
BEGIN:VEVENT
DTSTAMP:20260419T000000Z
UID:b35178b2-d3be-47e2-943e-ae67adaf69bf@ClaytonBocce
DTSTART;TZID=America/Los_Angeles:20260716T183000
DTEND;TZID=America/Los_Angeles:20260716T210000
STATUS:CONFIRMED
SUMMARY:MISSION IMBOCCEBALL vs GOOD TIME ROLLERS
URL:/League/Schedule/3062
DESCRIPTION:Regular Season match: MISSION IMBOCCEBALL vs GOO
 D TIME ROLLERS
LOCATION:Martinez Court 15
END:VEVENT
BEGIN:VEVENT
DTSTAMP:20260419T000000Z
UID:31fb02a4-dcaa-463f-b134-b6f90c4350b5@ClaytonBocce
DTSTART;TZID=America/Los_Angeles:20260723T183000
DTEND;TZID=America/Los_Angeles:20260723T210000
STATUS:CONFIRMED
SUMMARY:MISSION IMBOCCEBALL vs SONS OF A BOCCE
URL:/League/Schedule/3062
DESCRIPTION:Regular Season match: MISSION IMBOCCEBALL vs SON
 S OF A BOCCE
LOCATION:Martinez Court 11
END:VEVENT
BEGIN:VEVENT
DTSTAMP:20260419T000000Z
UID:711dc1d2-718e-45ef-a0c2-d29dc50e32fc@ClaytonBocce
DTSTART;TZID=America/Los_Angeles:20260730T183000
DTEND;TZID=America/Los_Angeles:20260730T210000
STATUS:CONFIRMED
SUMMARY:MISSION IMBOCCEBALL vs MEASURE THIS
URL:/League/Schedule/3062
DESCRIPTION:Regular Season match: MISSION IMBOCCEBALL vs MEA
 SURE THIS
LOCATION:Martinez Court 1
END:VEVENT
BEGIN:VEVENT
DTSTAMP:20260419T000000Z
UID:b9a26b6a-cccb-4022-81d5-48c0ad813b26@ClaytonBocce
DTSTART;TZID=America/Los_Angeles:20260806T183000
DTEND;TZID=America/Los_Angeles:20260806T210000
STATUS:CONFIRMED
SUMMARY:MISSION IMBOCCEBALL vs BOWLING THUNDER
URL:/League/Schedule/3062
DESCRIPTION:Regular Season match: MISSION IMBOCCEBALL vs BOW
 LING THUNDER
LOCATION:Martinez Court 14
END:VEVENT
BEGIN:VEVENT
DTSTAMP:20260419T000000Z
UID:d429d4ab-7fd7-4b4f-96b1-ee616958df12@ClaytonBocce
DTSTART;TZID=America/Los_Angeles:20260820T183000
DTEND;TZID=America/Los_Angeles:20260820T210000
STATUS:CONFIRMED
SUMMARY:MISSION IMBOCCEBALL vs INCOGNITO
URL:/League/Schedule/3062
DESCRIPTION:Regular Season match: MISSION IMBOCCEBALL vs INC
 OGNITO
LOCATION:Martinez Court 10
END:VEVENT
BEGIN:VEVENT
DTSTAMP:20260419T000000Z
UID:a2dcf390-e621-4ec6-aea7-d230a4ad4408@ClaytonBocce
DTSTART;TZID=America/Los_Angeles:20260827T183000
DTEND;TZID=America/Los_Angeles:20260827T210000
STATUS:CONFIRMED
SUMMARY:MISSION IMBOCCEBALL vs UNITY BROS.
URL:/League/Schedule/3062
DESCRIPTION:Regular Season match: MISSION IMBOCCEBALL vs UNI
 TY BROS.
LOCATION:Martinez Court 9
END:VEVENT
BEGIN:VEVENT
DTSTAMP:20260419T000000Z
UID:09715f2a-01a6-4bcd-a2a8-68975e2308d5@ClaytonBocce
DTSTART;TZID=America/Los_Angeles:20260903T183000
DTEND;TZID=America/Los_Angeles:20260903T210000
STATUS:CONFIRMED
SUMMARY:MISSION IMBOCCEBALL vs GOOD TIME ROLLERS
URL:/League/Schedule/3062
DESCRIPTION:Regular Season match: MISSION IMBOCCEBALL vs GOO
 D TIME ROLLERS
LOCATION:Martinez Court 5
END:VEVENT
BEGIN:VEVENT
DTSTAMP:20260419T000000Z
UID:5f429896-280e-4c25-b856-5e30c7ccd6f4@ClaytonBocce
DTSTART;TZID=America/Los_Angeles:20260910T183000
DTEND;TZID=America/Los_Angeles:20260910T210000
STATUS:CONFIRMED
SUMMARY:MISSION IMBOCCEBALL vs SONS OF A BOCCE
URL:/League/Schedule/3062
DESCRIPTION:Regular Season match: MISSION IMBOCCEBALL vs SON
 S OF A BOCCE
LOCATION:Martinez Court 8
END:VEVENT
BEGIN:VEVENT
DTSTAMP:20260419T000000Z
UID:218bfc62-ccc3-4d16-9b0e-605a9fe7d18c@ClaytonBocce
DTSTART;TZID=America/Los_Angeles:20260917T183000
DTEND;TZID=America/Los_Angeles:20260917T210000
STATUS:CONFIRMED
SUMMARY:MISSION IMBOCCEBALL vs MEASURE THIS
URL:/League/Schedule/3062
DESCRIPTION:Regular Season match: MISSION IMBOCCEBALL vs MEA
 SURE THIS
LOCATION:Martinez Court 4
END:VEVENT
END:VCALENDAR
