BEGIN:VCALENDAR
VERSION:2.0
PRODID:-//Clayton Bocce League
METHOD:PUBLISH
BEGIN:VTIMEZONE
TZID:America/Los_Angeles
X-LIC-LOCATION:America/Los_Angeles
BEGIN:DAYLIGHT
TZOFFSETFROM:-0800
TZOFFSETTO:-0700
TZNAME:PDT
DTSTART:20070311T020000
RRULE:FREQ=YEARLY;BYMONTH=3;BYDAY=2SU
END:DAYLIGHT
BEGIN:STANDARD
TZOFFSETFROM:-0700
TZOFFSETTO:-0800
TZNAME:PST
DTSTART:20071104T020000
RRULE:FREQ=YEARLY;BYMONTH=11;BYDAY=1SU
END:STANDARD
END:VTIMEZONE
BEGIN:VEVENT
DTSTAMP:20260419T000000Z
UID:702120d4-6aa2-44a6-b18e-20289581e175@ClaytonBocce
DTSTART;TZID=America/Los_Angeles:20260423T183000
DTEND;TZID=America/Los_Angeles:20260423T210000
STATUS:CONFIRMED
SUMMARY:MEASURE THIS vs SONS OF A BOCCE
URL:/League/Schedule/3059
DESCRIPTION:Regular Season match: MEASURE THIS vs SONS OF A 
 BOCCE
LOCATION:Martinez Court 9
END:VEVENT
BEGIN:VEVENT
DTSTAMP:20260419T000000Z
UID:f2df386e-68a6-4a65-a136-ddfa90a04d75@ClaytonBocce
DTSTART;TZID=America/Los_Angeles:20260430T183000
DTEND;TZID=America/Los_Angeles:20260430T210000
STATUS:CONFIRMED
SUMMARY:MEASURE THIS vs INCOGNITO
URL:/League/Schedule/3059
DESCRIPTION:Regular Season match: MEASURE THIS vs INCOGNITO
LOCATION:Martinez Court 13
END:VEVENT
BEGIN:VEVENT
DTSTAMP:20260419T000000Z
UID:9159401d-d816-4374-8509-e58a28a69de9@ClaytonBocce
DTSTART;TZID=America/Los_Angeles:20260507T183000
DTEND;TZID=America/Los_Angeles:20260507T210000
STATUS:CONFIRMED
SUMMARY:MEASURE THIS vs GOOD TIME ROLLERS
URL:/League/Schedule/3059
DESCRIPTION:Regular Season match: MEASURE THIS vs GOOD TIME 
 ROLLERS
LOCATION:Martinez Court 3
END:VEVENT
BEGIN:VEVENT
DTSTAMP:20260419T000000Z
UID:dd6923b3-9cef-4a31-9228-a4bc044854d8@ClaytonBocce
DTSTART;TZID=America/Los_Angeles:20260514T183000
DTEND;TZID=America/Los_Angeles:20260514T210000
STATUS:CONFIRMED
SUMMARY:MEASURE THIS vs BOWLING THUNDER
URL:/League/Schedule/3059
DESCRIPTION:Regular Season match: MEASURE THIS vs BOWLING TH
 UNDER
LOCATION:Martinez Court 6
END:VEVENT
BEGIN:VEVENT
DTSTAMP:20260419T000000Z
UID:6c038b66-8cab-49c9-a9cd-161ba4dd5582@ClaytonBocce
DTSTART;TZID=America/Los_Angeles:20260528T183000
DTEND;TZID=America/Los_Angeles:20260528T210000
STATUS:CONFIRMED
SUMMARY:MEASURE THIS vs UNITY BROS.
URL:/League/Schedule/3059
DESCRIPTION:Regular Season match: MEASURE THIS vs UNITY BROS
 .
LOCATION:Martinez Court 11
END:VEVENT
BEGIN:VEVENT
DTSTAMP:20260419T000000Z
UID:c8f266dd-bd64-494c-9344-370f7a08120c@ClaytonBocce
DTSTART;TZID=America/Los_Angeles:20260604T183000
DTEND;TZID=America/Los_Angeles:20260604T210000
STATUS:CONFIRMED
SUMMARY:MEASURE THIS vs MISSION IMBOCCEBALL
URL:/League/Schedule/3059
DESCRIPTION:Regular Season match: MEASURE THIS vs MISSION IM
 BOCCEBALL
LOCATION:Martinez Court 15
END:VEVENT
BEGIN:VEVENT
DTSTAMP:20260419T000000Z
UID:8d456905-ecca-44b4-8aa5-a78cd82ddfec@ClaytonBocce
DTSTART;TZID=America/Los_Angeles:20260611T183000
DTEND;TZID=America/Los_Angeles:20260611T210000
STATUS:CONFIRMED
SUMMARY:MEASURE THIS vs SONS OF A BOCCE
URL:/League/Schedule/3059
DESCRIPTION:Regular Season match: MEASURE THIS vs SONS OF A 
 BOCCE
LOCATION:Martinez Court 6
END:VEVENT
BEGIN:VEVENT
DTSTAMP:20260419T000000Z
UID:bafa6b71-8da5-43b0-941d-b578cec6af6e@ClaytonBocce
DTSTART;TZID=America/Los_Angeles:20260618T183000
DTEND;TZID=America/Los_Angeles:20260618T210000
STATUS:CONFIRMED
SUMMARY:MEASURE THIS vs INCOGNITO
URL:/League/Schedule/3059
DESCRIPTION:Regular Season match: MEASURE THIS vs INCOGNITO
LOCATION:Martinez Court 2
END:VEVENT
BEGIN:VEVENT
DTSTAMP:20260419T000000Z
UID:4f6ab8e3-afcc-4cdf-89cd-11f691861903@ClaytonBocce
DTSTART;TZID=America/Los_Angeles:20260625T183000
DTEND;TZID=America/Los_Angeles:20260625T210000
STATUS:CONFIRMED
SUMMARY:MEASURE THIS vs GOOD TIME ROLLERS
URL:/League/Schedule/3059
DESCRIPTION:Regular Season match: MEASURE THIS vs GOOD TIME 
 ROLLERS
LOCATION:Martinez Court 5
END:VEVENT
BEGIN:VEVENT
DTSTAMP:20260419T000000Z
UID:62528b96-8e6c-41b8-ae76-73b2a52fc1c4@ClaytonBocce
DTSTART;TZID=America/Los_Angeles:20260709T183000
DTEND;TZID=America/Los_Angeles:20260709T210000
STATUS:CONFIRMED
SUMMARY:MEASURE THIS vs BOWLING THUNDER
URL:/League/Schedule/3059
DESCRIPTION:Regular Season match: MEASURE THIS vs BOWLING TH
 UNDER
LOCATION:Martinez Court 14
END:VEVENT
BEGIN:VEVENT
DTSTAMP:20260419T000000Z
UID:76e6ed81-cded-46d1-887c-b3b669a0923e@ClaytonBocce
DTSTART;TZID=America/Los_Angeles:20260723T183000
DTEND;TZID=America/Los_Angeles:20260723T210000
STATUS:CONFIRMED
SUMMARY:MEASURE THIS vs UNITY BROS.
URL:/League/Schedule/3059
DESCRIPTION:Regular Season match: MEASURE THIS vs UNITY BROS
 .
LOCATION:Martinez Court 2
END:VEVENT
BEGIN:VEVENT
DTSTAMP:20260419T000000Z
UID:711dc1d2-718e-45ef-a0c2-d29dc50e32fc@ClaytonBocce
DTSTART;TZID=America/Los_Angeles:20260730T183000
DTEND;TZID=America/Los_Angeles:20260730T210000
STATUS:CONFIRMED
SUMMARY:MEASURE THIS vs MISSION IMBOCCEBALL
URL:/League/Schedule/3059
DESCRIPTION:Regular Season match: MEASURE THIS vs MISSION IM
 BOCCEBALL
LOCATION:Martinez Court 1
END:VEVENT
BEGIN:VEVENT
DTSTAMP:20260419T000000Z
UID:3d08afab-f734-4ba8-9da8-975234928262@ClaytonBocce
DTSTART;TZID=America/Los_Angeles:20260806T183000
DTEND;TZID=America/Los_Angeles:20260806T210000
STATUS:CONFIRMED
SUMMARY:MEASURE THIS vs SONS OF A BOCCE
URL:/League/Schedule/3059
DESCRIPTION:Regular Season match: MEASURE THIS vs SONS OF A 
 BOCCE
LOCATION:Martinez Court 13
END:VEVENT
BEGIN:VEVENT
DTSTAMP:20260419T000000Z
UID:08520606-a725-4cb4-b281-3846b844f30e@ClaytonBocce
DTSTART;TZID=America/Los_Angeles:20260813T183000
DTEND;TZID=America/Los_Angeles:20260813T210000
STATUS:CONFIRMED
SUMMARY:MEASURE THIS vs INCOGNITO
URL:/League/Schedule/3059
DESCRIPTION:Regular Season match: MEASURE THIS vs INCOGNITO
LOCATION:Martinez Court 7
END:VEVENT
BEGIN:VEVENT
DTSTAMP:20260419T000000Z
UID:e5864669-b3a6-4cb0-bc7e-e451967bab0e@ClaytonBocce
DTSTART;TZID=America/Los_Angeles:20260820T183000
DTEND;TZID=America/Los_Angeles:20260820T210000
STATUS:CONFIRMED
SUMMARY:MEASURE THIS vs GOOD TIME ROLLERS
URL:/League/Schedule/3059
DESCRIPTION:Regular Season match: MEASURE THIS vs GOOD TIME 
 ROLLERS
LOCATION:Martinez Court 12
END:VEVENT
BEGIN:VEVENT
DTSTAMP:20260419T000000Z
UID:65c9baa9-de83-4922-abfa-356e3432e350@ClaytonBocce
DTSTART;TZID=America/Los_Angeles:20260827T183000
DTEND;TZID=America/Los_Angeles:20260827T210000
STATUS:CONFIRMED
SUMMARY:MEASURE THIS vs BOWLING THUNDER
URL:/League/Schedule/3059
DESCRIPTION:Regular Season match: MEASURE THIS vs BOWLING TH
 UNDER
LOCATION:Martinez Court 5
END:VEVENT
BEGIN:VEVENT
DTSTAMP:20260419T000000Z
UID:f479d1b9-2b0d-4a09-84cb-e78834a94ce4@ClaytonBocce
DTSTART;TZID=America/Los_Angeles:20260910T183000
DTEND;TZID=America/Los_Angeles:20260910T210000
STATUS:CONFIRMED
SUMMARY:MEASURE THIS vs UNITY BROS.
URL:/League/Schedule/3059
DESCRIPTION:Regular Season match: MEASURE THIS vs UNITY BROS
 .
LOCATION:Martinez Court 10
END:VEVENT
BEGIN:VEVENT
DTSTAMP:20260419T000000Z
UID:218bfc62-ccc3-4d16-9b0e-605a9fe7d18c@ClaytonBocce
DTSTART;TZID=America/Los_Angeles:20260917T183000
DTEND;TZID=America/Los_Angeles:20260917T210000
STATUS:CONFIRMED
SUMMARY:MEASURE THIS vs MISSION IMBOCCEBALL
URL:/League/Schedule/3059
DESCRIPTION:Regular Season match: MEASURE THIS vs MISSION IM
 BOCCEBALL
LOCATION:Martinez Court 4
END:VEVENT
END:VCALENDAR
