BEGIN:VCALENDAR
VERSION:2.0
PRODID:-//Clayton Bocce League
METHOD:PUBLISH
BEGIN:VTIMEZONE
TZID:America/Los_Angeles
X-LIC-LOCATION:America/Los_Angeles
BEGIN:DAYLIGHT
TZOFFSETFROM:-0800
TZOFFSETTO:-0700
TZNAME:PDT
DTSTART:20070311T020000
RRULE:FREQ=YEARLY;BYMONTH=3;BYDAY=2SU
END:DAYLIGHT
BEGIN:STANDARD
TZOFFSETFROM:-0700
TZOFFSETTO:-0800
TZNAME:PST
DTSTART:20071104T020000
RRULE:FREQ=YEARLY;BYMONTH=11;BYDAY=1SU
END:STANDARD
END:VTIMEZONE
BEGIN:VEVENT
DTSTAMP:20260419T000000Z
UID:702120d4-6aa2-44a6-b18e-20289581e175@ClaytonBocce
DTSTART;TZID=America/Los_Angeles:20260423T183000
DTEND;TZID=America/Los_Angeles:20260423T210000
STATUS:CONFIRMED
SUMMARY:SONS OF A BOCCE vs MEASURE THIS
URL:/League/Schedule/3060
DESCRIPTION:Regular Season match: SONS OF A BOCCE vs MEASURE
  THIS
LOCATION:Martinez Court 9
END:VEVENT
BEGIN:VEVENT
DTSTAMP:20260419T000000Z
UID:0ad6e923-801e-4dda-9c59-da9bc8c89bf1@ClaytonBocce
DTSTART;TZID=America/Los_Angeles:20260430T183000
DTEND;TZID=America/Los_Angeles:20260430T210000
STATUS:CONFIRMED
SUMMARY:SONS OF A BOCCE vs GOOD TIME ROLLERS
URL:/League/Schedule/3060
DESCRIPTION:Regular Season match: SONS OF A BOCCE vs GOOD TI
 ME ROLLERS
LOCATION:Martinez Court 14
END:VEVENT
BEGIN:VEVENT
DTSTAMP:20260419T000000Z
UID:b0899553-086b-46e4-98c0-830619cecca3@ClaytonBocce
DTSTART;TZID=America/Los_Angeles:20260507T183000
DTEND;TZID=America/Los_Angeles:20260507T210000
STATUS:CONFIRMED
SUMMARY:SONS OF A BOCCE vs BOWLING THUNDER
URL:/League/Schedule/3060
DESCRIPTION:Regular Season match: SONS OF A BOCCE vs BOWLING
  THUNDER
LOCATION:Martinez Court 2
END:VEVENT
BEGIN:VEVENT
DTSTAMP:20260419T000000Z
UID:6f4f5d55-d7dd-4639-b946-65122dde8054@ClaytonBocce
DTSTART;TZID=America/Los_Angeles:20260521T183000
DTEND;TZID=America/Los_Angeles:20260521T210000
STATUS:CONFIRMED
SUMMARY:SONS OF A BOCCE vs UNITY BROS.
URL:/League/Schedule/3060
DESCRIPTION:Regular Season match: SONS OF A BOCCE vs UNITY B
 ROS.
LOCATION:Martinez Court 10
END:VEVENT
BEGIN:VEVENT
DTSTAMP:20260419T000000Z
UID:e7abe4d6-3b0b-4538-902c-41251fdfedc0@ClaytonBocce
DTSTART;TZID=America/Los_Angeles:20260528T183000
DTEND;TZID=America/Los_Angeles:20260528T210000
STATUS:CONFIRMED
SUMMARY:SONS OF A BOCCE vs MISSION IMBOCCEBALL
URL:/League/Schedule/3060
DESCRIPTION:Regular Season match: SONS OF A BOCCE vs MISSION
  IMBOCCEBALL
LOCATION:Martinez Court 12
END:VEVENT
BEGIN:VEVENT
DTSTAMP:20260419T000000Z
UID:82bc9454-83a8-46fe-b8b8-45d3f0d37776@ClaytonBocce
DTSTART;TZID=America/Los_Angeles:20260604T183000
DTEND;TZID=America/Los_Angeles:20260604T210000
STATUS:CONFIRMED
SUMMARY:SONS OF A BOCCE vs INCOGNITO
URL:/League/Schedule/3060
DESCRIPTION:Regular Season match: SONS OF A BOCCE vs INCOGNI
 TO
LOCATION:Martinez Court 1
END:VEVENT
BEGIN:VEVENT
DTSTAMP:20260419T000000Z
UID:8d456905-ecca-44b4-8aa5-a78cd82ddfec@ClaytonBocce
DTSTART;TZID=America/Los_Angeles:20260611T183000
DTEND;TZID=America/Los_Angeles:20260611T210000
STATUS:CONFIRMED
SUMMARY:SONS OF A BOCCE vs MEASURE THIS
URL:/League/Schedule/3060
DESCRIPTION:Regular Season match: SONS OF A BOCCE vs MEASURE
  THIS
LOCATION:Martinez Court 6
END:VEVENT
BEGIN:VEVENT
DTSTAMP:20260419T000000Z
UID:9eff4143-09d6-4fba-980f-ccd14a3ee924@ClaytonBocce
DTSTART;TZID=America/Los_Angeles:20260618T183000
DTEND;TZID=America/Los_Angeles:20260618T210000
STATUS:CONFIRMED
SUMMARY:SONS OF A BOCCE vs GOOD TIME ROLLERS
URL:/League/Schedule/3060
DESCRIPTION:Regular Season match: SONS OF A BOCCE vs GOOD TI
 ME ROLLERS
LOCATION:Martinez Court 15
END:VEVENT
BEGIN:VEVENT
DTSTAMP:20260419T000000Z
UID:1671b8bd-3f5b-4db1-b3c5-b0d8c0b9904e@ClaytonBocce
DTSTART;TZID=America/Los_Angeles:20260625T183000
DTEND;TZID=America/Los_Angeles:20260625T210000
STATUS:CONFIRMED
SUMMARY:SONS OF A BOCCE vs BOWLING THUNDER
URL:/League/Schedule/3060
DESCRIPTION:Regular Season match: SONS OF A BOCCE vs BOWLING
  THUNDER
LOCATION:Martinez Court 4
END:VEVENT
BEGIN:VEVENT
DTSTAMP:20260419T000000Z
UID:bf3c9b38-d1f6-43b9-9b37-ba864f54d444@ClaytonBocce
DTSTART;TZID=America/Los_Angeles:20260716T183000
DTEND;TZID=America/Los_Angeles:20260716T210000
STATUS:CONFIRMED
SUMMARY:SONS OF A BOCCE vs UNITY BROS.
URL:/League/Schedule/3060
DESCRIPTION:Regular Season match: SONS OF A BOCCE vs UNITY B
 ROS.
LOCATION:Martinez Court 1
END:VEVENT
BEGIN:VEVENT
DTSTAMP:20260419T000000Z
UID:31fb02a4-dcaa-463f-b134-b6f90c4350b5@ClaytonBocce
DTSTART;TZID=America/Los_Angeles:20260723T183000
DTEND;TZID=America/Los_Angeles:20260723T210000
STATUS:CONFIRMED
SUMMARY:SONS OF A BOCCE vs MISSION IMBOCCEBALL
URL:/League/Schedule/3060
DESCRIPTION:Regular Season match: SONS OF A BOCCE vs MISSION
  IMBOCCEBALL
LOCATION:Martinez Court 11
END:VEVENT
BEGIN:VEVENT
DTSTAMP:20260419T000000Z
UID:b9454c4c-6b28-4f4d-9e22-57b033b87497@ClaytonBocce
DTSTART;TZID=America/Los_Angeles:20260730T183000
DTEND;TZID=America/Los_Angeles:20260730T210000
STATUS:CONFIRMED
SUMMARY:SONS OF A BOCCE vs INCOGNITO
URL:/League/Schedule/3060
DESCRIPTION:Regular Season match: SONS OF A BOCCE vs INCOGNI
 TO
LOCATION:Martinez Court 14
END:VEVENT
BEGIN:VEVENT
DTSTAMP:20260419T000000Z
UID:3d08afab-f734-4ba8-9da8-975234928262@ClaytonBocce
DTSTART;TZID=America/Los_Angeles:20260806T183000
DTEND;TZID=America/Los_Angeles:20260806T210000
STATUS:CONFIRMED
SUMMARY:SONS OF A BOCCE vs MEASURE THIS
URL:/League/Schedule/3060
DESCRIPTION:Regular Season match: SONS OF A BOCCE vs MEASURE
  THIS
LOCATION:Martinez Court 13
END:VEVENT
BEGIN:VEVENT
DTSTAMP:20260419T000000Z
UID:e5de2491-78ce-4103-9005-59decb9e1011@ClaytonBocce
DTSTART;TZID=America/Los_Angeles:20260813T183000
DTEND;TZID=America/Los_Angeles:20260813T210000
STATUS:CONFIRMED
SUMMARY:SONS OF A BOCCE vs GOOD TIME ROLLERS
URL:/League/Schedule/3060
DESCRIPTION:Regular Season match: SONS OF A BOCCE vs GOOD TI
 ME ROLLERS
LOCATION:Martinez Court 9
END:VEVENT
BEGIN:VEVENT
DTSTAMP:20260419T000000Z
UID:c171a028-c639-4428-a3c0-49bc555132b1@ClaytonBocce
DTSTART;TZID=America/Los_Angeles:20260820T183000
DTEND;TZID=America/Los_Angeles:20260820T210000
STATUS:CONFIRMED
SUMMARY:SONS OF A BOCCE vs BOWLING THUNDER
URL:/League/Schedule/3060
DESCRIPTION:Regular Season match: SONS OF A BOCCE vs BOWLING
  THUNDER
LOCATION:Martinez Court 15
END:VEVENT
BEGIN:VEVENT
DTSTAMP:20260419T000000Z
UID:d02c4457-917a-4b7b-8a1f-6a0ba4b041cd@ClaytonBocce
DTSTART;TZID=America/Los_Angeles:20260903T183000
DTEND;TZID=America/Los_Angeles:20260903T210000
STATUS:CONFIRMED
SUMMARY:SONS OF A BOCCE vs UNITY BROS.
URL:/League/Schedule/3060
DESCRIPTION:Regular Season match: SONS OF A BOCCE vs UNITY B
 ROS.
LOCATION:Martinez Court 3
END:VEVENT
BEGIN:VEVENT
DTSTAMP:20260419T000000Z
UID:5f429896-280e-4c25-b856-5e30c7ccd6f4@ClaytonBocce
DTSTART;TZID=America/Los_Angeles:20260910T183000
DTEND;TZID=America/Los_Angeles:20260910T210000
STATUS:CONFIRMED
SUMMARY:SONS OF A BOCCE vs MISSION IMBOCCEBALL
URL:/League/Schedule/3060
DESCRIPTION:Regular Season match: SONS OF A BOCCE vs MISSION
  IMBOCCEBALL
LOCATION:Martinez Court 8
END:VEVENT
BEGIN:VEVENT
DTSTAMP:20260419T000000Z
UID:036b20ac-802d-4fda-ab07-2cdf0eedb4c4@ClaytonBocce
DTSTART;TZID=America/Los_Angeles:20260917T183000
DTEND;TZID=America/Los_Angeles:20260917T210000
STATUS:CONFIRMED
SUMMARY:SONS OF A BOCCE vs INCOGNITO
URL:/League/Schedule/3060
DESCRIPTION:Regular Season match: SONS OF A BOCCE vs INCOGNI
 TO
LOCATION:Martinez Court 5
END:VEVENT
END:VCALENDAR
