BEGIN:VCALENDAR
VERSION:2.0
PRODID:-//Clayton Bocce League
METHOD:PUBLISH
BEGIN:VTIMEZONE
TZID:America/Los_Angeles
X-LIC-LOCATION:America/Los_Angeles
BEGIN:DAYLIGHT
TZOFFSETFROM:-0800
TZOFFSETTO:-0700
TZNAME:PDT
DTSTART:20070311T020000
RRULE:FREQ=YEARLY;BYMONTH=3;BYDAY=2SU
END:DAYLIGHT
BEGIN:STANDARD
TZOFFSETFROM:-0700
TZOFFSETTO:-0800
TZNAME:PST
DTSTART:20071104T020000
RRULE:FREQ=YEARLY;BYMONTH=11;BYDAY=1SU
END:STANDARD
END:VTIMEZONE
BEGIN:VEVENT
DTSTAMP:20260419T000000Z
UID:66f28664-b35c-467e-8334-cb9e3cc1314f@ClaytonBocce
DTSTART;TZID=America/Los_Angeles:20260423T183000
DTEND;TZID=America/Los_Angeles:20260423T210000
STATUS:CONFIRMED
SUMMARY:N.u.T.S. vs ROLL PLAYERS
URL:/League/Schedule/3076
DESCRIPTION:Regular Season match: N.u.T.S. vs ROLL PLAYERS
LOCATION:Martinez Court 13
END:VEVENT
BEGIN:VEVENT
DTSTAMP:20260419T000000Z
UID:8558c276-9c7d-40a6-85ca-10fe806f4d66@ClaytonBocce
DTSTART;TZID=America/Los_Angeles:20260507T183000
DTEND;TZID=America/Los_Angeles:20260507T210000
STATUS:CONFIRMED
SUMMARY:N.u.T.S. vs BALLS DEEP
URL:/League/Schedule/3076
DESCRIPTION:Regular Season match: N.u.T.S. vs BALLS DEEP
LOCATION:Martinez Court 9
END:VEVENT
BEGIN:VEVENT
DTSTAMP:20260419T000000Z
UID:2fcc3905-e9c8-4d16-9304-13b8eefd509e@ClaytonBocce
DTSTART;TZID=America/Los_Angeles:20260514T183000
DTEND;TZID=America/Los_Angeles:20260514T210000
STATUS:CONFIRMED
SUMMARY:N.u.T.S. vs WHARF RATS
URL:/League/Schedule/3076
DESCRIPTION:Regular Season match: N.u.T.S. vs WHARF RATS
LOCATION:Martinez Court 11
END:VEVENT
BEGIN:VEVENT
DTSTAMP:20260419T000000Z
UID:3b779ce9-5f47-49b7-a122-168d21cdfa83@ClaytonBocce
DTSTART;TZID=America/Los_Angeles:20260521T183000
DTEND;TZID=America/Los_Angeles:20260521T210000
STATUS:CONFIRMED
SUMMARY:N.u.T.S. vs THE BALL SPLITTERS
URL:/League/Schedule/3076
DESCRIPTION:Regular Season match: N.u.T.S. vs THE BALL SPLIT
 TERS
LOCATION:Martinez Court 2
END:VEVENT
BEGIN:VEVENT
DTSTAMP:20260419T000000Z
UID:fded94a4-2fed-4f53-86f8-332b4b5ed20e@ClaytonBocce
DTSTART;TZID=America/Los_Angeles:20260528T183000
DTEND;TZID=America/Los_Angeles:20260528T210000
STATUS:CONFIRMED
SUMMARY:N.u.T.S. vs SALUTI
URL:/League/Schedule/3076
DESCRIPTION:Regular Season match: N.u.T.S. vs SALUTI
LOCATION:Martinez Court 3
END:VEVENT
BEGIN:VEVENT
DTSTAMP:20260419T000000Z
UID:b551475e-6f2a-427f-87db-81ca338acd53@ClaytonBocce
DTSTART;TZID=America/Los_Angeles:20260604T183000
DTEND;TZID=America/Los_Angeles:20260604T210000
STATUS:CONFIRMED
SUMMARY:N.u.T.S. vs WATCH ME BOCCE
URL:/League/Schedule/3076
DESCRIPTION:Regular Season match: N.u.T.S. vs WATCH ME BOCCE
LOCATION:Martinez Court 6
END:VEVENT
BEGIN:VEVENT
DTSTAMP:20260419T000000Z
UID:dafb483e-34c5-414a-ad73-50b90c5a5f92@ClaytonBocce
DTSTART;TZID=America/Los_Angeles:20260611T183000
DTEND;TZID=America/Los_Angeles:20260611T210000
STATUS:CONFIRMED
SUMMARY:N.u.T.S. vs ROLL PLAYERS
URL:/League/Schedule/3076
DESCRIPTION:Regular Season match: N.u.T.S. vs ROLL PLAYERS
LOCATION:Martinez Court 14
END:VEVENT
BEGIN:VEVENT
DTSTAMP:20260419T000000Z
UID:adca0218-a82a-4d4c-a3c7-fa400928546a@ClaytonBocce
DTSTART;TZID=America/Los_Angeles:20260625T183000
DTEND;TZID=America/Los_Angeles:20260625T210000
STATUS:CONFIRMED
SUMMARY:N.u.T.S. vs BALLS DEEP
URL:/League/Schedule/3076
DESCRIPTION:Regular Season match: N.u.T.S. vs BALLS DEEP
LOCATION:Martinez Court 1
END:VEVENT
BEGIN:VEVENT
DTSTAMP:20260419T000000Z
UID:5e3ef2ab-4c47-4e68-8fdc-dd6e96096c77@ClaytonBocce
DTSTART;TZID=America/Los_Angeles:20260709T183000
DTEND;TZID=America/Los_Angeles:20260709T210000
STATUS:CONFIRMED
SUMMARY:N.u.T.S. vs WHARF RATS
URL:/League/Schedule/3076
DESCRIPTION:Regular Season match: N.u.T.S. vs WHARF RATS
LOCATION:Martinez Court 4
END:VEVENT
BEGIN:VEVENT
DTSTAMP:20260419T000000Z
UID:de84c39d-450c-4d5b-9387-c44f56f275d9@ClaytonBocce
DTSTART;TZID=America/Los_Angeles:20260716T183000
DTEND;TZID=America/Los_Angeles:20260716T210000
STATUS:CONFIRMED
SUMMARY:N.u.T.S. vs THE BALL SPLITTERS
URL:/League/Schedule/3076
DESCRIPTION:Regular Season match: N.u.T.S. vs THE BALL SPLIT
 TERS
LOCATION:Martinez Court 7
END:VEVENT
BEGIN:VEVENT
DTSTAMP:20260419T000000Z
UID:ede2b8aa-a294-4a60-bb00-902ccdeb6311@ClaytonBocce
DTSTART;TZID=America/Los_Angeles:20260723T183000
DTEND;TZID=America/Los_Angeles:20260723T210000
STATUS:CONFIRMED
SUMMARY:N.u.T.S. vs SALUTI
URL:/League/Schedule/3076
DESCRIPTION:Regular Season match: N.u.T.S. vs SALUTI
LOCATION:Martinez Court 5
END:VEVENT
BEGIN:VEVENT
DTSTAMP:20260419T000000Z
UID:ddf5fe29-1478-4416-a36c-5377a160952c@ClaytonBocce
DTSTART;TZID=America/Los_Angeles:20260730T183000
DTEND;TZID=America/Los_Angeles:20260730T210000
STATUS:CONFIRMED
SUMMARY:N.u.T.S. vs WATCH ME BOCCE
URL:/League/Schedule/3076
DESCRIPTION:Regular Season match: N.u.T.S. vs WATCH ME BOCCE
LOCATION:Martinez Court 12
END:VEVENT
BEGIN:VEVENT
DTSTAMP:20260419T000000Z
UID:c051d184-09b7-41d0-8509-9a998bec63d4@ClaytonBocce
DTSTART;TZID=America/Los_Angeles:20260806T183000
DTEND;TZID=America/Los_Angeles:20260806T210000
STATUS:CONFIRMED
SUMMARY:N.u.T.S. vs ROLL PLAYERS
URL:/League/Schedule/3076
DESCRIPTION:Regular Season match: N.u.T.S. vs ROLL PLAYERS
LOCATION:Martinez Court 6
END:VEVENT
BEGIN:VEVENT
DTSTAMP:20260419T000000Z
UID:415676f4-3de4-401f-b6b2-f7870abd59eb@ClaytonBocce
DTSTART;TZID=America/Los_Angeles:20260820T183000
DTEND;TZID=America/Los_Angeles:20260820T210000
STATUS:CONFIRMED
SUMMARY:N.u.T.S. vs BALLS DEEP
URL:/League/Schedule/3076
DESCRIPTION:Regular Season match: N.u.T.S. vs BALLS DEEP
LOCATION:Martinez Court 1
END:VEVENT
BEGIN:VEVENT
DTSTAMP:20260419T000000Z
UID:fae5576c-3e6a-4249-82a4-d26540f25b33@ClaytonBocce
DTSTART;TZID=America/Los_Angeles:20260827T183000
DTEND;TZID=America/Los_Angeles:20260827T210000
STATUS:CONFIRMED
SUMMARY:N.u.T.S. vs WHARF RATS
URL:/League/Schedule/3076
DESCRIPTION:Regular Season match: N.u.T.S. vs WHARF RATS
LOCATION:Martinez Court 10
END:VEVENT
BEGIN:VEVENT
DTSTAMP:20260419T000000Z
UID:ec103c36-6117-40db-a0b9-22bfe54f3ced@ClaytonBocce
DTSTART;TZID=America/Los_Angeles:20260903T183000
DTEND;TZID=America/Los_Angeles:20260903T210000
STATUS:CONFIRMED
SUMMARY:N.u.T.S. vs THE BALL SPLITTERS
URL:/League/Schedule/3076
DESCRIPTION:Regular Season match: N.u.T.S. vs THE BALL SPLIT
 TERS
LOCATION:Martinez Court 15
END:VEVENT
BEGIN:VEVENT
DTSTAMP:20260419T000000Z
UID:8de32631-602d-4aee-a16b-3b01aa3cfc45@ClaytonBocce
DTSTART;TZID=America/Los_Angeles:20260910T183000
DTEND;TZID=America/Los_Angeles:20260910T210000
STATUS:CONFIRMED
SUMMARY:N.u.T.S. vs SALUTI
URL:/League/Schedule/3076
DESCRIPTION:Regular Season match: N.u.T.S. vs SALUTI
LOCATION:Martinez Court 3
END:VEVENT
BEGIN:VEVENT
DTSTAMP:20260419T000000Z
UID:c7918f7a-d554-4030-b71b-c3e02e08b4a3@ClaytonBocce
DTSTART;TZID=America/Los_Angeles:20260917T183000
DTEND;TZID=America/Los_Angeles:20260917T210000
STATUS:CONFIRMED
SUMMARY:N.u.T.S. vs WATCH ME BOCCE
URL:/League/Schedule/3076
DESCRIPTION:Regular Season match: N.u.T.S. vs WATCH ME BOCCE
LOCATION:Martinez Court 13
END:VEVENT
END:VCALENDAR
