BEGIN:VCALENDAR
VERSION:2.0
PRODID:-//Clayton Bocce League
METHOD:PUBLISH
BEGIN:VTIMEZONE
TZID:America/Los_Angeles
X-LIC-LOCATION:America/Los_Angeles
BEGIN:DAYLIGHT
TZOFFSETFROM:-0800
TZOFFSETTO:-0700
TZNAME:PDT
DTSTART:20070311T020000
RRULE:FREQ=YEARLY;BYMONTH=3;BYDAY=2SU
END:DAYLIGHT
BEGIN:STANDARD
TZOFFSETFROM:-0700
TZOFFSETTO:-0800
TZNAME:PST
DTSTART:20071104T020000
RRULE:FREQ=YEARLY;BYMONTH=11;BYDAY=1SU
END:STANDARD
END:VTIMEZONE
BEGIN:VEVENT
DTSTAMP:20260419T000000Z
UID:66f28664-b35c-467e-8334-cb9e3cc1314f@ClaytonBocce
DTSTART;TZID=America/Los_Angeles:20260423T183000
DTEND;TZID=America/Los_Angeles:20260423T210000
STATUS:CONFIRMED
SUMMARY:ROLL PLAYERS vs N.u.T.S.
URL:/League/Schedule/3071
DESCRIPTION:Regular Season match: ROLL PLAYERS vs N.u.T.S.
LOCATION:Martinez Court 13
END:VEVENT
BEGIN:VEVENT
DTSTAMP:20260419T000000Z
UID:52860e82-794b-4b73-88f3-918b2c493bd0@ClaytonBocce
DTSTART;TZID=America/Los_Angeles:20260430T183000
DTEND;TZID=America/Los_Angeles:20260430T210000
STATUS:CONFIRMED
SUMMARY:ROLL PLAYERS vs WHARF RATS
URL:/League/Schedule/3071
DESCRIPTION:Regular Season match: ROLL PLAYERS vs WHARF RATS
LOCATION:Martinez Court 3
END:VEVENT
BEGIN:VEVENT
DTSTAMP:20260419T000000Z
UID:bc0da388-6a4b-4413-95a6-8e824a712db7@ClaytonBocce
DTSTART;TZID=America/Los_Angeles:20260507T183000
DTEND;TZID=America/Los_Angeles:20260507T210000
STATUS:CONFIRMED
SUMMARY:ROLL PLAYERS vs SALUTI
URL:/League/Schedule/3071
DESCRIPTION:Regular Season match: ROLL PLAYERS vs SALUTI
LOCATION:Martinez Court 8
END:VEVENT
BEGIN:VEVENT
DTSTAMP:20260419T000000Z
UID:8f06a1fb-4c74-45ab-ba9b-5f28820db23b@ClaytonBocce
DTSTART;TZID=America/Los_Angeles:20260514T183000
DTEND;TZID=America/Los_Angeles:20260514T210000
STATUS:CONFIRMED
SUMMARY:ROLL PLAYERS vs WATCH ME BOCCE
URL:/League/Schedule/3071
DESCRIPTION:Regular Season match: ROLL PLAYERS vs WATCH ME B
 OCCE
LOCATION:Martinez Court 7
END:VEVENT
BEGIN:VEVENT
DTSTAMP:20260419T000000Z
UID:21dde941-c08a-4740-991f-3bbcee82889b@ClaytonBocce
DTSTART;TZID=America/Los_Angeles:20260521T183000
DTEND;TZID=America/Los_Angeles:20260521T210000
STATUS:CONFIRMED
SUMMARY:ROLL PLAYERS vs BALLS DEEP
URL:/League/Schedule/3071
DESCRIPTION:Regular Season match: ROLL PLAYERS vs BALLS DEEP
LOCATION:Martinez Court 15
END:VEVENT
BEGIN:VEVENT
DTSTAMP:20260419T000000Z
UID:82d70874-17a6-4195-866d-37f99cdb91af@ClaytonBocce
DTSTART;TZID=America/Los_Angeles:20260528T183000
DTEND;TZID=America/Los_Angeles:20260528T210000
STATUS:CONFIRMED
SUMMARY:ROLL PLAYERS vs THE BALL SPLITTERS
URL:/League/Schedule/3071
DESCRIPTION:Regular Season match: ROLL PLAYERS vs THE BALL S
 PLITTERS
LOCATION:Martinez Court 1
END:VEVENT
BEGIN:VEVENT
DTSTAMP:20260419T000000Z
UID:dafb483e-34c5-414a-ad73-50b90c5a5f92@ClaytonBocce
DTSTART;TZID=America/Los_Angeles:20260611T183000
DTEND;TZID=America/Los_Angeles:20260611T210000
STATUS:CONFIRMED
SUMMARY:ROLL PLAYERS vs N.u.T.S.
URL:/League/Schedule/3071
DESCRIPTION:Regular Season match: ROLL PLAYERS vs N.u.T.S.
LOCATION:Martinez Court 14
END:VEVENT
BEGIN:VEVENT
DTSTAMP:20260419T000000Z
UID:ffe815d1-2fc6-4902-90f1-d4e83609e9be@ClaytonBocce
DTSTART;TZID=America/Los_Angeles:20260618T183000
DTEND;TZID=America/Los_Angeles:20260618T210000
STATUS:CONFIRMED
SUMMARY:ROLL PLAYERS vs WHARF RATS
URL:/League/Schedule/3071
DESCRIPTION:Regular Season match: ROLL PLAYERS vs WHARF RATS
LOCATION:Martinez Court 7
END:VEVENT
BEGIN:VEVENT
DTSTAMP:20260419T000000Z
UID:af142c29-8ca0-4700-9ce5-d51d8c731ae6@ClaytonBocce
DTSTART;TZID=America/Los_Angeles:20260625T183000
DTEND;TZID=America/Los_Angeles:20260625T210000
STATUS:CONFIRMED
SUMMARY:ROLL PLAYERS vs SALUTI
URL:/League/Schedule/3071
DESCRIPTION:Regular Season match: ROLL PLAYERS vs SALUTI
LOCATION:Martinez Court 12
END:VEVENT
BEGIN:VEVENT
DTSTAMP:20260419T000000Z
UID:76c5dff4-a51d-46a7-9b7f-23aeb70f0cf5@ClaytonBocce
DTSTART;TZID=America/Los_Angeles:20260709T183000
DTEND;TZID=America/Los_Angeles:20260709T210000
STATUS:CONFIRMED
SUMMARY:ROLL PLAYERS vs WATCH ME BOCCE
URL:/League/Schedule/3071
DESCRIPTION:Regular Season match: ROLL PLAYERS vs WATCH ME B
 OCCE
LOCATION:Martinez Court 5
END:VEVENT
BEGIN:VEVENT
DTSTAMP:20260419T000000Z
UID:5e9bcbd6-9cec-4220-8dc8-885490dbb405@ClaytonBocce
DTSTART;TZID=America/Los_Angeles:20260716T183000
DTEND;TZID=America/Los_Angeles:20260716T210000
STATUS:CONFIRMED
SUMMARY:ROLL PLAYERS vs BALLS DEEP
URL:/League/Schedule/3071
DESCRIPTION:Regular Season match: ROLL PLAYERS vs BALLS DEEP
LOCATION:Martinez Court 2
END:VEVENT
BEGIN:VEVENT
DTSTAMP:20260419T000000Z
UID:01314299-9402-4bf3-b241-cef72d2d1253@ClaytonBocce
DTSTART;TZID=America/Los_Angeles:20260723T183000
DTEND;TZID=America/Los_Angeles:20260723T210000
STATUS:CONFIRMED
SUMMARY:ROLL PLAYERS vs THE BALL SPLITTERS
URL:/League/Schedule/3071
DESCRIPTION:Regular Season match: ROLL PLAYERS vs THE BALL S
 PLITTERS
LOCATION:Martinez Court 4
END:VEVENT
BEGIN:VEVENT
DTSTAMP:20260419T000000Z
UID:c051d184-09b7-41d0-8509-9a998bec63d4@ClaytonBocce
DTSTART;TZID=America/Los_Angeles:20260806T183000
DTEND;TZID=America/Los_Angeles:20260806T210000
STATUS:CONFIRMED
SUMMARY:ROLL PLAYERS vs N.u.T.S.
URL:/League/Schedule/3071
DESCRIPTION:Regular Season match: ROLL PLAYERS vs N.u.T.S.
LOCATION:Martinez Court 6
END:VEVENT
BEGIN:VEVENT
DTSTAMP:20260419T000000Z
UID:e891cab4-fcc9-4dce-b90b-cd3073ac49f6@ClaytonBocce
DTSTART;TZID=America/Los_Angeles:20260813T183000
DTEND;TZID=America/Los_Angeles:20260813T210000
STATUS:CONFIRMED
SUMMARY:ROLL PLAYERS vs WHARF RATS
URL:/League/Schedule/3071
DESCRIPTION:Regular Season match: ROLL PLAYERS vs WHARF RATS
LOCATION:Martinez Court 8
END:VEVENT
BEGIN:VEVENT
DTSTAMP:20260419T000000Z
UID:9279bcf9-a31f-4a44-9261-cfc16a194803@ClaytonBocce
DTSTART;TZID=America/Los_Angeles:20260820T183000
DTEND;TZID=America/Los_Angeles:20260820T210000
STATUS:CONFIRMED
SUMMARY:ROLL PLAYERS vs SALUTI
URL:/League/Schedule/3071
DESCRIPTION:Regular Season match: ROLL PLAYERS vs SALUTI
LOCATION:Martinez Court 11
END:VEVENT
BEGIN:VEVENT
DTSTAMP:20260419T000000Z
UID:84a68011-ff63-4b42-9fc9-a3a31937bcf5@ClaytonBocce
DTSTART;TZID=America/Los_Angeles:20260827T183000
DTEND;TZID=America/Los_Angeles:20260827T210000
STATUS:CONFIRMED
SUMMARY:ROLL PLAYERS vs WATCH ME BOCCE
URL:/League/Schedule/3071
DESCRIPTION:Regular Season match: ROLL PLAYERS vs WATCH ME B
 OCCE
LOCATION:Martinez Court 1
END:VEVENT
BEGIN:VEVENT
DTSTAMP:20260419T000000Z
UID:f987ddfa-82ec-4639-aa7a-16e9f2a135e9@ClaytonBocce
DTSTART;TZID=America/Los_Angeles:20260903T183000
DTEND;TZID=America/Los_Angeles:20260903T210000
STATUS:CONFIRMED
SUMMARY:ROLL PLAYERS vs BALLS DEEP
URL:/League/Schedule/3071
DESCRIPTION:Regular Season match: ROLL PLAYERS vs BALLS DEEP
LOCATION:Martinez Court 9
END:VEVENT
BEGIN:VEVENT
DTSTAMP:20260419T000000Z
UID:bc0e1039-46bd-4e9e-927f-919f8aa66854@ClaytonBocce
DTSTART;TZID=America/Los_Angeles:20260910T183000
DTEND;TZID=America/Los_Angeles:20260910T210000
STATUS:CONFIRMED
SUMMARY:ROLL PLAYERS vs THE BALL SPLITTERS
URL:/League/Schedule/3071
DESCRIPTION:Regular Season match: ROLL PLAYERS vs THE BALL S
 PLITTERS
LOCATION:Martinez Court 12
END:VEVENT
END:VCALENDAR
