BEGIN:VCALENDAR
VERSION:2.0
PRODID:-//Clayton Bocce League
METHOD:PUBLISH
BEGIN:VTIMEZONE
TZID:America/Los_Angeles
X-LIC-LOCATION:America/Los_Angeles
BEGIN:DAYLIGHT
TZOFFSETFROM:-0800
TZOFFSETTO:-0700
TZNAME:PDT
DTSTART:20070311T020000
RRULE:FREQ=YEARLY;BYMONTH=3;BYDAY=2SU
END:DAYLIGHT
BEGIN:STANDARD
TZOFFSETFROM:-0700
TZOFFSETTO:-0800
TZNAME:PST
DTSTART:20071104T020000
RRULE:FREQ=YEARLY;BYMONTH=11;BYDAY=1SU
END:STANDARD
END:VTIMEZONE
BEGIN:VEVENT
DTSTAMP:20260419T000000Z
UID:d96d8d52-a6ee-4b6b-9c74-d98a01a48443@ClaytonBocce
DTSTART;TZID=America/Los_Angeles:20260429T183000
DTEND;TZID=America/Los_Angeles:20260429T210000
STATUS:CONFIRMED
SUMMARY:REBELS WITH BALLS vs DON'T STOP BALLIEVING
URL:/League/Schedule/3042
DESCRIPTION:Regular Season match: REBELS WITH BALLS vs DON'T
  STOP BALLIEVING
LOCATION:Martinez Court 5
END:VEVENT
BEGIN:VEVENT
DTSTAMP:20260419T000000Z
UID:1527842b-a34a-45d9-ae86-a59b76517e1d@ClaytonBocce
DTSTART;TZID=America/Los_Angeles:20260506T183000
DTEND;TZID=America/Los_Angeles:20260506T210000
STATUS:CONFIRMED
SUMMARY:REBELS WITH BALLS vs WHATZA MADDA U
URL:/League/Schedule/3042
DESCRIPTION:Regular Season match: REBELS WITH BALLS vs WHATZ
 A MADDA U
LOCATION:Martinez Court 10
END:VEVENT
BEGIN:VEVENT
DTSTAMP:20260419T000000Z
UID:559389ed-c087-400f-a0e3-3cbe4911240e@ClaytonBocce
DTSTART;TZID=America/Los_Angeles:20260513T183000
DTEND;TZID=America/Los_Angeles:20260513T210000
STATUS:CONFIRMED
SUMMARY:REBELS WITH BALLS vs SLOW and EASY
URL:/League/Schedule/3042
DESCRIPTION:Regular Season match: REBELS WITH BALLS vs SLOW 
 and EASY
LOCATION:Martinez Court 13
END:VEVENT
BEGIN:VEVENT
DTSTAMP:20260419T000000Z
UID:72ffe119-4406-4788-92d5-ffbc0a773a36@ClaytonBocce
DTSTART;TZID=America/Los_Angeles:20260520T183000
DTEND;TZID=America/Los_Angeles:20260520T210000
STATUS:CONFIRMED
SUMMARY:REBELS WITH BALLS vs PARDON OUR Da BOCCARY
URL:/League/Schedule/3042
DESCRIPTION:Regular Season match: REBELS WITH BALLS vs PARDO
 N OUR Da BOCCARY
LOCATION:Martinez Court 2
END:VEVENT
BEGIN:VEVENT
DTSTAMP:20260419T000000Z
UID:f559be07-f4f0-41f2-aa2e-a3b0d239c3b6@ClaytonBocce
DTSTART;TZID=America/Los_Angeles:20260527T183000
DTEND;TZID=America/Los_Angeles:20260527T210000
STATUS:CONFIRMED
SUMMARY:REBELS WITH BALLS vs EASY ROLLERS
URL:/League/Schedule/3042
DESCRIPTION:Regular Season match: REBELS WITH BALLS vs EASY 
 ROLLERS
LOCATION:Martinez Court 1
END:VEVENT
BEGIN:VEVENT
DTSTAMP:20260419T000000Z
UID:633bda82-3605-42b4-b333-748c2e3c838b@ClaytonBocce
DTSTART;TZID=America/Los_Angeles:20260603T183000
DTEND;TZID=America/Los_Angeles:20260603T210000
STATUS:CONFIRMED
SUMMARY:REBELS WITH BALLS vs BALLZ IN HAND
URL:/League/Schedule/3042
DESCRIPTION:Regular Season match: REBELS WITH BALLS vs BALLZ
  IN HAND
LOCATION:Martinez Court 8
END:VEVENT
BEGIN:VEVENT
DTSTAMP:20260419T000000Z
UID:7b0f0d7e-f73a-4d1d-bb21-70338d5f48f8@ClaytonBocce
DTSTART;TZID=America/Los_Angeles:20260617T183000
DTEND;TZID=America/Los_Angeles:20260617T210000
STATUS:CONFIRMED
SUMMARY:REBELS WITH BALLS vs DON'T STOP BALLIEVING
URL:/League/Schedule/3042
DESCRIPTION:Regular Season match: REBELS WITH BALLS vs DON'T
  STOP BALLIEVING
LOCATION:Martinez Court 9
END:VEVENT
BEGIN:VEVENT
DTSTAMP:20260419T000000Z
UID:d0771e76-1a6f-4b96-bb74-7fa9b4217d55@ClaytonBocce
DTSTART;TZID=America/Los_Angeles:20260624T183000
DTEND;TZID=America/Los_Angeles:20260624T210000
STATUS:CONFIRMED
SUMMARY:REBELS WITH BALLS vs WHATZA MADDA U
URL:/League/Schedule/3042
DESCRIPTION:Regular Season match: REBELS WITH BALLS vs WHATZ
 A MADDA U
LOCATION:Martinez Court 3
END:VEVENT
BEGIN:VEVENT
DTSTAMP:20260419T000000Z
UID:df297c34-9892-4034-aef2-7a616c3e6c21@ClaytonBocce
DTSTART;TZID=America/Los_Angeles:20260708T183000
DTEND;TZID=America/Los_Angeles:20260708T210000
STATUS:CONFIRMED
SUMMARY:REBELS WITH BALLS vs SLOW and EASY
URL:/League/Schedule/3042
DESCRIPTION:Regular Season match: REBELS WITH BALLS vs SLOW 
 and EASY
LOCATION:Martinez Court 6
END:VEVENT
BEGIN:VEVENT
DTSTAMP:20260419T000000Z
UID:ad9cb914-237c-4b27-94bb-b9feba83d39a@ClaytonBocce
DTSTART;TZID=America/Los_Angeles:20260715T183000
DTEND;TZID=America/Los_Angeles:20260715T210000
STATUS:CONFIRMED
SUMMARY:REBELS WITH BALLS vs PARDON OUR Da BOCCARY
URL:/League/Schedule/3042
DESCRIPTION:Regular Season match: REBELS WITH BALLS vs PARDO
 N OUR Da BOCCARY
LOCATION:Martinez Court 7
END:VEVENT
BEGIN:VEVENT
DTSTAMP:20260419T000000Z
UID:19363943-2bdb-462d-9edc-9394fb7d5adc@ClaytonBocce
DTSTART;TZID=America/Los_Angeles:20260722T183000
DTEND;TZID=America/Los_Angeles:20260722T210000
STATUS:CONFIRMED
SUMMARY:REBELS WITH BALLS vs EASY ROLLERS
URL:/League/Schedule/3042
DESCRIPTION:Regular Season match: REBELS WITH BALLS vs EASY 
 ROLLERS
LOCATION:Martinez Court 4
END:VEVENT
BEGIN:VEVENT
DTSTAMP:20260419T000000Z
UID:6d4edfe3-e54b-48f4-803d-f1b753766d18@ClaytonBocce
DTSTART;TZID=America/Los_Angeles:20260729T183000
DTEND;TZID=America/Los_Angeles:20260729T210000
STATUS:CONFIRMED
SUMMARY:REBELS WITH BALLS vs BALLZ IN HAND
URL:/League/Schedule/3042
DESCRIPTION:Regular Season match: REBELS WITH BALLS vs BALLZ
  IN HAND
LOCATION:Martinez Court 11
END:VEVENT
BEGIN:VEVENT
DTSTAMP:20260419T000000Z
UID:88664c3e-24e9-4bf9-94f5-b0801cc213e7@ClaytonBocce
DTSTART;TZID=America/Los_Angeles:20260812T183000
DTEND;TZID=America/Los_Angeles:20260812T210000
STATUS:CONFIRMED
SUMMARY:REBELS WITH BALLS vs DON'T STOP BALLIEVING
URL:/League/Schedule/3042
DESCRIPTION:Regular Season match: REBELS WITH BALLS vs DON'T
  STOP BALLIEVING
LOCATION:Martinez Court 14
END:VEVENT
BEGIN:VEVENT
DTSTAMP:20260419T000000Z
UID:d159cf45-e62f-4c9b-9ddc-c29590002292@ClaytonBocce
DTSTART;TZID=America/Los_Angeles:20260819T183000
DTEND;TZID=America/Los_Angeles:20260819T210000
STATUS:CONFIRMED
SUMMARY:REBELS WITH BALLS vs WHATZA MADDA U
URL:/League/Schedule/3042
DESCRIPTION:Regular Season match: REBELS WITH BALLS vs WHATZ
 A MADDA U
LOCATION:Martinez Court 8
END:VEVENT
BEGIN:VEVENT
DTSTAMP:20260419T000000Z
UID:3cb21af5-5060-49af-8df5-2c5847052077@ClaytonBocce
DTSTART;TZID=America/Los_Angeles:20260826T183000
DTEND;TZID=America/Los_Angeles:20260826T210000
STATUS:CONFIRMED
SUMMARY:REBELS WITH BALLS vs SLOW and EASY
URL:/League/Schedule/3042
DESCRIPTION:Regular Season match: REBELS WITH BALLS vs SLOW 
 and EASY
LOCATION:Martinez Court 4
END:VEVENT
BEGIN:VEVENT
DTSTAMP:20260419T000000Z
UID:b2778bcc-3c29-4022-bed7-15d2b67260e4@ClaytonBocce
DTSTART;TZID=America/Los_Angeles:20260902T183000
DTEND;TZID=America/Los_Angeles:20260902T210000
STATUS:CONFIRMED
SUMMARY:REBELS WITH BALLS vs PARDON OUR Da BOCCARY
URL:/League/Schedule/3042
DESCRIPTION:Regular Season match: REBELS WITH BALLS vs PARDO
 N OUR Da BOCCARY
LOCATION:Martinez Court 15
END:VEVENT
BEGIN:VEVENT
DTSTAMP:20260419T000000Z
UID:ea4ad5d8-e997-4f9b-a463-368aac1643c5@ClaytonBocce
DTSTART;TZID=America/Los_Angeles:20260909T183000
DTEND;TZID=America/Los_Angeles:20260909T210000
STATUS:CONFIRMED
SUMMARY:REBELS WITH BALLS vs EASY ROLLERS
URL:/League/Schedule/3042
DESCRIPTION:Regular Season match: REBELS WITH BALLS vs EASY 
 ROLLERS
LOCATION:Martinez Court 12
END:VEVENT
BEGIN:VEVENT
DTSTAMP:20260419T000000Z
UID:4884afef-3210-4d15-8a99-1de12300030c@ClaytonBocce
DTSTART;TZID=America/Los_Angeles:20260916T183000
DTEND;TZID=America/Los_Angeles:20260916T210000
STATUS:CONFIRMED
SUMMARY:REBELS WITH BALLS vs BALLZ IN HAND
URL:/League/Schedule/3042
DESCRIPTION:Regular Season match: REBELS WITH BALLS vs BALLZ
  IN HAND
LOCATION:Martinez Court 2
END:VEVENT
END:VCALENDAR
