BEGIN:VCALENDAR
VERSION:2.0
PRODID:-//Clayton Bocce League
METHOD:PUBLISH
BEGIN:VTIMEZONE
TZID:America/Los_Angeles
X-LIC-LOCATION:America/Los_Angeles
BEGIN:DAYLIGHT
TZOFFSETFROM:-0800
TZOFFSETTO:-0700
TZNAME:PDT
DTSTART:20070311T020000
RRULE:FREQ=YEARLY;BYMONTH=3;BYDAY=2SU
END:DAYLIGHT
BEGIN:STANDARD
TZOFFSETFROM:-0700
TZOFFSETTO:-0800
TZNAME:PST
DTSTART:20071104T020000
RRULE:FREQ=YEARLY;BYMONTH=11;BYDAY=1SU
END:STANDARD
END:VTIMEZONE
BEGIN:VEVENT
DTSTAMP:20260419T000000Z
UID:c449d6f9-250c-4447-a070-1122c72348b6@ClaytonBocce
DTSTART;TZID=America/Los_Angeles:20260422T183000
DTEND;TZID=America/Los_Angeles:20260422T210000
STATUS:CONFIRMED
SUMMARY:SLOW and EASY vs BALLZ IN HAND
URL:/League/Schedule/3037
DESCRIPTION:Regular Season match: SLOW and EASY vs BALLZ IN 
 HAND
LOCATION:Martinez Court 14
END:VEVENT
BEGIN:VEVENT
DTSTAMP:20260419T000000Z
UID:9c0b261f-631d-41d2-959e-f7454c9fe76b@ClaytonBocce
DTSTART;TZID=America/Los_Angeles:20260429T183000
DTEND;TZID=America/Los_Angeles:20260429T210000
STATUS:CONFIRMED
SUMMARY:SLOW and EASY vs WHATZA MADDA U
URL:/League/Schedule/3037
DESCRIPTION:Regular Season match: SLOW and EASY vs WHATZA MA
 DDA U
LOCATION:Martinez Court 4
END:VEVENT
BEGIN:VEVENT
DTSTAMP:20260419T000000Z
UID:280b069c-3294-433c-9203-ec8bcd5de020@ClaytonBocce
DTSTART;TZID=America/Los_Angeles:20260506T183000
DTEND;TZID=America/Los_Angeles:20260506T210000
STATUS:CONFIRMED
SUMMARY:SLOW and EASY vs PARDON OUR Da BOCCARY
URL:/League/Schedule/3037
DESCRIPTION:Regular Season match: SLOW and EASY vs PARDON OU
 R Da BOCCARY
LOCATION:Martinez Court 9
END:VEVENT
BEGIN:VEVENT
DTSTAMP:20260419T000000Z
UID:559389ed-c087-400f-a0e3-3cbe4911240e@ClaytonBocce
DTSTART;TZID=America/Los_Angeles:20260513T183000
DTEND;TZID=America/Los_Angeles:20260513T210000
STATUS:CONFIRMED
SUMMARY:SLOW and EASY vs REBELS WITH BALLS
URL:/League/Schedule/3037
DESCRIPTION:Regular Season match: SLOW and EASY vs REBELS WI
 TH BALLS
LOCATION:Martinez Court 13
END:VEVENT
BEGIN:VEVENT
DTSTAMP:20260419T000000Z
UID:a7019554-d50a-4f8d-a9d6-5d45486ce72c@ClaytonBocce
DTSTART;TZID=America/Los_Angeles:20260520T183000
DTEND;TZID=America/Los_Angeles:20260520T210000
STATUS:CONFIRMED
SUMMARY:SLOW and EASY vs EASY ROLLERS
URL:/League/Schedule/3037
DESCRIPTION:Regular Season match: SLOW and EASY vs EASY ROLL
 ERS
LOCATION:Martinez Court 15
END:VEVENT
BEGIN:VEVENT
DTSTAMP:20260419T000000Z
UID:3a8d7913-fb0a-427f-9a28-c01f4702d238@ClaytonBocce
DTSTART;TZID=America/Los_Angeles:20260603T183000
DTEND;TZID=America/Los_Angeles:20260603T210000
STATUS:CONFIRMED
SUMMARY:SLOW and EASY vs DON'T STOP BALLIEVING
URL:/League/Schedule/3037
DESCRIPTION:Regular Season match: SLOW and EASY vs DON'T STO
 P BALLIEVING
LOCATION:Martinez Court 7
END:VEVENT
BEGIN:VEVENT
DTSTAMP:20260419T000000Z
UID:99785331-bc27-404f-b9b9-b692ad2d94df@ClaytonBocce
DTSTART;TZID=America/Los_Angeles:20260610T183000
DTEND;TZID=America/Los_Angeles:20260610T210000
STATUS:CONFIRMED
SUMMARY:SLOW and EASY vs BALLZ IN HAND
URL:/League/Schedule/3037
DESCRIPTION:Regular Season match: SLOW and EASY vs BALLZ IN 
 HAND
LOCATION:Martinez Court 15
END:VEVENT
BEGIN:VEVENT
DTSTAMP:20260419T000000Z
UID:c2aa1c69-fa60-4565-9e12-5c4c993b24ad@ClaytonBocce
DTSTART;TZID=America/Los_Angeles:20260617T183000
DTEND;TZID=America/Los_Angeles:20260617T210000
STATUS:CONFIRMED
SUMMARY:SLOW and EASY vs WHATZA MADDA U
URL:/League/Schedule/3037
DESCRIPTION:Regular Season match: SLOW and EASY vs WHATZA MA
 DDA U
LOCATION:Martinez Court 8
END:VEVENT
BEGIN:VEVENT
DTSTAMP:20260419T000000Z
UID:afbae124-ddb9-475c-a8f8-7b05de01c95a@ClaytonBocce
DTSTART;TZID=America/Los_Angeles:20260624T183000
DTEND;TZID=America/Los_Angeles:20260624T210000
STATUS:CONFIRMED
SUMMARY:SLOW and EASY vs PARDON OUR Da BOCCARY
URL:/League/Schedule/3037
DESCRIPTION:Regular Season match: SLOW and EASY vs PARDON OU
 R Da BOCCARY
LOCATION:Martinez Court 1
END:VEVENT
BEGIN:VEVENT
DTSTAMP:20260419T000000Z
UID:df297c34-9892-4034-aef2-7a616c3e6c21@ClaytonBocce
DTSTART;TZID=America/Los_Angeles:20260708T183000
DTEND;TZID=America/Los_Angeles:20260708T210000
STATUS:CONFIRMED
SUMMARY:SLOW and EASY vs REBELS WITH BALLS
URL:/League/Schedule/3037
DESCRIPTION:Regular Season match: SLOW and EASY vs REBELS WI
 TH BALLS
LOCATION:Martinez Court 6
END:VEVENT
BEGIN:VEVENT
DTSTAMP:20260419T000000Z
UID:ceca6af5-dba3-437a-afcd-b2a1cff6a6dc@ClaytonBocce
DTSTART;TZID=America/Los_Angeles:20260715T183000
DTEND;TZID=America/Los_Angeles:20260715T210000
STATUS:CONFIRMED
SUMMARY:SLOW and EASY vs EASY ROLLERS
URL:/League/Schedule/3037
DESCRIPTION:Regular Season match: SLOW and EASY vs EASY ROLL
 ERS
LOCATION:Martinez Court 2
END:VEVENT
BEGIN:VEVENT
DTSTAMP:20260419T000000Z
UID:16ade35a-90bd-4ad2-8f84-08f094553834@ClaytonBocce
DTSTART;TZID=America/Los_Angeles:20260729T183000
DTEND;TZID=America/Los_Angeles:20260729T210000
STATUS:CONFIRMED
SUMMARY:SLOW and EASY vs DON'T STOP BALLIEVING
URL:/League/Schedule/3037
DESCRIPTION:Regular Season match: SLOW and EASY vs DON'T STO
 P BALLIEVING
LOCATION:Martinez Court 10
END:VEVENT
BEGIN:VEVENT
DTSTAMP:20260419T000000Z
UID:b2ed7e90-497b-4a5a-975c-3e9b01373386@ClaytonBocce
DTSTART;TZID=America/Los_Angeles:20260805T183000
DTEND;TZID=America/Los_Angeles:20260805T210000
STATUS:CONFIRMED
SUMMARY:SLOW and EASY vs BALLZ IN HAND
URL:/League/Schedule/3037
DESCRIPTION:Regular Season match: SLOW and EASY vs BALLZ IN 
 HAND
LOCATION:Martinez Court 5
END:VEVENT
BEGIN:VEVENT
DTSTAMP:20260419T000000Z
UID:0c286cd4-07b5-42ca-aec6-eb906d151220@ClaytonBocce
DTSTART;TZID=America/Los_Angeles:20260812T183000
DTEND;TZID=America/Los_Angeles:20260812T210000
STATUS:CONFIRMED
SUMMARY:SLOW and EASY vs WHATZA MADDA U
URL:/League/Schedule/3037
DESCRIPTION:Regular Season match: SLOW and EASY vs WHATZA MA
 DDA U
LOCATION:Martinez Court 11
END:VEVENT
BEGIN:VEVENT
DTSTAMP:20260419T000000Z
UID:1411c4f6-3d01-4fd6-a391-66c886d18044@ClaytonBocce
DTSTART;TZID=America/Los_Angeles:20260819T183000
DTEND;TZID=America/Los_Angeles:20260819T210000
STATUS:CONFIRMED
SUMMARY:SLOW and EASY vs PARDON OUR Da BOCCARY
URL:/League/Schedule/3037
DESCRIPTION:Regular Season match: SLOW and EASY vs PARDON OU
 R Da BOCCARY
LOCATION:Martinez Court 1
END:VEVENT
BEGIN:VEVENT
DTSTAMP:20260419T000000Z
UID:3cb21af5-5060-49af-8df5-2c5847052077@ClaytonBocce
DTSTART;TZID=America/Los_Angeles:20260826T183000
DTEND;TZID=America/Los_Angeles:20260826T210000
STATUS:CONFIRMED
SUMMARY:SLOW and EASY vs REBELS WITH BALLS
URL:/League/Schedule/3037
DESCRIPTION:Regular Season match: SLOW and EASY vs REBELS WI
 TH BALLS
LOCATION:Martinez Court 4
END:VEVENT
BEGIN:VEVENT
DTSTAMP:20260419T000000Z
UID:ecefec0f-4a56-484a-8c05-0988508975bc@ClaytonBocce
DTSTART;TZID=America/Los_Angeles:20260902T183000
DTEND;TZID=America/Los_Angeles:20260902T210000
STATUS:CONFIRMED
SUMMARY:SLOW and EASY vs EASY ROLLERS
URL:/League/Schedule/3037
DESCRIPTION:Regular Season match: SLOW and EASY vs EASY ROLL
 ERS
LOCATION:Martinez Court 9
END:VEVENT
BEGIN:VEVENT
DTSTAMP:20260419T000000Z
UID:799b800d-d4e1-460d-9540-3e82d97a58bd@ClaytonBocce
DTSTART;TZID=America/Los_Angeles:20260916T183000
DTEND;TZID=America/Los_Angeles:20260916T210000
STATUS:CONFIRMED
SUMMARY:SLOW and EASY vs DON'T STOP BALLIEVING
URL:/League/Schedule/3037
DESCRIPTION:Regular Season match: SLOW and EASY vs DON'T STO
 P BALLIEVING
LOCATION:Martinez Court 12
END:VEVENT
END:VCALENDAR
