BEGIN:VCALENDAR
VERSION:2.0
PRODID:-//Clayton Bocce League
METHOD:PUBLISH
BEGIN:VTIMEZONE
TZID:America/Los_Angeles
X-LIC-LOCATION:America/Los_Angeles
BEGIN:DAYLIGHT
TZOFFSETFROM:-0800
TZOFFSETTO:-0700
TZNAME:PDT
DTSTART:20070311T020000
RRULE:FREQ=YEARLY;BYMONTH=3;BYDAY=2SU
END:DAYLIGHT
BEGIN:STANDARD
TZOFFSETFROM:-0700
TZOFFSETTO:-0800
TZNAME:PST
DTSTART:20071104T020000
RRULE:FREQ=YEARLY;BYMONTH=11;BYDAY=1SU
END:STANDARD
END:VTIMEZONE
BEGIN:VEVENT
DTSTAMP:20260419T000000Z
UID:c449d6f9-250c-4447-a070-1122c72348b6@ClaytonBocce
DTSTART;TZID=America/Los_Angeles:20260422T183000
DTEND;TZID=America/Los_Angeles:20260422T210000
STATUS:CONFIRMED
SUMMARY:BALLZ IN HAND vs SLOW and EASY
URL:/League/Schedule/3040
DESCRIPTION:Regular Season match: BALLZ IN HAND vs SLOW and 
 EASY
LOCATION:Martinez Court 14
END:VEVENT
BEGIN:VEVENT
DTSTAMP:20260419T000000Z
UID:beb8e860-afb4-4e10-9670-78917214e35e@ClaytonBocce
DTSTART;TZID=America/Los_Angeles:20260429T183000
DTEND;TZID=America/Los_Angeles:20260429T210000
STATUS:CONFIRMED
SUMMARY:BALLZ IN HAND vs EASY ROLLERS
URL:/League/Schedule/3040
DESCRIPTION:Regular Season match: BALLZ IN HAND vs EASY ROLL
 ERS
LOCATION:Martinez Court 3
END:VEVENT
BEGIN:VEVENT
DTSTAMP:20260419T000000Z
UID:f4ce08a6-9c00-4c75-9ed5-070db131cc44@ClaytonBocce
DTSTART;TZID=America/Los_Angeles:20260513T183000
DTEND;TZID=America/Los_Angeles:20260513T210000
STATUS:CONFIRMED
SUMMARY:BALLZ IN HAND vs PARDON OUR Da BOCCARY
URL:/League/Schedule/3040
DESCRIPTION:Regular Season match: BALLZ IN HAND vs PARDON OU
 R Da BOCCARY
LOCATION:Martinez Court 11
END:VEVENT
BEGIN:VEVENT
DTSTAMP:20260419T000000Z
UID:5b83c2b4-fb47-488b-ae0c-11a577540bac@ClaytonBocce
DTSTART;TZID=America/Los_Angeles:20260520T183000
DTEND;TZID=America/Los_Angeles:20260520T210000
STATUS:CONFIRMED
SUMMARY:BALLZ IN HAND vs DON'T STOP BALLIEVING
URL:/League/Schedule/3040
DESCRIPTION:Regular Season match: BALLZ IN HAND vs DON'T STO
 P BALLIEVING
LOCATION:Martinez Court 1
END:VEVENT
BEGIN:VEVENT
DTSTAMP:20260419T000000Z
UID:dae329fd-4965-4427-abc3-2c53adad034b@ClaytonBocce
DTSTART;TZID=America/Los_Angeles:20260527T183000
DTEND;TZID=America/Los_Angeles:20260527T210000
STATUS:CONFIRMED
SUMMARY:BALLZ IN HAND vs WHATZA MADDA U
URL:/League/Schedule/3040
DESCRIPTION:Regular Season match: BALLZ IN HAND vs WHATZA MA
 DDA U
LOCATION:Martinez Court 2
END:VEVENT
BEGIN:VEVENT
DTSTAMP:20260419T000000Z
UID:633bda82-3605-42b4-b333-748c2e3c838b@ClaytonBocce
DTSTART;TZID=America/Los_Angeles:20260603T183000
DTEND;TZID=America/Los_Angeles:20260603T210000
STATUS:CONFIRMED
SUMMARY:BALLZ IN HAND vs REBELS WITH BALLS
URL:/League/Schedule/3040
DESCRIPTION:Regular Season match: BALLZ IN HAND vs REBELS WI
 TH BALLS
LOCATION:Martinez Court 8
END:VEVENT
BEGIN:VEVENT
DTSTAMP:20260419T000000Z
UID:99785331-bc27-404f-b9b9-b692ad2d94df@ClaytonBocce
DTSTART;TZID=America/Los_Angeles:20260610T183000
DTEND;TZID=America/Los_Angeles:20260610T210000
STATUS:CONFIRMED
SUMMARY:BALLZ IN HAND vs SLOW and EASY
URL:/League/Schedule/3040
DESCRIPTION:Regular Season match: BALLZ IN HAND vs SLOW and 
 EASY
LOCATION:Martinez Court 15
END:VEVENT
BEGIN:VEVENT
DTSTAMP:20260419T000000Z
UID:751206ef-b2b0-43f6-a796-38e5993b1e1b@ClaytonBocce
DTSTART;TZID=America/Los_Angeles:20260617T183000
DTEND;TZID=America/Los_Angeles:20260617T210000
STATUS:CONFIRMED
SUMMARY:BALLZ IN HAND vs EASY ROLLERS
URL:/League/Schedule/3040
DESCRIPTION:Regular Season match: BALLZ IN HAND vs EASY ROLL
 ERS
LOCATION:Martinez Court 7
END:VEVENT
BEGIN:VEVENT
DTSTAMP:20260419T000000Z
UID:0b68f72b-b2dd-46d1-951b-d22a226342ca@ClaytonBocce
DTSTART;TZID=America/Los_Angeles:20260708T183000
DTEND;TZID=America/Los_Angeles:20260708T210000
STATUS:CONFIRMED
SUMMARY:BALLZ IN HAND vs PARDON OUR Da BOCCARY
URL:/League/Schedule/3040
DESCRIPTION:Regular Season match: BALLZ IN HAND vs PARDON OU
 R Da BOCCARY
LOCATION:Martinez Court 4
END:VEVENT
BEGIN:VEVENT
DTSTAMP:20260419T000000Z
UID:81ad8324-390e-45e8-8fd0-fb3b35da1f04@ClaytonBocce
DTSTART;TZID=America/Los_Angeles:20260715T183000
DTEND;TZID=America/Los_Angeles:20260715T210000
STATUS:CONFIRMED
SUMMARY:BALLZ IN HAND vs DON'T STOP BALLIEVING
URL:/League/Schedule/3040
DESCRIPTION:Regular Season match: BALLZ IN HAND vs DON'T STO
 P BALLIEVING
LOCATION:Martinez Court 6
END:VEVENT
BEGIN:VEVENT
DTSTAMP:20260419T000000Z
UID:737cb951-854a-46c3-b9ca-48fd5f359114@ClaytonBocce
DTSTART;TZID=America/Los_Angeles:20260722T183000
DTEND;TZID=America/Los_Angeles:20260722T210000
STATUS:CONFIRMED
SUMMARY:BALLZ IN HAND vs WHATZA MADDA U
URL:/League/Schedule/3040
DESCRIPTION:Regular Season match: BALLZ IN HAND vs WHATZA MA
 DDA U
LOCATION:Martinez Court 9
END:VEVENT
BEGIN:VEVENT
DTSTAMP:20260419T000000Z
UID:6d4edfe3-e54b-48f4-803d-f1b753766d18@ClaytonBocce
DTSTART;TZID=America/Los_Angeles:20260729T183000
DTEND;TZID=America/Los_Angeles:20260729T210000
STATUS:CONFIRMED
SUMMARY:BALLZ IN HAND vs REBELS WITH BALLS
URL:/League/Schedule/3040
DESCRIPTION:Regular Season match: BALLZ IN HAND vs REBELS WI
 TH BALLS
LOCATION:Martinez Court 11
END:VEVENT
BEGIN:VEVENT
DTSTAMP:20260419T000000Z
UID:b2ed7e90-497b-4a5a-975c-3e9b01373386@ClaytonBocce
DTSTART;TZID=America/Los_Angeles:20260805T183000
DTEND;TZID=America/Los_Angeles:20260805T210000
STATUS:CONFIRMED
SUMMARY:BALLZ IN HAND vs SLOW and EASY
URL:/League/Schedule/3040
DESCRIPTION:Regular Season match: BALLZ IN HAND vs SLOW and 
 EASY
LOCATION:Martinez Court 5
END:VEVENT
BEGIN:VEVENT
DTSTAMP:20260419T000000Z
UID:a1efb919-7730-4369-bcdc-e827515c71a3@ClaytonBocce
DTSTART;TZID=America/Los_Angeles:20260812T183000
DTEND;TZID=America/Los_Angeles:20260812T210000
STATUS:CONFIRMED
SUMMARY:BALLZ IN HAND vs EASY ROLLERS
URL:/League/Schedule/3040
DESCRIPTION:Regular Season match: BALLZ IN HAND vs EASY ROLL
 ERS
LOCATION:Martinez Court 8
END:VEVENT
BEGIN:VEVENT
DTSTAMP:20260419T000000Z
UID:f4b792eb-d94e-473c-8d23-3a1c15eb2331@ClaytonBocce
DTSTART;TZID=America/Los_Angeles:20260826T183000
DTEND;TZID=America/Los_Angeles:20260826T210000
STATUS:CONFIRMED
SUMMARY:BALLZ IN HAND vs PARDON OUR Da BOCCARY
URL:/League/Schedule/3040
DESCRIPTION:Regular Season match: BALLZ IN HAND vs PARDON OU
 R Da BOCCARY
LOCATION:Martinez Court 10
END:VEVENT
BEGIN:VEVENT
DTSTAMP:20260419T000000Z
UID:83e68dc8-a6a2-4ce1-b3fc-c7555c34aacb@ClaytonBocce
DTSTART;TZID=America/Los_Angeles:20260902T183000
DTEND;TZID=America/Los_Angeles:20260902T210000
STATUS:CONFIRMED
SUMMARY:BALLZ IN HAND vs DON'T STOP BALLIEVING
URL:/League/Schedule/3040
DESCRIPTION:Regular Season match: BALLZ IN HAND vs DON'T STO
 P BALLIEVING
LOCATION:Martinez Court 13
END:VEVENT
BEGIN:VEVENT
DTSTAMP:20260419T000000Z
UID:0d5503a6-07b1-472a-9204-3e58d849a435@ClaytonBocce
DTSTART;TZID=America/Los_Angeles:20260909T183000
DTEND;TZID=America/Los_Angeles:20260909T210000
STATUS:CONFIRMED
SUMMARY:BALLZ IN HAND vs WHATZA MADDA U
URL:/League/Schedule/3040
DESCRIPTION:Regular Season match: BALLZ IN HAND vs WHATZA MA
 DDA U
LOCATION:Martinez Court 14
END:VEVENT
BEGIN:VEVENT
DTSTAMP:20260419T000000Z
UID:4884afef-3210-4d15-8a99-1de12300030c@ClaytonBocce
DTSTART;TZID=America/Los_Angeles:20260916T183000
DTEND;TZID=America/Los_Angeles:20260916T210000
STATUS:CONFIRMED
SUMMARY:BALLZ IN HAND vs REBELS WITH BALLS
URL:/League/Schedule/3040
DESCRIPTION:Regular Season match: BALLZ IN HAND vs REBELS WI
 TH BALLS
LOCATION:Martinez Court 2
END:VEVENT
END:VCALENDAR
