BEGIN:VCALENDAR
VERSION:2.0
PRODID:-//Clayton Bocce League
METHOD:PUBLISH
BEGIN:VTIMEZONE
TZID:America/Los_Angeles
X-LIC-LOCATION:America/Los_Angeles
BEGIN:DAYLIGHT
TZOFFSETFROM:-0800
TZOFFSETTO:-0700
TZNAME:PDT
DTSTART:20070311T020000
RRULE:FREQ=YEARLY;BYMONTH=3;BYDAY=2SU
END:DAYLIGHT
BEGIN:STANDARD
TZOFFSETFROM:-0700
TZOFFSETTO:-0800
TZNAME:PST
DTSTART:20071104T020000
RRULE:FREQ=YEARLY;BYMONTH=11;BYDAY=1SU
END:STANDARD
END:VTIMEZONE
BEGIN:VEVENT
DTSTAMP:20260419T000000Z
UID:0189c417-2dc4-4440-87cc-5837de88ffa2@ClaytonBocce
DTSTART;TZID=America/Los_Angeles:20260422T183000
DTEND;TZID=America/Los_Angeles:20260422T210000
STATUS:CONFIRMED
SUMMARY:DON'T STOP BALLIEVING vs WHATZA MADDA U
URL:/League/Schedule/3039
DESCRIPTION:Regular Season match: DON'T STOP BALLIEVING vs W
 HATZA MADDA U
LOCATION:Martinez Court 15
END:VEVENT
BEGIN:VEVENT
DTSTAMP:20260419T000000Z
UID:d96d8d52-a6ee-4b6b-9c74-d98a01a48443@ClaytonBocce
DTSTART;TZID=America/Los_Angeles:20260429T183000
DTEND;TZID=America/Los_Angeles:20260429T210000
STATUS:CONFIRMED
SUMMARY:DON'T STOP BALLIEVING vs REBELS WITH BALLS
URL:/League/Schedule/3039
DESCRIPTION:Regular Season match: DON'T STOP BALLIEVING vs R
 EBELS WITH BALLS
LOCATION:Martinez Court 5
END:VEVENT
BEGIN:VEVENT
DTSTAMP:20260419T000000Z
UID:7d57f1c9-8725-4baf-89c8-641161341ca0@ClaytonBocce
DTSTART;TZID=America/Los_Angeles:20260506T183000
DTEND;TZID=America/Los_Angeles:20260506T210000
STATUS:CONFIRMED
SUMMARY:DON'T STOP BALLIEVING vs EASY ROLLERS
URL:/League/Schedule/3039
DESCRIPTION:Regular Season match: DON'T STOP BALLIEVING vs E
 ASY ROLLERS
LOCATION:Martinez Court 8
END:VEVENT
BEGIN:VEVENT
DTSTAMP:20260419T000000Z
UID:5b83c2b4-fb47-488b-ae0c-11a577540bac@ClaytonBocce
DTSTART;TZID=America/Los_Angeles:20260520T183000
DTEND;TZID=America/Los_Angeles:20260520T210000
STATUS:CONFIRMED
SUMMARY:DON'T STOP BALLIEVING vs BALLZ IN HAND
URL:/League/Schedule/3039
DESCRIPTION:Regular Season match: DON'T STOP BALLIEVING vs B
 ALLZ IN HAND
LOCATION:Martinez Court 1
END:VEVENT
BEGIN:VEVENT
DTSTAMP:20260419T000000Z
UID:d6b5bf8e-ff5d-4597-8e87-b0184e9987c7@ClaytonBocce
DTSTART;TZID=America/Los_Angeles:20260527T183000
DTEND;TZID=America/Los_Angeles:20260527T210000
STATUS:CONFIRMED
SUMMARY:DON'T STOP BALLIEVING vs PARDON OUR Da BOCCARY
URL:/League/Schedule/3039
DESCRIPTION:Regular Season match: DON'T STOP BALLIEVING vs P
 ARDON OUR Da BOCCARY
LOCATION:Martinez Court 3
END:VEVENT
BEGIN:VEVENT
DTSTAMP:20260419T000000Z
UID:3a8d7913-fb0a-427f-9a28-c01f4702d238@ClaytonBocce
DTSTART;TZID=America/Los_Angeles:20260603T183000
DTEND;TZID=America/Los_Angeles:20260603T210000
STATUS:CONFIRMED
SUMMARY:DON'T STOP BALLIEVING vs SLOW and EASY
URL:/League/Schedule/3039
DESCRIPTION:Regular Season match: DON'T STOP BALLIEVING vs S
 LOW and EASY
LOCATION:Martinez Court 7
END:VEVENT
BEGIN:VEVENT
DTSTAMP:20260419T000000Z
UID:cbc23fee-7ac7-4614-acca-8b2abe16c6e5@ClaytonBocce
DTSTART;TZID=America/Los_Angeles:20260610T183000
DTEND;TZID=America/Los_Angeles:20260610T210000
STATUS:CONFIRMED
SUMMARY:DON'T STOP BALLIEVING vs WHATZA MADDA U
URL:/League/Schedule/3039
DESCRIPTION:Regular Season match: DON'T STOP BALLIEVING vs W
 HATZA MADDA U
LOCATION:Martinez Court 13
END:VEVENT
BEGIN:VEVENT
DTSTAMP:20260419T000000Z
UID:7b0f0d7e-f73a-4d1d-bb21-70338d5f48f8@ClaytonBocce
DTSTART;TZID=America/Los_Angeles:20260617T183000
DTEND;TZID=America/Los_Angeles:20260617T210000
STATUS:CONFIRMED
SUMMARY:DON'T STOP BALLIEVING vs REBELS WITH BALLS
URL:/League/Schedule/3039
DESCRIPTION:Regular Season match: DON'T STOP BALLIEVING vs R
 EBELS WITH BALLS
LOCATION:Martinez Court 9
END:VEVENT
BEGIN:VEVENT
DTSTAMP:20260419T000000Z
UID:ca3488ba-d768-4920-b57c-622310883591@ClaytonBocce
DTSTART;TZID=America/Los_Angeles:20260624T183000
DTEND;TZID=America/Los_Angeles:20260624T210000
STATUS:CONFIRMED
SUMMARY:DON'T STOP BALLIEVING vs EASY ROLLERS
URL:/League/Schedule/3039
DESCRIPTION:Regular Season match: DON'T STOP BALLIEVING vs E
 ASY ROLLERS
LOCATION:Martinez Court 12
END:VEVENT
BEGIN:VEVENT
DTSTAMP:20260419T000000Z
UID:81ad8324-390e-45e8-8fd0-fb3b35da1f04@ClaytonBocce
DTSTART;TZID=America/Los_Angeles:20260715T183000
DTEND;TZID=America/Los_Angeles:20260715T210000
STATUS:CONFIRMED
SUMMARY:DON'T STOP BALLIEVING vs BALLZ IN HAND
URL:/League/Schedule/3039
DESCRIPTION:Regular Season match: DON'T STOP BALLIEVING vs B
 ALLZ IN HAND
LOCATION:Martinez Court 6
END:VEVENT
BEGIN:VEVENT
DTSTAMP:20260419T000000Z
UID:4eda4038-d95b-4313-813e-1f0bc7aa7387@ClaytonBocce
DTSTART;TZID=America/Los_Angeles:20260722T183000
DTEND;TZID=America/Los_Angeles:20260722T210000
STATUS:CONFIRMED
SUMMARY:DON'T STOP BALLIEVING vs PARDON OUR Da BOCCARY
URL:/League/Schedule/3039
DESCRIPTION:Regular Season match: DON'T STOP BALLIEVING vs P
 ARDON OUR Da BOCCARY
LOCATION:Martinez Court 5
END:VEVENT
BEGIN:VEVENT
DTSTAMP:20260419T000000Z
UID:16ade35a-90bd-4ad2-8f84-08f094553834@ClaytonBocce
DTSTART;TZID=America/Los_Angeles:20260729T183000
DTEND;TZID=America/Los_Angeles:20260729T210000
STATUS:CONFIRMED
SUMMARY:DON'T STOP BALLIEVING vs SLOW and EASY
URL:/League/Schedule/3039
DESCRIPTION:Regular Season match: DON'T STOP BALLIEVING vs S
 LOW and EASY
LOCATION:Martinez Court 10
END:VEVENT
BEGIN:VEVENT
DTSTAMP:20260419T000000Z
UID:4ed1c31f-464b-4906-a55c-7ed7cdff5c81@ClaytonBocce
DTSTART;TZID=America/Los_Angeles:20260805T183000
DTEND;TZID=America/Los_Angeles:20260805T210000
STATUS:CONFIRMED
SUMMARY:DON'T STOP BALLIEVING vs WHATZA MADDA U
URL:/League/Schedule/3039
DESCRIPTION:Regular Season match: DON'T STOP BALLIEVING vs W
 HATZA MADDA U
LOCATION:Martinez Court 4
END:VEVENT
BEGIN:VEVENT
DTSTAMP:20260419T000000Z
UID:88664c3e-24e9-4bf9-94f5-b0801cc213e7@ClaytonBocce
DTSTART;TZID=America/Los_Angeles:20260812T183000
DTEND;TZID=America/Los_Angeles:20260812T210000
STATUS:CONFIRMED
SUMMARY:DON'T STOP BALLIEVING vs REBELS WITH BALLS
URL:/League/Schedule/3039
DESCRIPTION:Regular Season match: DON'T STOP BALLIEVING vs R
 EBELS WITH BALLS
LOCATION:Martinez Court 14
END:VEVENT
BEGIN:VEVENT
DTSTAMP:20260419T000000Z
UID:49a2e45e-9feb-4c27-ad7c-d9133b85c0ed@ClaytonBocce
DTSTART;TZID=America/Los_Angeles:20260819T183000
DTEND;TZID=America/Los_Angeles:20260819T210000
STATUS:CONFIRMED
SUMMARY:DON'T STOP BALLIEVING vs EASY ROLLERS
URL:/League/Schedule/3039
DESCRIPTION:Regular Season match: DON'T STOP BALLIEVING vs E
 ASY ROLLERS
LOCATION:Martinez Court 11
END:VEVENT
BEGIN:VEVENT
DTSTAMP:20260419T000000Z
UID:83e68dc8-a6a2-4ce1-b3fc-c7555c34aacb@ClaytonBocce
DTSTART;TZID=America/Los_Angeles:20260902T183000
DTEND;TZID=America/Los_Angeles:20260902T210000
STATUS:CONFIRMED
SUMMARY:DON'T STOP BALLIEVING vs BALLZ IN HAND
URL:/League/Schedule/3039
DESCRIPTION:Regular Season match: DON'T STOP BALLIEVING vs B
 ALLZ IN HAND
LOCATION:Martinez Court 13
END:VEVENT
BEGIN:VEVENT
DTSTAMP:20260419T000000Z
UID:c2176dae-b1d3-4452-a250-f7e3b686846b@ClaytonBocce
DTSTART;TZID=America/Los_Angeles:20260909T183000
DTEND;TZID=America/Los_Angeles:20260909T210000
STATUS:CONFIRMED
SUMMARY:DON'T STOP BALLIEVING vs PARDON OUR Da BOCCARY
URL:/League/Schedule/3039
DESCRIPTION:Regular Season match: DON'T STOP BALLIEVING vs P
 ARDON OUR Da BOCCARY
LOCATION:Martinez Court 3
END:VEVENT
BEGIN:VEVENT
DTSTAMP:20260419T000000Z
UID:799b800d-d4e1-460d-9540-3e82d97a58bd@ClaytonBocce
DTSTART;TZID=America/Los_Angeles:20260916T183000
DTEND;TZID=America/Los_Angeles:20260916T210000
STATUS:CONFIRMED
SUMMARY:DON'T STOP BALLIEVING vs SLOW and EASY
URL:/League/Schedule/3039
DESCRIPTION:Regular Season match: DON'T STOP BALLIEVING vs S
 LOW and EASY
LOCATION:Martinez Court 12
END:VEVENT
END:VCALENDAR
