BEGIN:VCALENDAR
VERSION:2.0
PRODID:-//Clayton Bocce League
METHOD:PUBLISH
BEGIN:VTIMEZONE
TZID:America/Los_Angeles
X-LIC-LOCATION:America/Los_Angeles
BEGIN:DAYLIGHT
TZOFFSETFROM:-0800
TZOFFSETTO:-0700
TZNAME:PDT
DTSTART:20070311T020000
RRULE:FREQ=YEARLY;BYMONTH=3;BYDAY=2SU
END:DAYLIGHT
BEGIN:STANDARD
TZOFFSETFROM:-0700
TZOFFSETTO:-0800
TZNAME:PST
DTSTART:20071104T020000
RRULE:FREQ=YEARLY;BYMONTH=11;BYDAY=1SU
END:STANDARD
END:VTIMEZONE
BEGIN:VEVENT
DTSTAMP:20260419T000000Z
UID:0189c417-2dc4-4440-87cc-5837de88ffa2@ClaytonBocce
DTSTART;TZID=America/Los_Angeles:20260422T183000
DTEND;TZID=America/Los_Angeles:20260422T210000
STATUS:CONFIRMED
SUMMARY:WHATZA MADDA U vs DON'T STOP BALLIEVING
URL:/League/Schedule/3038
DESCRIPTION:Regular Season match: WHATZA MADDA U vs DON'T ST
 OP BALLIEVING
LOCATION:Martinez Court 15
END:VEVENT
BEGIN:VEVENT
DTSTAMP:20260419T000000Z
UID:9c0b261f-631d-41d2-959e-f7454c9fe76b@ClaytonBocce
DTSTART;TZID=America/Los_Angeles:20260429T183000
DTEND;TZID=America/Los_Angeles:20260429T210000
STATUS:CONFIRMED
SUMMARY:WHATZA MADDA U vs SLOW and EASY
URL:/League/Schedule/3038
DESCRIPTION:Regular Season match: WHATZA MADDA U vs SLOW and
  EASY
LOCATION:Martinez Court 4
END:VEVENT
BEGIN:VEVENT
DTSTAMP:20260419T000000Z
UID:1527842b-a34a-45d9-ae86-a59b76517e1d@ClaytonBocce
DTSTART;TZID=America/Los_Angeles:20260506T183000
DTEND;TZID=America/Los_Angeles:20260506T210000
STATUS:CONFIRMED
SUMMARY:WHATZA MADDA U vs REBELS WITH BALLS
URL:/League/Schedule/3038
DESCRIPTION:Regular Season match: WHATZA MADDA U vs REBELS W
 ITH BALLS
LOCATION:Martinez Court 10
END:VEVENT
BEGIN:VEVENT
DTSTAMP:20260419T000000Z
UID:854a53d1-2eb6-42e0-baa0-d43a56407188@ClaytonBocce
DTSTART;TZID=America/Los_Angeles:20260513T183000
DTEND;TZID=America/Los_Angeles:20260513T210000
STATUS:CONFIRMED
SUMMARY:WHATZA MADDA U vs EASY ROLLERS
URL:/League/Schedule/3038
DESCRIPTION:Regular Season match: WHATZA MADDA U vs EASY ROL
 LERS
LOCATION:Martinez Court 7
END:VEVENT
BEGIN:VEVENT
DTSTAMP:20260419T000000Z
UID:dae329fd-4965-4427-abc3-2c53adad034b@ClaytonBocce
DTSTART;TZID=America/Los_Angeles:20260527T183000
DTEND;TZID=America/Los_Angeles:20260527T210000
STATUS:CONFIRMED
SUMMARY:WHATZA MADDA U vs BALLZ IN HAND
URL:/League/Schedule/3038
DESCRIPTION:Regular Season match: WHATZA MADDA U vs BALLZ IN
  HAND
LOCATION:Martinez Court 2
END:VEVENT
BEGIN:VEVENT
DTSTAMP:20260419T000000Z
UID:664138fc-7fea-4c1a-b029-cc19edc021d3@ClaytonBocce
DTSTART;TZID=America/Los_Angeles:20260603T183000
DTEND;TZID=America/Los_Angeles:20260603T210000
STATUS:CONFIRMED
SUMMARY:WHATZA MADDA U vs PARDON OUR Da BOCCARY
URL:/League/Schedule/3038
DESCRIPTION:Regular Season match: WHATZA MADDA U vs PARDON O
 UR Da BOCCARY
LOCATION:Martinez Court 6
END:VEVENT
BEGIN:VEVENT
DTSTAMP:20260419T000000Z
UID:cbc23fee-7ac7-4614-acca-8b2abe16c6e5@ClaytonBocce
DTSTART;TZID=America/Los_Angeles:20260610T183000
DTEND;TZID=America/Los_Angeles:20260610T210000
STATUS:CONFIRMED
SUMMARY:WHATZA MADDA U vs DON'T STOP BALLIEVING
URL:/League/Schedule/3038
DESCRIPTION:Regular Season match: WHATZA MADDA U vs DON'T ST
 OP BALLIEVING
LOCATION:Martinez Court 13
END:VEVENT
BEGIN:VEVENT
DTSTAMP:20260419T000000Z
UID:c2aa1c69-fa60-4565-9e12-5c4c993b24ad@ClaytonBocce
DTSTART;TZID=America/Los_Angeles:20260617T183000
DTEND;TZID=America/Los_Angeles:20260617T210000
STATUS:CONFIRMED
SUMMARY:WHATZA MADDA U vs SLOW and EASY
URL:/League/Schedule/3038
DESCRIPTION:Regular Season match: WHATZA MADDA U vs SLOW and
  EASY
LOCATION:Martinez Court 8
END:VEVENT
BEGIN:VEVENT
DTSTAMP:20260419T000000Z
UID:d0771e76-1a6f-4b96-bb74-7fa9b4217d55@ClaytonBocce
DTSTART;TZID=America/Los_Angeles:20260624T183000
DTEND;TZID=America/Los_Angeles:20260624T210000
STATUS:CONFIRMED
SUMMARY:WHATZA MADDA U vs REBELS WITH BALLS
URL:/League/Schedule/3038
DESCRIPTION:Regular Season match: WHATZA MADDA U vs REBELS W
 ITH BALLS
LOCATION:Martinez Court 3
END:VEVENT
BEGIN:VEVENT
DTSTAMP:20260419T000000Z
UID:3eb900c9-48a8-4c2b-a574-c55327730ed2@ClaytonBocce
DTSTART;TZID=America/Los_Angeles:20260708T183000
DTEND;TZID=America/Los_Angeles:20260708T210000
STATUS:CONFIRMED
SUMMARY:WHATZA MADDA U vs EASY ROLLERS
URL:/League/Schedule/3038
DESCRIPTION:Regular Season match: WHATZA MADDA U vs EASY ROL
 LERS
LOCATION:Martinez Court 5
END:VEVENT
BEGIN:VEVENT
DTSTAMP:20260419T000000Z
UID:737cb951-854a-46c3-b9ca-48fd5f359114@ClaytonBocce
DTSTART;TZID=America/Los_Angeles:20260722T183000
DTEND;TZID=America/Los_Angeles:20260722T210000
STATUS:CONFIRMED
SUMMARY:WHATZA MADDA U vs BALLZ IN HAND
URL:/League/Schedule/3038
DESCRIPTION:Regular Season match: WHATZA MADDA U vs BALLZ IN
  HAND
LOCATION:Martinez Court 9
END:VEVENT
BEGIN:VEVENT
DTSTAMP:20260419T000000Z
UID:207aebea-f684-4a28-84e9-55e390e9a9ca@ClaytonBocce
DTSTART;TZID=America/Los_Angeles:20260729T183000
DTEND;TZID=America/Los_Angeles:20260729T210000
STATUS:CONFIRMED
SUMMARY:WHATZA MADDA U vs PARDON OUR Da BOCCARY
URL:/League/Schedule/3038
DESCRIPTION:Regular Season match: WHATZA MADDA U vs PARDON O
 UR Da BOCCARY
LOCATION:Martinez Court 12
END:VEVENT
BEGIN:VEVENT
DTSTAMP:20260419T000000Z
UID:4ed1c31f-464b-4906-a55c-7ed7cdff5c81@ClaytonBocce
DTSTART;TZID=America/Los_Angeles:20260805T183000
DTEND;TZID=America/Los_Angeles:20260805T210000
STATUS:CONFIRMED
SUMMARY:WHATZA MADDA U vs DON'T STOP BALLIEVING
URL:/League/Schedule/3038
DESCRIPTION:Regular Season match: WHATZA MADDA U vs DON'T ST
 OP BALLIEVING
LOCATION:Martinez Court 4
END:VEVENT
BEGIN:VEVENT
DTSTAMP:20260419T000000Z
UID:0c286cd4-07b5-42ca-aec6-eb906d151220@ClaytonBocce
DTSTART;TZID=America/Los_Angeles:20260812T183000
DTEND;TZID=America/Los_Angeles:20260812T210000
STATUS:CONFIRMED
SUMMARY:WHATZA MADDA U vs SLOW and EASY
URL:/League/Schedule/3038
DESCRIPTION:Regular Season match: WHATZA MADDA U vs SLOW and
  EASY
LOCATION:Martinez Court 11
END:VEVENT
BEGIN:VEVENT
DTSTAMP:20260419T000000Z
UID:d159cf45-e62f-4c9b-9ddc-c29590002292@ClaytonBocce
DTSTART;TZID=America/Los_Angeles:20260819T183000
DTEND;TZID=America/Los_Angeles:20260819T210000
STATUS:CONFIRMED
SUMMARY:WHATZA MADDA U vs REBELS WITH BALLS
URL:/League/Schedule/3038
DESCRIPTION:Regular Season match: WHATZA MADDA U vs REBELS W
 ITH BALLS
LOCATION:Martinez Court 8
END:VEVENT
BEGIN:VEVENT
DTSTAMP:20260419T000000Z
UID:27a7d8ce-6911-479f-a1d0-cafc26c05972@ClaytonBocce
DTSTART;TZID=America/Los_Angeles:20260826T183000
DTEND;TZID=America/Los_Angeles:20260826T210000
STATUS:CONFIRMED
SUMMARY:WHATZA MADDA U vs EASY ROLLERS
URL:/League/Schedule/3038
DESCRIPTION:Regular Season match: WHATZA MADDA U vs EASY ROL
 LERS
LOCATION:Martinez Court 1
END:VEVENT
BEGIN:VEVENT
DTSTAMP:20260419T000000Z
UID:0d5503a6-07b1-472a-9204-3e58d849a435@ClaytonBocce
DTSTART;TZID=America/Los_Angeles:20260909T183000
DTEND;TZID=America/Los_Angeles:20260909T210000
STATUS:CONFIRMED
SUMMARY:WHATZA MADDA U vs BALLZ IN HAND
URL:/League/Schedule/3038
DESCRIPTION:Regular Season match: WHATZA MADDA U vs BALLZ IN
  HAND
LOCATION:Martinez Court 14
END:VEVENT
BEGIN:VEVENT
DTSTAMP:20260419T000000Z
UID:139573e1-d578-4a87-91d8-775948de5fd8@ClaytonBocce
DTSTART;TZID=America/Los_Angeles:20260916T183000
DTEND;TZID=America/Los_Angeles:20260916T210000
STATUS:CONFIRMED
SUMMARY:WHATZA MADDA U vs PARDON OUR Da BOCCARY
URL:/League/Schedule/3038
DESCRIPTION:Regular Season match: WHATZA MADDA U vs PARDON O
 UR Da BOCCARY
LOCATION:Martinez Court 13
END:VEVENT
END:VCALENDAR
