BEGIN:VCALENDAR
VERSION:2.0
PRODID:-//Clayton Bocce League
METHOD:PUBLISH
BEGIN:VTIMEZONE
TZID:America/Los_Angeles
X-LIC-LOCATION:America/Los_Angeles
BEGIN:DAYLIGHT
TZOFFSETFROM:-0800
TZOFFSETTO:-0700
TZNAME:PDT
DTSTART:20070311T020000
RRULE:FREQ=YEARLY;BYMONTH=3;BYDAY=2SU
END:DAYLIGHT
BEGIN:STANDARD
TZOFFSETFROM:-0700
TZOFFSETTO:-0800
TZNAME:PST
DTSTART:20071104T020000
RRULE:FREQ=YEARLY;BYMONTH=11;BYDAY=1SU
END:STANDARD
END:VTIMEZONE
BEGIN:VEVENT
DTSTAMP:20260419T000000Z
UID:a645f800-5b10-481b-bb32-d605193352d8@ClaytonBocce
DTSTART;TZID=America/Los_Angeles:20260429T183000
DTEND;TZID=America/Los_Angeles:20260429T210000
STATUS:CONFIRMED
SUMMARY:BALL BREAKERS vs THE LONG SHOTS
URL:/League/Schedule/3028
DESCRIPTION:Regular Season match: BALL BREAKERS vs THE LONG 
 SHOTS
LOCATION:Martinez Court 14
END:VEVENT
BEGIN:VEVENT
DTSTAMP:20260419T000000Z
UID:9f472d1c-4e30-47d7-a74f-09cc6d981a3c@ClaytonBocce
DTSTART;TZID=America/Los_Angeles:20260506T183000
DTEND;TZID=America/Los_Angeles:20260506T210000
STATUS:CONFIRMED
SUMMARY:BALL BREAKERS vs RELATIVITY
URL:/League/Schedule/3028
DESCRIPTION:Regular Season match: BALL BREAKERS vs RELATIVIT
 Y
LOCATION:Martinez Court 3
END:VEVENT
BEGIN:VEVENT
DTSTAMP:20260419T000000Z
UID:5f6f34c1-3b6c-45e7-966d-80d14c22bec1@ClaytonBocce
DTSTART;TZID=America/Los_Angeles:20260513T183000
DTEND;TZID=America/Los_Angeles:20260513T210000
STATUS:CONFIRMED
SUMMARY:BALL BREAKERS vs BALLS OF JUSTICE
URL:/League/Schedule/3028
DESCRIPTION:Regular Season match: BALL BREAKERS vs BALLS OF 
 JUSTICE
LOCATION:Martinez Court 12
END:VEVENT
BEGIN:VEVENT
DTSTAMP:20260419T000000Z
UID:8d75a28b-951e-4c33-9a9d-0320634b45e6@ClaytonBocce
DTSTART;TZID=America/Los_Angeles:20260520T183000
DTEND;TZID=America/Los_Angeles:20260520T210000
STATUS:CONFIRMED
SUMMARY:BALL BREAKERS vs MARINA MAULERS
URL:/League/Schedule/3028
DESCRIPTION:Regular Season match: BALL BREAKERS vs MARINA MA
 ULERS
LOCATION:Martinez Court 11
END:VEVENT
BEGIN:VEVENT
DTSTAMP:20260419T000000Z
UID:c4ad4a5c-e17a-40e9-8dbb-81da344269e5@ClaytonBocce
DTSTART;TZID=America/Los_Angeles:20260527T183000
DTEND;TZID=America/Los_Angeles:20260527T210000
STATUS:CONFIRMED
SUMMARY:BALL BREAKERS vs BOCCE WINERS
URL:/League/Schedule/3028
DESCRIPTION:Regular Season match: BALL BREAKERS vs BOCCE WIN
 ERS
LOCATION:Martinez Court 10
END:VEVENT
BEGIN:VEVENT
DTSTAMP:20260419T000000Z
UID:74b01b2b-f791-4156-8a09-855826d1bba8@ClaytonBocce
DTSTART;TZID=America/Los_Angeles:20260603T183000
DTEND;TZID=America/Los_Angeles:20260603T210000
STATUS:CONFIRMED
SUMMARY:BALL BREAKERS vs FUN WONS
URL:/League/Schedule/3028
DESCRIPTION:Regular Season match: BALL BREAKERS vs FUN WONS
LOCATION:Martinez Court 2
END:VEVENT
BEGIN:VEVENT
DTSTAMP:20260419T000000Z
UID:d2ca301f-8b02-4c40-b232-9e414bd90162@ClaytonBocce
DTSTART;TZID=America/Los_Angeles:20260617T183000
DTEND;TZID=America/Los_Angeles:20260617T210000
STATUS:CONFIRMED
SUMMARY:BALL BREAKERS vs THE LONG SHOTS
URL:/League/Schedule/3028
DESCRIPTION:Regular Season match: BALL BREAKERS vs THE LONG 
 SHOTS
LOCATION:Martinez Court 15
END:VEVENT
BEGIN:VEVENT
DTSTAMP:20260419T000000Z
UID:8ffe509b-d7dd-4e2a-a25a-b403f124b2f7@ClaytonBocce
DTSTART;TZID=America/Los_Angeles:20260624T183000
DTEND;TZID=America/Los_Angeles:20260624T210000
STATUS:CONFIRMED
SUMMARY:BALL BREAKERS vs RELATIVITY
URL:/League/Schedule/3028
DESCRIPTION:Regular Season match: BALL BREAKERS vs RELATIVIT
 Y
LOCATION:Martinez Court 5
END:VEVENT
BEGIN:VEVENT
DTSTAMP:20260419T000000Z
UID:b76adaaf-cd1d-4186-a398-ad3bf07363c0@ClaytonBocce
DTSTART;TZID=America/Los_Angeles:20260708T183000
DTEND;TZID=America/Los_Angeles:20260708T210000
STATUS:CONFIRMED
SUMMARY:BALL BREAKERS vs BALLS OF JUSTICE
URL:/League/Schedule/3028
DESCRIPTION:Regular Season match: BALL BREAKERS vs BALLS OF 
 JUSTICE
LOCATION:Martinez Court 3
END:VEVENT
BEGIN:VEVENT
DTSTAMP:20260419T000000Z
UID:e4dec113-3e11-4771-9e44-f7a63e457f17@ClaytonBocce
DTSTART;TZID=America/Los_Angeles:20260715T183000
DTEND;TZID=America/Los_Angeles:20260715T210000
STATUS:CONFIRMED
SUMMARY:BALL BREAKERS vs MARINA MAULERS
URL:/League/Schedule/3028
DESCRIPTION:Regular Season match: BALL BREAKERS vs MARINA MA
 ULERS
LOCATION:Martinez Court 15
END:VEVENT
BEGIN:VEVENT
DTSTAMP:20260419T000000Z
UID:28567a21-f585-4551-b295-04d382b6a78f@ClaytonBocce
DTSTART;TZID=America/Los_Angeles:20260722T183000
DTEND;TZID=America/Los_Angeles:20260722T210000
STATUS:CONFIRMED
SUMMARY:BALL BREAKERS vs BOCCE WINERS
URL:/League/Schedule/3028
DESCRIPTION:Regular Season match: BALL BREAKERS vs BOCCE WIN
 ERS
LOCATION:Martinez Court 13
END:VEVENT
BEGIN:VEVENT
DTSTAMP:20260419T000000Z
UID:40618caa-6e13-4597-a2cb-c2f71138338b@ClaytonBocce
DTSTART;TZID=America/Los_Angeles:20260729T183000
DTEND;TZID=America/Los_Angeles:20260729T210000
STATUS:CONFIRMED
SUMMARY:BALL BREAKERS vs FUN WONS
URL:/League/Schedule/3028
DESCRIPTION:Regular Season match: BALL BREAKERS vs FUN WONS
LOCATION:Martinez Court 8
END:VEVENT
BEGIN:VEVENT
DTSTAMP:20260419T000000Z
UID:9173869c-4a13-47bb-8fe8-62bddf529b7b@ClaytonBocce
DTSTART;TZID=America/Los_Angeles:20260812T183000
DTEND;TZID=America/Los_Angeles:20260812T210000
STATUS:CONFIRMED
SUMMARY:BALL BREAKERS vs THE LONG SHOTS
URL:/League/Schedule/3028
DESCRIPTION:Regular Season match: BALL BREAKERS vs THE LONG 
 SHOTS
LOCATION:Martinez Court 9
END:VEVENT
BEGIN:VEVENT
DTSTAMP:20260419T000000Z
UID:f926d34e-797b-4f68-9a72-f090a273366f@ClaytonBocce
DTSTART;TZID=America/Los_Angeles:20260819T183000
DTEND;TZID=America/Los_Angeles:20260819T210000
STATUS:CONFIRMED
SUMMARY:BALL BREAKERS vs RELATIVITY
URL:/League/Schedule/3028
DESCRIPTION:Regular Season match: BALL BREAKERS vs RELATIVIT
 Y
LOCATION:Martinez Court 12
END:VEVENT
BEGIN:VEVENT
DTSTAMP:20260419T000000Z
UID:3baf8fb8-4284-4373-a069-1b05c57ece02@ClaytonBocce
DTSTART;TZID=America/Los_Angeles:20260826T183000
DTEND;TZID=America/Los_Angeles:20260826T210000
STATUS:CONFIRMED
SUMMARY:BALL BREAKERS vs BALLS OF JUSTICE
URL:/League/Schedule/3028
DESCRIPTION:Regular Season match: BALL BREAKERS vs BALLS OF 
 JUSTICE
LOCATION:Martinez Court 11
END:VEVENT
BEGIN:VEVENT
DTSTAMP:20260419T000000Z
UID:791309a7-6de8-4754-bbd0-a1d62398fd27@ClaytonBocce
DTSTART;TZID=America/Los_Angeles:20260902T183000
DTEND;TZID=America/Los_Angeles:20260902T210000
STATUS:CONFIRMED
SUMMARY:BALL BREAKERS vs MARINA MAULERS
URL:/League/Schedule/3028
DESCRIPTION:Regular Season match: BALL BREAKERS vs MARINA MA
 ULERS
LOCATION:Martinez Court 5
END:VEVENT
BEGIN:VEVENT
DTSTAMP:20260419T000000Z
UID:3543c9ff-b397-4a5c-9c13-247097854a01@ClaytonBocce
DTSTART;TZID=America/Los_Angeles:20260909T183000
DTEND;TZID=America/Los_Angeles:20260909T210000
STATUS:CONFIRMED
SUMMARY:BALL BREAKERS vs BOCCE WINERS
URL:/League/Schedule/3028
DESCRIPTION:Regular Season match: BALL BREAKERS vs BOCCE WIN
 ERS
LOCATION:Martinez Court 1
END:VEVENT
BEGIN:VEVENT
DTSTAMP:20260419T000000Z
UID:bb788bf4-eb3c-4561-a037-0571f460f346@ClaytonBocce
DTSTART;TZID=America/Los_Angeles:20260916T183000
DTEND;TZID=America/Los_Angeles:20260916T210000
STATUS:CONFIRMED
SUMMARY:BALL BREAKERS vs FUN WONS
URL:/League/Schedule/3028
DESCRIPTION:Regular Season match: BALL BREAKERS vs FUN WONS
LOCATION:Martinez Court 7
END:VEVENT
END:VCALENDAR
