BEGIN:VCALENDAR
VERSION:2.0
PRODID:-//Clayton Bocce League
METHOD:PUBLISH
BEGIN:VTIMEZONE
TZID:America/Los_Angeles
X-LIC-LOCATION:America/Los_Angeles
BEGIN:DAYLIGHT
TZOFFSETFROM:-0800
TZOFFSETTO:-0700
TZNAME:PDT
DTSTART:20070311T020000
RRULE:FREQ=YEARLY;BYMONTH=3;BYDAY=2SU
END:DAYLIGHT
BEGIN:STANDARD
TZOFFSETFROM:-0700
TZOFFSETTO:-0800
TZNAME:PST
DTSTART:20071104T020000
RRULE:FREQ=YEARLY;BYMONTH=11;BYDAY=1SU
END:STANDARD
END:VTIMEZONE
BEGIN:VEVENT
DTSTAMP:20260419T000000Z
UID:0815cc1a-8d23-48b6-849b-4cd414be86c2@ClaytonBocce
DTSTART;TZID=America/Los_Angeles:20260422T183000
DTEND;TZID=America/Los_Angeles:20260422T210000
STATUS:CONFIRMED
SUMMARY:BALLS OF JUSTICE vs FUN WONS
URL:/League/Schedule/3023
DESCRIPTION:Regular Season match: BALLS OF JUSTICE vs FUN WO
 NS
LOCATION:Martinez Court 8
END:VEVENT
BEGIN:VEVENT
DTSTAMP:20260419T000000Z
UID:d2c9b321-9210-4b80-a81a-6d7b22b4d93f@ClaytonBocce
DTSTART;TZID=America/Los_Angeles:20260429T183000
DTEND;TZID=America/Los_Angeles:20260429T210000
STATUS:CONFIRMED
SUMMARY:BALLS OF JUSTICE vs RELATIVITY
URL:/League/Schedule/3023
DESCRIPTION:Regular Season match: BALLS OF JUSTICE vs RELATI
 VITY
LOCATION:Martinez Court 13
END:VEVENT
BEGIN:VEVENT
DTSTAMP:20260419T000000Z
UID:118e5208-d14e-4659-9dec-6fdbd17e534a@ClaytonBocce
DTSTART;TZID=America/Los_Angeles:20260506T183000
DTEND;TZID=America/Los_Angeles:20260506T210000
STATUS:CONFIRMED
SUMMARY:BALLS OF JUSTICE vs MARINA MAULERS
URL:/League/Schedule/3023
DESCRIPTION:Regular Season match: BALLS OF JUSTICE vs MARINA
  MAULERS
LOCATION:Martinez Court 4
END:VEVENT
BEGIN:VEVENT
DTSTAMP:20260419T000000Z
UID:5f6f34c1-3b6c-45e7-966d-80d14c22bec1@ClaytonBocce
DTSTART;TZID=America/Los_Angeles:20260513T183000
DTEND;TZID=America/Los_Angeles:20260513T210000
STATUS:CONFIRMED
SUMMARY:BALLS OF JUSTICE vs BALL BREAKERS
URL:/League/Schedule/3023
DESCRIPTION:Regular Season match: BALLS OF JUSTICE vs BALL B
 REAKERS
LOCATION:Martinez Court 12
END:VEVENT
BEGIN:VEVENT
DTSTAMP:20260419T000000Z
UID:34f888dd-8911-487d-bf04-01f013521b23@ClaytonBocce
DTSTART;TZID=America/Los_Angeles:20260520T183000
DTEND;TZID=America/Los_Angeles:20260520T210000
STATUS:CONFIRMED
SUMMARY:BALLS OF JUSTICE vs BOCCE WINERS
URL:/League/Schedule/3023
DESCRIPTION:Regular Season match: BALLS OF JUSTICE vs BOCCE 
 WINERS
LOCATION:Martinez Court 9
END:VEVENT
BEGIN:VEVENT
DTSTAMP:20260419T000000Z
UID:ed58a138-78ef-48ca-ad1e-f92ea6316583@ClaytonBocce
DTSTART;TZID=America/Los_Angeles:20260603T183000
DTEND;TZID=America/Los_Angeles:20260603T210000
STATUS:CONFIRMED
SUMMARY:BALLS OF JUSTICE vs THE LONG SHOTS
URL:/League/Schedule/3023
DESCRIPTION:Regular Season match: BALLS OF JUSTICE vs THE LO
 NG SHOTS
LOCATION:Martinez Court 1
END:VEVENT
BEGIN:VEVENT
DTSTAMP:20260419T000000Z
UID:43d7f43c-7b7b-480e-94b6-b83b76392cef@ClaytonBocce
DTSTART;TZID=America/Los_Angeles:20260610T183000
DTEND;TZID=America/Los_Angeles:20260610T210000
STATUS:CONFIRMED
SUMMARY:BALLS OF JUSTICE vs FUN WONS
URL:/League/Schedule/3023
DESCRIPTION:Regular Season match: BALLS OF JUSTICE vs FUN WO
 NS
LOCATION:Martinez Court 7
END:VEVENT
BEGIN:VEVENT
DTSTAMP:20260419T000000Z
UID:f07489d9-7976-45ac-86ed-82167a3fa16c@ClaytonBocce
DTSTART;TZID=America/Los_Angeles:20260617T183000
DTEND;TZID=America/Los_Angeles:20260617T210000
STATUS:CONFIRMED
SUMMARY:BALLS OF JUSTICE vs RELATIVITY
URL:/League/Schedule/3023
DESCRIPTION:Regular Season match: BALLS OF JUSTICE vs RELATI
 VITY
LOCATION:Martinez Court 2
END:VEVENT
BEGIN:VEVENT
DTSTAMP:20260419T000000Z
UID:0d63b401-170e-4cc5-8cf0-6b3a18c4ca90@ClaytonBocce
DTSTART;TZID=America/Los_Angeles:20260624T183000
DTEND;TZID=America/Los_Angeles:20260624T210000
STATUS:CONFIRMED
SUMMARY:BALLS OF JUSTICE vs MARINA MAULERS
URL:/League/Schedule/3023
DESCRIPTION:Regular Season match: BALLS OF JUSTICE vs MARINA
  MAULERS
LOCATION:Martinez Court 6
END:VEVENT
BEGIN:VEVENT
DTSTAMP:20260419T000000Z
UID:b76adaaf-cd1d-4186-a398-ad3bf07363c0@ClaytonBocce
DTSTART;TZID=America/Los_Angeles:20260708T183000
DTEND;TZID=America/Los_Angeles:20260708T210000
STATUS:CONFIRMED
SUMMARY:BALLS OF JUSTICE vs BALL BREAKERS
URL:/League/Schedule/3023
DESCRIPTION:Regular Season match: BALLS OF JUSTICE vs BALL B
 REAKERS
LOCATION:Martinez Court 3
END:VEVENT
BEGIN:VEVENT
DTSTAMP:20260419T000000Z
UID:17cb9dcb-6a9a-4916-be03-44b50a742743@ClaytonBocce
DTSTART;TZID=America/Los_Angeles:20260715T183000
DTEND;TZID=America/Los_Angeles:20260715T210000
STATUS:CONFIRMED
SUMMARY:BALLS OF JUSTICE vs BOCCE WINERS
URL:/League/Schedule/3023
DESCRIPTION:Regular Season match: BALLS OF JUSTICE vs BOCCE 
 WINERS
LOCATION:Martinez Court 11
END:VEVENT
BEGIN:VEVENT
DTSTAMP:20260419T000000Z
UID:40a0ee39-c647-41c1-a078-d972f588614e@ClaytonBocce
DTSTART;TZID=America/Los_Angeles:20260729T183000
DTEND;TZID=America/Los_Angeles:20260729T210000
STATUS:CONFIRMED
SUMMARY:BALLS OF JUSTICE vs THE LONG SHOTS
URL:/League/Schedule/3023
DESCRIPTION:Regular Season match: BALLS OF JUSTICE vs THE LO
 NG SHOTS
LOCATION:Martinez Court 14
END:VEVENT
BEGIN:VEVENT
DTSTAMP:20260419T000000Z
UID:8af4a3f4-e6d5-4765-901a-c10632688d1f@ClaytonBocce
DTSTART;TZID=America/Los_Angeles:20260805T183000
DTEND;TZID=America/Los_Angeles:20260805T210000
STATUS:CONFIRMED
SUMMARY:BALLS OF JUSTICE vs FUN WONS
URL:/League/Schedule/3023
DESCRIPTION:Regular Season match: BALLS OF JUSTICE vs FUN WO
 NS
LOCATION:Martinez Court 15
END:VEVENT
BEGIN:VEVENT
DTSTAMP:20260419T000000Z
UID:0fceecfe-7a01-4b9f-a512-a9a33c322ea9@ClaytonBocce
DTSTART;TZID=America/Los_Angeles:20260812T183000
DTEND;TZID=America/Los_Angeles:20260812T210000
STATUS:CONFIRMED
SUMMARY:BALLS OF JUSTICE vs RELATIVITY
URL:/League/Schedule/3023
DESCRIPTION:Regular Season match: BALLS OF JUSTICE vs RELATI
 VITY
LOCATION:Martinez Court 7
END:VEVENT
BEGIN:VEVENT
DTSTAMP:20260419T000000Z
UID:fe673816-b98c-49a0-97c8-ddecfae4ebb4@ClaytonBocce
DTSTART;TZID=America/Los_Angeles:20260819T183000
DTEND;TZID=America/Los_Angeles:20260819T210000
STATUS:CONFIRMED
SUMMARY:BALLS OF JUSTICE vs MARINA MAULERS
URL:/League/Schedule/3023
DESCRIPTION:Regular Season match: BALLS OF JUSTICE vs MARINA
  MAULERS
LOCATION:Martinez Court 10
END:VEVENT
BEGIN:VEVENT
DTSTAMP:20260419T000000Z
UID:3baf8fb8-4284-4373-a069-1b05c57ece02@ClaytonBocce
DTSTART;TZID=America/Los_Angeles:20260826T183000
DTEND;TZID=America/Los_Angeles:20260826T210000
STATUS:CONFIRMED
SUMMARY:BALLS OF JUSTICE vs BALL BREAKERS
URL:/League/Schedule/3023
DESCRIPTION:Regular Season match: BALLS OF JUSTICE vs BALL B
 REAKERS
LOCATION:Martinez Court 11
END:VEVENT
BEGIN:VEVENT
DTSTAMP:20260419T000000Z
UID:0cff4f0a-48d2-4051-b1c1-ee5f1e735ca1@ClaytonBocce
DTSTART;TZID=America/Los_Angeles:20260902T183000
DTEND;TZID=America/Los_Angeles:20260902T210000
STATUS:CONFIRMED
SUMMARY:BALLS OF JUSTICE vs BOCCE WINERS
URL:/League/Schedule/3023
DESCRIPTION:Regular Season match: BALLS OF JUSTICE vs BOCCE 
 WINERS
LOCATION:Martinez Court 6
END:VEVENT
BEGIN:VEVENT
DTSTAMP:20260419T000000Z
UID:4aca7bab-184d-407c-aa7e-b5f56ec1da22@ClaytonBocce
DTSTART;TZID=America/Los_Angeles:20260916T183000
DTEND;TZID=America/Los_Angeles:20260916T210000
STATUS:CONFIRMED
SUMMARY:BALLS OF JUSTICE vs THE LONG SHOTS
URL:/League/Schedule/3023
DESCRIPTION:Regular Season match: BALLS OF JUSTICE vs THE LO
 NG SHOTS
LOCATION:Martinez Court 5
END:VEVENT
END:VCALENDAR
