BEGIN:VCALENDAR
VERSION:2.0
PRODID:-//Clayton Bocce League
METHOD:PUBLISH
BEGIN:VTIMEZONE
TZID:America/Los_Angeles
X-LIC-LOCATION:America/Los_Angeles
BEGIN:DAYLIGHT
TZOFFSETFROM:-0800
TZOFFSETTO:-0700
TZNAME:PDT
DTSTART:20070311T020000
RRULE:FREQ=YEARLY;BYMONTH=3;BYDAY=2SU
END:DAYLIGHT
BEGIN:STANDARD
TZOFFSETFROM:-0700
TZOFFSETTO:-0800
TZNAME:PST
DTSTART:20071104T020000
RRULE:FREQ=YEARLY;BYMONTH=11;BYDAY=1SU
END:STANDARD
END:VTIMEZONE
BEGIN:VEVENT
DTSTAMP:20260419T000000Z
UID:0815cc1a-8d23-48b6-849b-4cd414be86c2@ClaytonBocce
DTSTART;TZID=America/Los_Angeles:20260422T183000
DTEND;TZID=America/Los_Angeles:20260422T210000
STATUS:CONFIRMED
SUMMARY:FUN WONS vs BALLS OF JUSTICE
URL:/League/Schedule/3026
DESCRIPTION:Regular Season match: FUN WONS vs BALLS OF JUSTI
 CE
LOCATION:Martinez Court 8
END:VEVENT
BEGIN:VEVENT
DTSTAMP:20260419T000000Z
UID:7f65b217-cba7-4cea-9f38-8d1081ab2798@ClaytonBocce
DTSTART;TZID=America/Los_Angeles:20260429T183000
DTEND;TZID=America/Los_Angeles:20260429T210000
STATUS:CONFIRMED
SUMMARY:FUN WONS vs BOCCE WINERS
URL:/League/Schedule/3026
DESCRIPTION:Regular Season match: FUN WONS vs BOCCE WINERS
LOCATION:Martinez Court 12
END:VEVENT
BEGIN:VEVENT
DTSTAMP:20260419T000000Z
UID:44acedfd-c39c-43f7-aaea-1db11f11d065@ClaytonBocce
DTSTART;TZID=America/Los_Angeles:20260513T183000
DTEND;TZID=America/Los_Angeles:20260513T210000
STATUS:CONFIRMED
SUMMARY:FUN WONS vs MARINA MAULERS
URL:/League/Schedule/3026
DESCRIPTION:Regular Season match: FUN WONS vs MARINA MAULERS
LOCATION:Martinez Court 5
END:VEVENT
BEGIN:VEVENT
DTSTAMP:20260419T000000Z
UID:1daa0e1a-b561-4fd3-8819-96ccd536b601@ClaytonBocce
DTSTART;TZID=America/Los_Angeles:20260520T183000
DTEND;TZID=America/Los_Angeles:20260520T210000
STATUS:CONFIRMED
SUMMARY:FUN WONS vs THE LONG SHOTS
URL:/League/Schedule/3026
DESCRIPTION:Regular Season match: FUN WONS vs THE LONG SHOTS
LOCATION:Martinez Court 10
END:VEVENT
BEGIN:VEVENT
DTSTAMP:20260419T000000Z
UID:ac2c15e3-58a2-4cb7-93d7-009b9542f651@ClaytonBocce
DTSTART;TZID=America/Los_Angeles:20260527T183000
DTEND;TZID=America/Los_Angeles:20260527T210000
STATUS:CONFIRMED
SUMMARY:FUN WONS vs RELATIVITY
URL:/League/Schedule/3026
DESCRIPTION:Regular Season match: FUN WONS vs RELATIVITY
LOCATION:Martinez Court 11
END:VEVENT
BEGIN:VEVENT
DTSTAMP:20260419T000000Z
UID:74b01b2b-f791-4156-8a09-855826d1bba8@ClaytonBocce
DTSTART;TZID=America/Los_Angeles:20260603T183000
DTEND;TZID=America/Los_Angeles:20260603T210000
STATUS:CONFIRMED
SUMMARY:FUN WONS vs BALL BREAKERS
URL:/League/Schedule/3026
DESCRIPTION:Regular Season match: FUN WONS vs BALL BREAKERS
LOCATION:Martinez Court 2
END:VEVENT
BEGIN:VEVENT
DTSTAMP:20260419T000000Z
UID:43d7f43c-7b7b-480e-94b6-b83b76392cef@ClaytonBocce
DTSTART;TZID=America/Los_Angeles:20260610T183000
DTEND;TZID=America/Los_Angeles:20260610T210000
STATUS:CONFIRMED
SUMMARY:FUN WONS vs BALLS OF JUSTICE
URL:/League/Schedule/3026
DESCRIPTION:Regular Season match: FUN WONS vs BALLS OF JUSTI
 CE
LOCATION:Martinez Court 7
END:VEVENT
BEGIN:VEVENT
DTSTAMP:20260419T000000Z
UID:e69ec0c8-e625-458a-a384-cfbb81258fa2@ClaytonBocce
DTSTART;TZID=America/Los_Angeles:20260617T183000
DTEND;TZID=America/Los_Angeles:20260617T210000
STATUS:CONFIRMED
SUMMARY:FUN WONS vs BOCCE WINERS
URL:/League/Schedule/3026
DESCRIPTION:Regular Season match: FUN WONS vs BOCCE WINERS
LOCATION:Martinez Court 5
END:VEVENT
BEGIN:VEVENT
DTSTAMP:20260419T000000Z
UID:2f8e5a3c-e809-42e8-9c8b-d6455d54acd6@ClaytonBocce
DTSTART;TZID=America/Los_Angeles:20260708T183000
DTEND;TZID=America/Los_Angeles:20260708T210000
STATUS:CONFIRMED
SUMMARY:FUN WONS vs MARINA MAULERS
URL:/League/Schedule/3026
DESCRIPTION:Regular Season match: FUN WONS vs MARINA MAULERS
LOCATION:Martinez Court 13
END:VEVENT
BEGIN:VEVENT
DTSTAMP:20260419T000000Z
UID:c920b596-3671-4527-b16e-02a2871a5aad@ClaytonBocce
DTSTART;TZID=America/Los_Angeles:20260715T183000
DTEND;TZID=America/Los_Angeles:20260715T210000
STATUS:CONFIRMED
SUMMARY:FUN WONS vs THE LONG SHOTS
URL:/League/Schedule/3026
DESCRIPTION:Regular Season match: FUN WONS vs THE LONG SHOTS
LOCATION:Martinez Court 1
END:VEVENT
BEGIN:VEVENT
DTSTAMP:20260419T000000Z
UID:fef31319-bf85-49c4-b9d0-d2137c32cfe4@ClaytonBocce
DTSTART;TZID=America/Los_Angeles:20260722T183000
DTEND;TZID=America/Los_Angeles:20260722T210000
STATUS:CONFIRMED
SUMMARY:FUN WONS vs RELATIVITY
URL:/League/Schedule/3026
DESCRIPTION:Regular Season match: FUN WONS vs RELATIVITY
LOCATION:Martinez Court 2
END:VEVENT
BEGIN:VEVENT
DTSTAMP:20260419T000000Z
UID:40618caa-6e13-4597-a2cb-c2f71138338b@ClaytonBocce
DTSTART;TZID=America/Los_Angeles:20260729T183000
DTEND;TZID=America/Los_Angeles:20260729T210000
STATUS:CONFIRMED
SUMMARY:FUN WONS vs BALL BREAKERS
URL:/League/Schedule/3026
DESCRIPTION:Regular Season match: FUN WONS vs BALL BREAKERS
LOCATION:Martinez Court 8
END:VEVENT
BEGIN:VEVENT
DTSTAMP:20260419T000000Z
UID:8af4a3f4-e6d5-4765-901a-c10632688d1f@ClaytonBocce
DTSTART;TZID=America/Los_Angeles:20260805T183000
DTEND;TZID=America/Los_Angeles:20260805T210000
STATUS:CONFIRMED
SUMMARY:FUN WONS vs BALLS OF JUSTICE
URL:/League/Schedule/3026
DESCRIPTION:Regular Season match: FUN WONS vs BALLS OF JUSTI
 CE
LOCATION:Martinez Court 15
END:VEVENT
BEGIN:VEVENT
DTSTAMP:20260419T000000Z
UID:9cc38931-8829-441e-bc5c-ea9c281e9e50@ClaytonBocce
DTSTART;TZID=America/Los_Angeles:20260812T183000
DTEND;TZID=America/Los_Angeles:20260812T210000
STATUS:CONFIRMED
SUMMARY:FUN WONS vs BOCCE WINERS
URL:/League/Schedule/3026
DESCRIPTION:Regular Season match: FUN WONS vs BOCCE WINERS
LOCATION:Martinez Court 12
END:VEVENT
BEGIN:VEVENT
DTSTAMP:20260419T000000Z
UID:07b3048f-7a38-45c8-94f9-67c59c0a5e20@ClaytonBocce
DTSTART;TZID=America/Los_Angeles:20260826T183000
DTEND;TZID=America/Los_Angeles:20260826T210000
STATUS:CONFIRMED
SUMMARY:FUN WONS vs MARINA MAULERS
URL:/League/Schedule/3026
DESCRIPTION:Regular Season match: FUN WONS vs MARINA MAULERS
LOCATION:Martinez Court 9
END:VEVENT
BEGIN:VEVENT
DTSTAMP:20260419T000000Z
UID:42fabe8e-d61a-4926-a963-cca18b134a00@ClaytonBocce
DTSTART;TZID=America/Los_Angeles:20260902T183000
DTEND;TZID=America/Los_Angeles:20260902T210000
STATUS:CONFIRMED
SUMMARY:FUN WONS vs THE LONG SHOTS
URL:/League/Schedule/3026
DESCRIPTION:Regular Season match: FUN WONS vs THE LONG SHOTS
LOCATION:Martinez Court 3
END:VEVENT
BEGIN:VEVENT
DTSTAMP:20260419T000000Z
UID:d14749b7-488a-4f4b-8c47-9436a6cf8f2f@ClaytonBocce
DTSTART;TZID=America/Los_Angeles:20260909T183000
DTEND;TZID=America/Los_Angeles:20260909T210000
STATUS:CONFIRMED
SUMMARY:FUN WONS vs RELATIVITY
URL:/League/Schedule/3026
DESCRIPTION:Regular Season match: FUN WONS vs RELATIVITY
LOCATION:Martinez Court 10
END:VEVENT
BEGIN:VEVENT
DTSTAMP:20260419T000000Z
UID:bb788bf4-eb3c-4561-a037-0571f460f346@ClaytonBocce
DTSTART;TZID=America/Los_Angeles:20260916T183000
DTEND;TZID=America/Los_Angeles:20260916T210000
STATUS:CONFIRMED
SUMMARY:FUN WONS vs BALL BREAKERS
URL:/League/Schedule/3026
DESCRIPTION:Regular Season match: FUN WONS vs BALL BREAKERS
LOCATION:Martinez Court 7
END:VEVENT
END:VCALENDAR
