BEGIN:VCALENDAR
VERSION:2.0
PRODID:-//Clayton Bocce League
METHOD:PUBLISH
BEGIN:VTIMEZONE
TZID:America/Los_Angeles
X-LIC-LOCATION:America/Los_Angeles
BEGIN:DAYLIGHT
TZOFFSETFROM:-0800
TZOFFSETTO:-0700
TZNAME:PDT
DTSTART:20070311T020000
RRULE:FREQ=YEARLY;BYMONTH=3;BYDAY=2SU
END:DAYLIGHT
BEGIN:STANDARD
TZOFFSETFROM:-0700
TZOFFSETTO:-0800
TZNAME:PST
DTSTART:20071104T020000
RRULE:FREQ=YEARLY;BYMONTH=11;BYDAY=1SU
END:STANDARD
END:VTIMEZONE
BEGIN:VEVENT
DTSTAMP:20260419T000000Z
UID:ef270c95-372b-4d1e-83a0-805433a96d2f@ClaytonBocce
DTSTART;TZID=America/Los_Angeles:20260422T183000
DTEND;TZID=America/Los_Angeles:20260422T210000
STATUS:CONFIRMED
SUMMARY:BOCCE WINERS vs MARINA MAULERS
URL:/League/Schedule/3022
DESCRIPTION:Regular Season match: BOCCE WINERS vs MARINA MAU
 LERS
LOCATION:Martinez Court 7
END:VEVENT
BEGIN:VEVENT
DTSTAMP:20260419T000000Z
UID:7f65b217-cba7-4cea-9f38-8d1081ab2798@ClaytonBocce
DTSTART;TZID=America/Los_Angeles:20260429T183000
DTEND;TZID=America/Los_Angeles:20260429T210000
STATUS:CONFIRMED
SUMMARY:BOCCE WINERS vs FUN WONS
URL:/League/Schedule/3022
DESCRIPTION:Regular Season match: BOCCE WINERS vs FUN WONS
LOCATION:Martinez Court 12
END:VEVENT
BEGIN:VEVENT
DTSTAMP:20260419T000000Z
UID:63802b9f-dd55-455b-9c2b-42b429d8fe16@ClaytonBocce
DTSTART;TZID=America/Los_Angeles:20260506T183000
DTEND;TZID=America/Los_Angeles:20260506T210000
STATUS:CONFIRMED
SUMMARY:BOCCE WINERS vs THE LONG SHOTS
URL:/League/Schedule/3022
DESCRIPTION:Regular Season match: BOCCE WINERS vs THE LONG S
 HOTS
LOCATION:Martinez Court 2
END:VEVENT
BEGIN:VEVENT
DTSTAMP:20260419T000000Z
UID:e75045d0-f178-4499-823d-bf86e323e098@ClaytonBocce
DTSTART;TZID=America/Los_Angeles:20260513T183000
DTEND;TZID=America/Los_Angeles:20260513T210000
STATUS:CONFIRMED
SUMMARY:BOCCE WINERS vs RELATIVITY
URL:/League/Schedule/3022
DESCRIPTION:Regular Season match: BOCCE WINERS vs RELATIVITY
LOCATION:Martinez Court 6
END:VEVENT
BEGIN:VEVENT
DTSTAMP:20260419T000000Z
UID:34f888dd-8911-487d-bf04-01f013521b23@ClaytonBocce
DTSTART;TZID=America/Los_Angeles:20260520T183000
DTEND;TZID=America/Los_Angeles:20260520T210000
STATUS:CONFIRMED
SUMMARY:BOCCE WINERS vs BALLS OF JUSTICE
URL:/League/Schedule/3022
DESCRIPTION:Regular Season match: BOCCE WINERS vs BALLS OF J
 USTICE
LOCATION:Martinez Court 9
END:VEVENT
BEGIN:VEVENT
DTSTAMP:20260419T000000Z
UID:c4ad4a5c-e17a-40e9-8dbb-81da344269e5@ClaytonBocce
DTSTART;TZID=America/Los_Angeles:20260527T183000
DTEND;TZID=America/Los_Angeles:20260527T210000
STATUS:CONFIRMED
SUMMARY:BOCCE WINERS vs BALL BREAKERS
URL:/League/Schedule/3022
DESCRIPTION:Regular Season match: BOCCE WINERS vs BALL BREAK
 ERS
LOCATION:Martinez Court 10
END:VEVENT
BEGIN:VEVENT
DTSTAMP:20260419T000000Z
UID:40964507-d353-4c37-a6bd-4063f48b9f3f@ClaytonBocce
DTSTART;TZID=America/Los_Angeles:20260610T183000
DTEND;TZID=America/Los_Angeles:20260610T210000
STATUS:CONFIRMED
SUMMARY:BOCCE WINERS vs MARINA MAULERS
URL:/League/Schedule/3022
DESCRIPTION:Regular Season match: BOCCE WINERS vs MARINA MAU
 LERS
LOCATION:Martinez Court 3
END:VEVENT
BEGIN:VEVENT
DTSTAMP:20260419T000000Z
UID:e69ec0c8-e625-458a-a384-cfbb81258fa2@ClaytonBocce
DTSTART;TZID=America/Los_Angeles:20260617T183000
DTEND;TZID=America/Los_Angeles:20260617T210000
STATUS:CONFIRMED
SUMMARY:BOCCE WINERS vs FUN WONS
URL:/League/Schedule/3022
DESCRIPTION:Regular Season match: BOCCE WINERS vs FUN WONS
LOCATION:Martinez Court 5
END:VEVENT
BEGIN:VEVENT
DTSTAMP:20260419T000000Z
UID:9851e163-0e21-4947-8b85-13af483dbe00@ClaytonBocce
DTSTART;TZID=America/Los_Angeles:20260624T183000
DTEND;TZID=America/Los_Angeles:20260624T210000
STATUS:CONFIRMED
SUMMARY:BOCCE WINERS vs THE LONG SHOTS
URL:/League/Schedule/3022
DESCRIPTION:Regular Season match: BOCCE WINERS vs THE LONG S
 HOTS
LOCATION:Martinez Court 4
END:VEVENT
BEGIN:VEVENT
DTSTAMP:20260419T000000Z
UID:45333815-6db7-4e0a-a1d4-3f4336d5b1ce@ClaytonBocce
DTSTART;TZID=America/Los_Angeles:20260708T183000
DTEND;TZID=America/Los_Angeles:20260708T210000
STATUS:CONFIRMED
SUMMARY:BOCCE WINERS vs RELATIVITY
URL:/League/Schedule/3022
DESCRIPTION:Regular Season match: BOCCE WINERS vs RELATIVITY
LOCATION:Martinez Court 14
END:VEVENT
BEGIN:VEVENT
DTSTAMP:20260419T000000Z
UID:17cb9dcb-6a9a-4916-be03-44b50a742743@ClaytonBocce
DTSTART;TZID=America/Los_Angeles:20260715T183000
DTEND;TZID=America/Los_Angeles:20260715T210000
STATUS:CONFIRMED
SUMMARY:BOCCE WINERS vs BALLS OF JUSTICE
URL:/League/Schedule/3022
DESCRIPTION:Regular Season match: BOCCE WINERS vs BALLS OF J
 USTICE
LOCATION:Martinez Court 11
END:VEVENT
BEGIN:VEVENT
DTSTAMP:20260419T000000Z
UID:28567a21-f585-4551-b295-04d382b6a78f@ClaytonBocce
DTSTART;TZID=America/Los_Angeles:20260722T183000
DTEND;TZID=America/Los_Angeles:20260722T210000
STATUS:CONFIRMED
SUMMARY:BOCCE WINERS vs BALL BREAKERS
URL:/League/Schedule/3022
DESCRIPTION:Regular Season match: BOCCE WINERS vs BALL BREAK
 ERS
LOCATION:Martinez Court 13
END:VEVENT
BEGIN:VEVENT
DTSTAMP:20260419T000000Z
UID:5baeec7d-f14d-4e93-9c1a-f9da74626eb8@ClaytonBocce
DTSTART;TZID=America/Los_Angeles:20260805T183000
DTEND;TZID=America/Los_Angeles:20260805T210000
STATUS:CONFIRMED
SUMMARY:BOCCE WINERS vs MARINA MAULERS
URL:/League/Schedule/3022
DESCRIPTION:Regular Season match: BOCCE WINERS vs MARINA MAU
 LERS
LOCATION:Martinez Court 14
END:VEVENT
BEGIN:VEVENT
DTSTAMP:20260419T000000Z
UID:9cc38931-8829-441e-bc5c-ea9c281e9e50@ClaytonBocce
DTSTART;TZID=America/Los_Angeles:20260812T183000
DTEND;TZID=America/Los_Angeles:20260812T210000
STATUS:CONFIRMED
SUMMARY:BOCCE WINERS vs FUN WONS
URL:/League/Schedule/3022
DESCRIPTION:Regular Season match: BOCCE WINERS vs FUN WONS
LOCATION:Martinez Court 12
END:VEVENT
BEGIN:VEVENT
DTSTAMP:20260419T000000Z
UID:929617a2-bf0d-4c7d-bad2-d7be0093c571@ClaytonBocce
DTSTART;TZID=America/Los_Angeles:20260819T183000
DTEND;TZID=America/Los_Angeles:20260819T210000
STATUS:CONFIRMED
SUMMARY:BOCCE WINERS vs THE LONG SHOTS
URL:/League/Schedule/3022
DESCRIPTION:Regular Season match: BOCCE WINERS vs THE LONG S
 HOTS
LOCATION:Martinez Court 15
END:VEVENT
BEGIN:VEVENT
DTSTAMP:20260419T000000Z
UID:02e5e4c1-d7b1-425c-940a-dabca79bb199@ClaytonBocce
DTSTART;TZID=America/Los_Angeles:20260826T183000
DTEND;TZID=America/Los_Angeles:20260826T210000
STATUS:CONFIRMED
SUMMARY:BOCCE WINERS vs RELATIVITY
URL:/League/Schedule/3022
DESCRIPTION:Regular Season match: BOCCE WINERS vs RELATIVITY
LOCATION:Martinez Court 5
END:VEVENT
BEGIN:VEVENT
DTSTAMP:20260419T000000Z
UID:0cff4f0a-48d2-4051-b1c1-ee5f1e735ca1@ClaytonBocce
DTSTART;TZID=America/Los_Angeles:20260902T183000
DTEND;TZID=America/Los_Angeles:20260902T210000
STATUS:CONFIRMED
SUMMARY:BOCCE WINERS vs BALLS OF JUSTICE
URL:/League/Schedule/3022
DESCRIPTION:Regular Season match: BOCCE WINERS vs BALLS OF J
 USTICE
LOCATION:Martinez Court 6
END:VEVENT
BEGIN:VEVENT
DTSTAMP:20260419T000000Z
UID:3543c9ff-b397-4a5c-9c13-247097854a01@ClaytonBocce
DTSTART;TZID=America/Los_Angeles:20260909T183000
DTEND;TZID=America/Los_Angeles:20260909T210000
STATUS:CONFIRMED
SUMMARY:BOCCE WINERS vs BALL BREAKERS
URL:/League/Schedule/3022
DESCRIPTION:Regular Season match: BOCCE WINERS vs BALL BREAK
 ERS
LOCATION:Martinez Court 1
END:VEVENT
END:VCALENDAR
