BEGIN:VCALENDAR
VERSION:2.0
PRODID:-//Clayton Bocce League
METHOD:PUBLISH
BEGIN:VTIMEZONE
TZID:America/Los_Angeles
X-LIC-LOCATION:America/Los_Angeles
BEGIN:DAYLIGHT
TZOFFSETFROM:-0800
TZOFFSETTO:-0700
TZNAME:PDT
DTSTART:20070311T020000
RRULE:FREQ=YEARLY;BYMONTH=3;BYDAY=2SU
END:DAYLIGHT
BEGIN:STANDARD
TZOFFSETFROM:-0700
TZOFFSETTO:-0800
TZNAME:PST
DTSTART:20071104T020000
RRULE:FREQ=YEARLY;BYMONTH=11;BYDAY=1SU
END:STANDARD
END:VTIMEZONE
BEGIN:VEVENT
DTSTAMP:20260419T000000Z
UID:ef270c95-372b-4d1e-83a0-805433a96d2f@ClaytonBocce
DTSTART;TZID=America/Los_Angeles:20260422T183000
DTEND;TZID=America/Los_Angeles:20260422T210000
STATUS:CONFIRMED
SUMMARY:MARINA MAULERS vs BOCCE WINERS
URL:/League/Schedule/3027
DESCRIPTION:Regular Season match: MARINA MAULERS vs BOCCE WI
 NERS
LOCATION:Martinez Court 7
END:VEVENT
BEGIN:VEVENT
DTSTAMP:20260419T000000Z
UID:118e5208-d14e-4659-9dec-6fdbd17e534a@ClaytonBocce
DTSTART;TZID=America/Los_Angeles:20260506T183000
DTEND;TZID=America/Los_Angeles:20260506T210000
STATUS:CONFIRMED
SUMMARY:MARINA MAULERS vs BALLS OF JUSTICE
URL:/League/Schedule/3027
DESCRIPTION:Regular Season match: MARINA MAULERS vs BALLS OF
  JUSTICE
LOCATION:Martinez Court 4
END:VEVENT
BEGIN:VEVENT
DTSTAMP:20260419T000000Z
UID:44acedfd-c39c-43f7-aaea-1db11f11d065@ClaytonBocce
DTSTART;TZID=America/Los_Angeles:20260513T183000
DTEND;TZID=America/Los_Angeles:20260513T210000
STATUS:CONFIRMED
SUMMARY:MARINA MAULERS vs FUN WONS
URL:/League/Schedule/3027
DESCRIPTION:Regular Season match: MARINA MAULERS vs FUN WONS
LOCATION:Martinez Court 5
END:VEVENT
BEGIN:VEVENT
DTSTAMP:20260419T000000Z
UID:8d75a28b-951e-4c33-9a9d-0320634b45e6@ClaytonBocce
DTSTART;TZID=America/Los_Angeles:20260520T183000
DTEND;TZID=America/Los_Angeles:20260520T210000
STATUS:CONFIRMED
SUMMARY:MARINA MAULERS vs BALL BREAKERS
URL:/League/Schedule/3027
DESCRIPTION:Regular Season match: MARINA MAULERS vs BALL BRE
 AKERS
LOCATION:Martinez Court 11
END:VEVENT
BEGIN:VEVENT
DTSTAMP:20260419T000000Z
UID:f5e01571-ae97-41f1-84c1-ddb35d59923e@ClaytonBocce
DTSTART;TZID=America/Los_Angeles:20260527T183000
DTEND;TZID=America/Los_Angeles:20260527T210000
STATUS:CONFIRMED
SUMMARY:MARINA MAULERS vs THE LONG SHOTS
URL:/League/Schedule/3027
DESCRIPTION:Regular Season match: MARINA MAULERS vs THE LONG
  SHOTS
LOCATION:Martinez Court 12
END:VEVENT
BEGIN:VEVENT
DTSTAMP:20260419T000000Z
UID:f70541ba-9bb4-41ed-b4c4-60df50857b19@ClaytonBocce
DTSTART;TZID=America/Los_Angeles:20260603T183000
DTEND;TZID=America/Los_Angeles:20260603T210000
STATUS:CONFIRMED
SUMMARY:MARINA MAULERS vs RELATIVITY
URL:/League/Schedule/3027
DESCRIPTION:Regular Season match: MARINA MAULERS vs RELATIVI
 TY
LOCATION:Martinez Court 15
END:VEVENT
BEGIN:VEVENT
DTSTAMP:20260419T000000Z
UID:40964507-d353-4c37-a6bd-4063f48b9f3f@ClaytonBocce
DTSTART;TZID=America/Los_Angeles:20260610T183000
DTEND;TZID=America/Los_Angeles:20260610T210000
STATUS:CONFIRMED
SUMMARY:MARINA MAULERS vs BOCCE WINERS
URL:/League/Schedule/3027
DESCRIPTION:Regular Season match: MARINA MAULERS vs BOCCE WI
 NERS
LOCATION:Martinez Court 3
END:VEVENT
BEGIN:VEVENT
DTSTAMP:20260419T000000Z
UID:0d63b401-170e-4cc5-8cf0-6b3a18c4ca90@ClaytonBocce
DTSTART;TZID=America/Los_Angeles:20260624T183000
DTEND;TZID=America/Los_Angeles:20260624T210000
STATUS:CONFIRMED
SUMMARY:MARINA MAULERS vs BALLS OF JUSTICE
URL:/League/Schedule/3027
DESCRIPTION:Regular Season match: MARINA MAULERS vs BALLS OF
  JUSTICE
LOCATION:Martinez Court 6
END:VEVENT
BEGIN:VEVENT
DTSTAMP:20260419T000000Z
UID:2f8e5a3c-e809-42e8-9c8b-d6455d54acd6@ClaytonBocce
DTSTART;TZID=America/Los_Angeles:20260708T183000
DTEND;TZID=America/Los_Angeles:20260708T210000
STATUS:CONFIRMED
SUMMARY:MARINA MAULERS vs FUN WONS
URL:/League/Schedule/3027
DESCRIPTION:Regular Season match: MARINA MAULERS vs FUN WONS
LOCATION:Martinez Court 13
END:VEVENT
BEGIN:VEVENT
DTSTAMP:20260419T000000Z
UID:e4dec113-3e11-4771-9e44-f7a63e457f17@ClaytonBocce
DTSTART;TZID=America/Los_Angeles:20260715T183000
DTEND;TZID=America/Los_Angeles:20260715T210000
STATUS:CONFIRMED
SUMMARY:MARINA MAULERS vs BALL BREAKERS
URL:/League/Schedule/3027
DESCRIPTION:Regular Season match: MARINA MAULERS vs BALL BRE
 AKERS
LOCATION:Martinez Court 15
END:VEVENT
BEGIN:VEVENT
DTSTAMP:20260419T000000Z
UID:674914d3-0359-4149-bf35-d89505f8a0da@ClaytonBocce
DTSTART;TZID=America/Los_Angeles:20260722T183000
DTEND;TZID=America/Los_Angeles:20260722T210000
STATUS:CONFIRMED
SUMMARY:MARINA MAULERS vs THE LONG SHOTS
URL:/League/Schedule/3027
DESCRIPTION:Regular Season match: MARINA MAULERS vs THE LONG
  SHOTS
LOCATION:Martinez Court 11
END:VEVENT
BEGIN:VEVENT
DTSTAMP:20260419T000000Z
UID:b7a6edea-38f1-4795-9708-bfcd4fd8692f@ClaytonBocce
DTSTART;TZID=America/Los_Angeles:20260729T183000
DTEND;TZID=America/Los_Angeles:20260729T210000
STATUS:CONFIRMED
SUMMARY:MARINA MAULERS vs RELATIVITY
URL:/League/Schedule/3027
DESCRIPTION:Regular Season match: MARINA MAULERS vs RELATIVI
 TY
LOCATION:Martinez Court 1
END:VEVENT
BEGIN:VEVENT
DTSTAMP:20260419T000000Z
UID:5baeec7d-f14d-4e93-9c1a-f9da74626eb8@ClaytonBocce
DTSTART;TZID=America/Los_Angeles:20260805T183000
DTEND;TZID=America/Los_Angeles:20260805T210000
STATUS:CONFIRMED
SUMMARY:MARINA MAULERS vs BOCCE WINERS
URL:/League/Schedule/3027
DESCRIPTION:Regular Season match: MARINA MAULERS vs BOCCE WI
 NERS
LOCATION:Martinez Court 14
END:VEVENT
BEGIN:VEVENT
DTSTAMP:20260419T000000Z
UID:fe673816-b98c-49a0-97c8-ddecfae4ebb4@ClaytonBocce
DTSTART;TZID=America/Los_Angeles:20260819T183000
DTEND;TZID=America/Los_Angeles:20260819T210000
STATUS:CONFIRMED
SUMMARY:MARINA MAULERS vs BALLS OF JUSTICE
URL:/League/Schedule/3027
DESCRIPTION:Regular Season match: MARINA MAULERS vs BALLS OF
  JUSTICE
LOCATION:Martinez Court 10
END:VEVENT
BEGIN:VEVENT
DTSTAMP:20260419T000000Z
UID:07b3048f-7a38-45c8-94f9-67c59c0a5e20@ClaytonBocce
DTSTART;TZID=America/Los_Angeles:20260826T183000
DTEND;TZID=America/Los_Angeles:20260826T210000
STATUS:CONFIRMED
SUMMARY:MARINA MAULERS vs FUN WONS
URL:/League/Schedule/3027
DESCRIPTION:Regular Season match: MARINA MAULERS vs FUN WONS
LOCATION:Martinez Court 9
END:VEVENT
BEGIN:VEVENT
DTSTAMP:20260419T000000Z
UID:791309a7-6de8-4754-bbd0-a1d62398fd27@ClaytonBocce
DTSTART;TZID=America/Los_Angeles:20260902T183000
DTEND;TZID=America/Los_Angeles:20260902T210000
STATUS:CONFIRMED
SUMMARY:MARINA MAULERS vs BALL BREAKERS
URL:/League/Schedule/3027
DESCRIPTION:Regular Season match: MARINA MAULERS vs BALL BRE
 AKERS
LOCATION:Martinez Court 5
END:VEVENT
BEGIN:VEVENT
DTSTAMP:20260419T000000Z
UID:bef6edbf-e3de-4771-883b-25211fe92f55@ClaytonBocce
DTSTART;TZID=America/Los_Angeles:20260909T183000
DTEND;TZID=America/Los_Angeles:20260909T210000
STATUS:CONFIRMED
SUMMARY:MARINA MAULERS vs THE LONG SHOTS
URL:/League/Schedule/3027
DESCRIPTION:Regular Season match: MARINA MAULERS vs THE LONG
  SHOTS
LOCATION:Martinez Court 8
END:VEVENT
BEGIN:VEVENT
DTSTAMP:20260419T000000Z
UID:a751f705-08d8-47b7-bfa1-2e5bf1aee5f8@ClaytonBocce
DTSTART;TZID=America/Los_Angeles:20260916T183000
DTEND;TZID=America/Los_Angeles:20260916T210000
STATUS:CONFIRMED
SUMMARY:MARINA MAULERS vs RELATIVITY
URL:/League/Schedule/3027
DESCRIPTION:Regular Season match: MARINA MAULERS vs RELATIVI
 TY
LOCATION:Martinez Court 4
END:VEVENT
END:VCALENDAR
