BEGIN:VCALENDAR
VERSION:2.0
PRODID:-//Clayton Bocce League
METHOD:PUBLISH
BEGIN:VTIMEZONE
TZID:America/Los_Angeles
X-LIC-LOCATION:America/Los_Angeles
BEGIN:DAYLIGHT
TZOFFSETFROM:-0800
TZOFFSETTO:-0700
TZNAME:PDT
DTSTART:20070311T020000
RRULE:FREQ=YEARLY;BYMONTH=3;BYDAY=2SU
END:DAYLIGHT
BEGIN:STANDARD
TZOFFSETFROM:-0700
TZOFFSETTO:-0800
TZNAME:PST
DTSTART:20071104T020000
RRULE:FREQ=YEARLY;BYMONTH=11;BYDAY=1SU
END:STANDARD
END:VTIMEZONE
BEGIN:VEVENT
DTSTAMP:20260419T000000Z
UID:f26ba44f-008c-427d-9bff-955bc8c1525e@ClaytonBocce
DTSTART;TZID=America/Los_Angeles:20260422T183000
DTEND;TZID=America/Los_Angeles:20260422T210000
STATUS:CONFIRMED
SUMMARY:RELATIVITY vs THE LONG SHOTS
URL:/League/Schedule/3024
DESCRIPTION:Regular Season match: RELATIVITY vs THE LONG SHO
 TS
LOCATION:Martinez Court 9
END:VEVENT
BEGIN:VEVENT
DTSTAMP:20260419T000000Z
UID:d2c9b321-9210-4b80-a81a-6d7b22b4d93f@ClaytonBocce
DTSTART;TZID=America/Los_Angeles:20260429T183000
DTEND;TZID=America/Los_Angeles:20260429T210000
STATUS:CONFIRMED
SUMMARY:RELATIVITY vs BALLS OF JUSTICE
URL:/League/Schedule/3024
DESCRIPTION:Regular Season match: RELATIVITY vs BALLS OF JUS
 TICE
LOCATION:Martinez Court 13
END:VEVENT
BEGIN:VEVENT
DTSTAMP:20260419T000000Z
UID:9f472d1c-4e30-47d7-a74f-09cc6d981a3c@ClaytonBocce
DTSTART;TZID=America/Los_Angeles:20260506T183000
DTEND;TZID=America/Los_Angeles:20260506T210000
STATUS:CONFIRMED
SUMMARY:RELATIVITY vs BALL BREAKERS
URL:/League/Schedule/3024
DESCRIPTION:Regular Season match: RELATIVITY vs BALL BREAKER
 S
LOCATION:Martinez Court 3
END:VEVENT
BEGIN:VEVENT
DTSTAMP:20260419T000000Z
UID:e75045d0-f178-4499-823d-bf86e323e098@ClaytonBocce
DTSTART;TZID=America/Los_Angeles:20260513T183000
DTEND;TZID=America/Los_Angeles:20260513T210000
STATUS:CONFIRMED
SUMMARY:RELATIVITY vs BOCCE WINERS
URL:/League/Schedule/3024
DESCRIPTION:Regular Season match: RELATIVITY vs BOCCE WINERS
LOCATION:Martinez Court 6
END:VEVENT
BEGIN:VEVENT
DTSTAMP:20260419T000000Z
UID:ac2c15e3-58a2-4cb7-93d7-009b9542f651@ClaytonBocce
DTSTART;TZID=America/Los_Angeles:20260527T183000
DTEND;TZID=America/Los_Angeles:20260527T210000
STATUS:CONFIRMED
SUMMARY:RELATIVITY vs FUN WONS
URL:/League/Schedule/3024
DESCRIPTION:Regular Season match: RELATIVITY vs FUN WONS
LOCATION:Martinez Court 11
END:VEVENT
BEGIN:VEVENT
DTSTAMP:20260419T000000Z
UID:f70541ba-9bb4-41ed-b4c4-60df50857b19@ClaytonBocce
DTSTART;TZID=America/Los_Angeles:20260603T183000
DTEND;TZID=America/Los_Angeles:20260603T210000
STATUS:CONFIRMED
SUMMARY:RELATIVITY vs MARINA MAULERS
URL:/League/Schedule/3024
DESCRIPTION:Regular Season match: RELATIVITY vs MARINA MAULE
 RS
LOCATION:Martinez Court 15
END:VEVENT
BEGIN:VEVENT
DTSTAMP:20260419T000000Z
UID:8d713f83-196b-4f4e-9e0a-e37c7d75ffb4@ClaytonBocce
DTSTART;TZID=America/Los_Angeles:20260610T183000
DTEND;TZID=America/Los_Angeles:20260610T210000
STATUS:CONFIRMED
SUMMARY:RELATIVITY vs THE LONG SHOTS
URL:/League/Schedule/3024
DESCRIPTION:Regular Season match: RELATIVITY vs THE LONG SHO
 TS
LOCATION:Martinez Court 6
END:VEVENT
BEGIN:VEVENT
DTSTAMP:20260419T000000Z
UID:f07489d9-7976-45ac-86ed-82167a3fa16c@ClaytonBocce
DTSTART;TZID=America/Los_Angeles:20260617T183000
DTEND;TZID=America/Los_Angeles:20260617T210000
STATUS:CONFIRMED
SUMMARY:RELATIVITY vs BALLS OF JUSTICE
URL:/League/Schedule/3024
DESCRIPTION:Regular Season match: RELATIVITY vs BALLS OF JUS
 TICE
LOCATION:Martinez Court 2
END:VEVENT
BEGIN:VEVENT
DTSTAMP:20260419T000000Z
UID:8ffe509b-d7dd-4e2a-a25a-b403f124b2f7@ClaytonBocce
DTSTART;TZID=America/Los_Angeles:20260624T183000
DTEND;TZID=America/Los_Angeles:20260624T210000
STATUS:CONFIRMED
SUMMARY:RELATIVITY vs BALL BREAKERS
URL:/League/Schedule/3024
DESCRIPTION:Regular Season match: RELATIVITY vs BALL BREAKER
 S
LOCATION:Martinez Court 5
END:VEVENT
BEGIN:VEVENT
DTSTAMP:20260419T000000Z
UID:45333815-6db7-4e0a-a1d4-3f4336d5b1ce@ClaytonBocce
DTSTART;TZID=America/Los_Angeles:20260708T183000
DTEND;TZID=America/Los_Angeles:20260708T210000
STATUS:CONFIRMED
SUMMARY:RELATIVITY vs BOCCE WINERS
URL:/League/Schedule/3024
DESCRIPTION:Regular Season match: RELATIVITY vs BOCCE WINERS
LOCATION:Martinez Court 14
END:VEVENT
BEGIN:VEVENT
DTSTAMP:20260419T000000Z
UID:fef31319-bf85-49c4-b9d0-d2137c32cfe4@ClaytonBocce
DTSTART;TZID=America/Los_Angeles:20260722T183000
DTEND;TZID=America/Los_Angeles:20260722T210000
STATUS:CONFIRMED
SUMMARY:RELATIVITY vs FUN WONS
URL:/League/Schedule/3024
DESCRIPTION:Regular Season match: RELATIVITY vs FUN WONS
LOCATION:Martinez Court 2
END:VEVENT
BEGIN:VEVENT
DTSTAMP:20260419T000000Z
UID:b7a6edea-38f1-4795-9708-bfcd4fd8692f@ClaytonBocce
DTSTART;TZID=America/Los_Angeles:20260729T183000
DTEND;TZID=America/Los_Angeles:20260729T210000
STATUS:CONFIRMED
SUMMARY:RELATIVITY vs MARINA MAULERS
URL:/League/Schedule/3024
DESCRIPTION:Regular Season match: RELATIVITY vs MARINA MAULE
 RS
LOCATION:Martinez Court 1
END:VEVENT
BEGIN:VEVENT
DTSTAMP:20260419T000000Z
UID:b00bdc61-6299-480c-bf7b-b6f872ce5b3f@ClaytonBocce
DTSTART;TZID=America/Los_Angeles:20260805T183000
DTEND;TZID=America/Los_Angeles:20260805T210000
STATUS:CONFIRMED
SUMMARY:RELATIVITY vs THE LONG SHOTS
URL:/League/Schedule/3024
DESCRIPTION:Regular Season match: RELATIVITY vs THE LONG SHO
 TS
LOCATION:Martinez Court 13
END:VEVENT
BEGIN:VEVENT
DTSTAMP:20260419T000000Z
UID:0fceecfe-7a01-4b9f-a512-a9a33c322ea9@ClaytonBocce
DTSTART;TZID=America/Los_Angeles:20260812T183000
DTEND;TZID=America/Los_Angeles:20260812T210000
STATUS:CONFIRMED
SUMMARY:RELATIVITY vs BALLS OF JUSTICE
URL:/League/Schedule/3024
DESCRIPTION:Regular Season match: RELATIVITY vs BALLS OF JUS
 TICE
LOCATION:Martinez Court 7
END:VEVENT
BEGIN:VEVENT
DTSTAMP:20260419T000000Z
UID:f926d34e-797b-4f68-9a72-f090a273366f@ClaytonBocce
DTSTART;TZID=America/Los_Angeles:20260819T183000
DTEND;TZID=America/Los_Angeles:20260819T210000
STATUS:CONFIRMED
SUMMARY:RELATIVITY vs BALL BREAKERS
URL:/League/Schedule/3024
DESCRIPTION:Regular Season match: RELATIVITY vs BALL BREAKER
 S
LOCATION:Martinez Court 12
END:VEVENT
BEGIN:VEVENT
DTSTAMP:20260419T000000Z
UID:02e5e4c1-d7b1-425c-940a-dabca79bb199@ClaytonBocce
DTSTART;TZID=America/Los_Angeles:20260826T183000
DTEND;TZID=America/Los_Angeles:20260826T210000
STATUS:CONFIRMED
SUMMARY:RELATIVITY vs BOCCE WINERS
URL:/League/Schedule/3024
DESCRIPTION:Regular Season match: RELATIVITY vs BOCCE WINERS
LOCATION:Martinez Court 5
END:VEVENT
BEGIN:VEVENT
DTSTAMP:20260419T000000Z
UID:d14749b7-488a-4f4b-8c47-9436a6cf8f2f@ClaytonBocce
DTSTART;TZID=America/Los_Angeles:20260909T183000
DTEND;TZID=America/Los_Angeles:20260909T210000
STATUS:CONFIRMED
SUMMARY:RELATIVITY vs FUN WONS
URL:/League/Schedule/3024
DESCRIPTION:Regular Season match: RELATIVITY vs FUN WONS
LOCATION:Martinez Court 10
END:VEVENT
BEGIN:VEVENT
DTSTAMP:20260419T000000Z
UID:a751f705-08d8-47b7-bfa1-2e5bf1aee5f8@ClaytonBocce
DTSTART;TZID=America/Los_Angeles:20260916T183000
DTEND;TZID=America/Los_Angeles:20260916T210000
STATUS:CONFIRMED
SUMMARY:RELATIVITY vs MARINA MAULERS
URL:/League/Schedule/3024
DESCRIPTION:Regular Season match: RELATIVITY vs MARINA MAULE
 RS
LOCATION:Martinez Court 4
END:VEVENT
END:VCALENDAR
