BEGIN:VCALENDAR
VERSION:2.0
PRODID:-//Clayton Bocce League
METHOD:PUBLISH
BEGIN:VTIMEZONE
TZID:America/Los_Angeles
X-LIC-LOCATION:America/Los_Angeles
BEGIN:DAYLIGHT
TZOFFSETFROM:-0800
TZOFFSETTO:-0700
TZNAME:PDT
DTSTART:20070311T020000
RRULE:FREQ=YEARLY;BYMONTH=3;BYDAY=2SU
END:DAYLIGHT
BEGIN:STANDARD
TZOFFSETFROM:-0700
TZOFFSETTO:-0800
TZNAME:PST
DTSTART:20071104T020000
RRULE:FREQ=YEARLY;BYMONTH=11;BYDAY=1SU
END:STANDARD
END:VTIMEZONE
BEGIN:VEVENT
DTSTAMP:20260419T000000Z
UID:f26ba44f-008c-427d-9bff-955bc8c1525e@ClaytonBocce
DTSTART;TZID=America/Los_Angeles:20260422T183000
DTEND;TZID=America/Los_Angeles:20260422T210000
STATUS:CONFIRMED
SUMMARY:THE LONG SHOTS vs RELATIVITY
URL:/League/Schedule/3025
DESCRIPTION:Regular Season match: THE LONG SHOTS vs RELATIVI
 TY
LOCATION:Martinez Court 9
END:VEVENT
BEGIN:VEVENT
DTSTAMP:20260419T000000Z
UID:a645f800-5b10-481b-bb32-d605193352d8@ClaytonBocce
DTSTART;TZID=America/Los_Angeles:20260429T183000
DTEND;TZID=America/Los_Angeles:20260429T210000
STATUS:CONFIRMED
SUMMARY:THE LONG SHOTS vs BALL BREAKERS
URL:/League/Schedule/3025
DESCRIPTION:Regular Season match: THE LONG SHOTS vs BALL BRE
 AKERS
LOCATION:Martinez Court 14
END:VEVENT
BEGIN:VEVENT
DTSTAMP:20260419T000000Z
UID:63802b9f-dd55-455b-9c2b-42b429d8fe16@ClaytonBocce
DTSTART;TZID=America/Los_Angeles:20260506T183000
DTEND;TZID=America/Los_Angeles:20260506T210000
STATUS:CONFIRMED
SUMMARY:THE LONG SHOTS vs BOCCE WINERS
URL:/League/Schedule/3025
DESCRIPTION:Regular Season match: THE LONG SHOTS vs BOCCE WI
 NERS
LOCATION:Martinez Court 2
END:VEVENT
BEGIN:VEVENT
DTSTAMP:20260419T000000Z
UID:1daa0e1a-b561-4fd3-8819-96ccd536b601@ClaytonBocce
DTSTART;TZID=America/Los_Angeles:20260520T183000
DTEND;TZID=America/Los_Angeles:20260520T210000
STATUS:CONFIRMED
SUMMARY:THE LONG SHOTS vs FUN WONS
URL:/League/Schedule/3025
DESCRIPTION:Regular Season match: THE LONG SHOTS vs FUN WONS
LOCATION:Martinez Court 10
END:VEVENT
BEGIN:VEVENT
DTSTAMP:20260419T000000Z
UID:f5e01571-ae97-41f1-84c1-ddb35d59923e@ClaytonBocce
DTSTART;TZID=America/Los_Angeles:20260527T183000
DTEND;TZID=America/Los_Angeles:20260527T210000
STATUS:CONFIRMED
SUMMARY:THE LONG SHOTS vs MARINA MAULERS
URL:/League/Schedule/3025
DESCRIPTION:Regular Season match: THE LONG SHOTS vs MARINA M
 AULERS
LOCATION:Martinez Court 12
END:VEVENT
BEGIN:VEVENT
DTSTAMP:20260419T000000Z
UID:ed58a138-78ef-48ca-ad1e-f92ea6316583@ClaytonBocce
DTSTART;TZID=America/Los_Angeles:20260603T183000
DTEND;TZID=America/Los_Angeles:20260603T210000
STATUS:CONFIRMED
SUMMARY:THE LONG SHOTS vs BALLS OF JUSTICE
URL:/League/Schedule/3025
DESCRIPTION:Regular Season match: THE LONG SHOTS vs BALLS OF
  JUSTICE
LOCATION:Martinez Court 1
END:VEVENT
BEGIN:VEVENT
DTSTAMP:20260419T000000Z
UID:8d713f83-196b-4f4e-9e0a-e37c7d75ffb4@ClaytonBocce
DTSTART;TZID=America/Los_Angeles:20260610T183000
DTEND;TZID=America/Los_Angeles:20260610T210000
STATUS:CONFIRMED
SUMMARY:THE LONG SHOTS vs RELATIVITY
URL:/League/Schedule/3025
DESCRIPTION:Regular Season match: THE LONG SHOTS vs RELATIVI
 TY
LOCATION:Martinez Court 6
END:VEVENT
BEGIN:VEVENT
DTSTAMP:20260419T000000Z
UID:d2ca301f-8b02-4c40-b232-9e414bd90162@ClaytonBocce
DTSTART;TZID=America/Los_Angeles:20260617T183000
DTEND;TZID=America/Los_Angeles:20260617T210000
STATUS:CONFIRMED
SUMMARY:THE LONG SHOTS vs BALL BREAKERS
URL:/League/Schedule/3025
DESCRIPTION:Regular Season match: THE LONG SHOTS vs BALL BRE
 AKERS
LOCATION:Martinez Court 15
END:VEVENT
BEGIN:VEVENT
DTSTAMP:20260419T000000Z
UID:9851e163-0e21-4947-8b85-13af483dbe00@ClaytonBocce
DTSTART;TZID=America/Los_Angeles:20260624T183000
DTEND;TZID=America/Los_Angeles:20260624T210000
STATUS:CONFIRMED
SUMMARY:THE LONG SHOTS vs BOCCE WINERS
URL:/League/Schedule/3025
DESCRIPTION:Regular Season match: THE LONG SHOTS vs BOCCE WI
 NERS
LOCATION:Martinez Court 4
END:VEVENT
BEGIN:VEVENT
DTSTAMP:20260419T000000Z
UID:c920b596-3671-4527-b16e-02a2871a5aad@ClaytonBocce
DTSTART;TZID=America/Los_Angeles:20260715T183000
DTEND;TZID=America/Los_Angeles:20260715T210000
STATUS:CONFIRMED
SUMMARY:THE LONG SHOTS vs FUN WONS
URL:/League/Schedule/3025
DESCRIPTION:Regular Season match: THE LONG SHOTS vs FUN WONS
LOCATION:Martinez Court 1
END:VEVENT
BEGIN:VEVENT
DTSTAMP:20260419T000000Z
UID:674914d3-0359-4149-bf35-d89505f8a0da@ClaytonBocce
DTSTART;TZID=America/Los_Angeles:20260722T183000
DTEND;TZID=America/Los_Angeles:20260722T210000
STATUS:CONFIRMED
SUMMARY:THE LONG SHOTS vs MARINA MAULERS
URL:/League/Schedule/3025
DESCRIPTION:Regular Season match: THE LONG SHOTS vs MARINA M
 AULERS
LOCATION:Martinez Court 11
END:VEVENT
BEGIN:VEVENT
DTSTAMP:20260419T000000Z
UID:40a0ee39-c647-41c1-a078-d972f588614e@ClaytonBocce
DTSTART;TZID=America/Los_Angeles:20260729T183000
DTEND;TZID=America/Los_Angeles:20260729T210000
STATUS:CONFIRMED
SUMMARY:THE LONG SHOTS vs BALLS OF JUSTICE
URL:/League/Schedule/3025
DESCRIPTION:Regular Season match: THE LONG SHOTS vs BALLS OF
  JUSTICE
LOCATION:Martinez Court 14
END:VEVENT
BEGIN:VEVENT
DTSTAMP:20260419T000000Z
UID:b00bdc61-6299-480c-bf7b-b6f872ce5b3f@ClaytonBocce
DTSTART;TZID=America/Los_Angeles:20260805T183000
DTEND;TZID=America/Los_Angeles:20260805T210000
STATUS:CONFIRMED
SUMMARY:THE LONG SHOTS vs RELATIVITY
URL:/League/Schedule/3025
DESCRIPTION:Regular Season match: THE LONG SHOTS vs RELATIVI
 TY
LOCATION:Martinez Court 13
END:VEVENT
BEGIN:VEVENT
DTSTAMP:20260419T000000Z
UID:9173869c-4a13-47bb-8fe8-62bddf529b7b@ClaytonBocce
DTSTART;TZID=America/Los_Angeles:20260812T183000
DTEND;TZID=America/Los_Angeles:20260812T210000
STATUS:CONFIRMED
SUMMARY:THE LONG SHOTS vs BALL BREAKERS
URL:/League/Schedule/3025
DESCRIPTION:Regular Season match: THE LONG SHOTS vs BALL BRE
 AKERS
LOCATION:Martinez Court 9
END:VEVENT
BEGIN:VEVENT
DTSTAMP:20260419T000000Z
UID:929617a2-bf0d-4c7d-bad2-d7be0093c571@ClaytonBocce
DTSTART;TZID=America/Los_Angeles:20260819T183000
DTEND;TZID=America/Los_Angeles:20260819T210000
STATUS:CONFIRMED
SUMMARY:THE LONG SHOTS vs BOCCE WINERS
URL:/League/Schedule/3025
DESCRIPTION:Regular Season match: THE LONG SHOTS vs BOCCE WI
 NERS
LOCATION:Martinez Court 15
END:VEVENT
BEGIN:VEVENT
DTSTAMP:20260419T000000Z
UID:42fabe8e-d61a-4926-a963-cca18b134a00@ClaytonBocce
DTSTART;TZID=America/Los_Angeles:20260902T183000
DTEND;TZID=America/Los_Angeles:20260902T210000
STATUS:CONFIRMED
SUMMARY:THE LONG SHOTS vs FUN WONS
URL:/League/Schedule/3025
DESCRIPTION:Regular Season match: THE LONG SHOTS vs FUN WONS
LOCATION:Martinez Court 3
END:VEVENT
BEGIN:VEVENT
DTSTAMP:20260419T000000Z
UID:bef6edbf-e3de-4771-883b-25211fe92f55@ClaytonBocce
DTSTART;TZID=America/Los_Angeles:20260909T183000
DTEND;TZID=America/Los_Angeles:20260909T210000
STATUS:CONFIRMED
SUMMARY:THE LONG SHOTS vs MARINA MAULERS
URL:/League/Schedule/3025
DESCRIPTION:Regular Season match: THE LONG SHOTS vs MARINA M
 AULERS
LOCATION:Martinez Court 8
END:VEVENT
BEGIN:VEVENT
DTSTAMP:20260419T000000Z
UID:4aca7bab-184d-407c-aa7e-b5f56ec1da22@ClaytonBocce
DTSTART;TZID=America/Los_Angeles:20260916T183000
DTEND;TZID=America/Los_Angeles:20260916T210000
STATUS:CONFIRMED
SUMMARY:THE LONG SHOTS vs BALLS OF JUSTICE
URL:/League/Schedule/3025
DESCRIPTION:Regular Season match: THE LONG SHOTS vs BALLS OF
  JUSTICE
LOCATION:Martinez Court 5
END:VEVENT
END:VCALENDAR
