BEGIN:VCALENDAR
VERSION:2.0
PRODID:-//Clayton Bocce League
METHOD:PUBLISH
BEGIN:VTIMEZONE
TZID:America/Los_Angeles
X-LIC-LOCATION:America/Los_Angeles
BEGIN:DAYLIGHT
TZOFFSETFROM:-0800
TZOFFSETTO:-0700
TZNAME:PDT
DTSTART:20070311T020000
RRULE:FREQ=YEARLY;BYMONTH=3;BYDAY=2SU
END:DAYLIGHT
BEGIN:STANDARD
TZOFFSETFROM:-0700
TZOFFSETTO:-0800
TZNAME:PST
DTSTART:20071104T020000
RRULE:FREQ=YEARLY;BYMONTH=11;BYDAY=1SU
END:STANDARD
END:VTIMEZONE
BEGIN:VEVENT
DTSTAMP:20260419T000000Z
UID:8bd0630b-45b8-4b07-b765-be3abb2c2ea9@ClaytonBocce
DTSTART;TZID=America/Los_Angeles:20260422T183000
DTEND;TZID=America/Los_Angeles:20260422T210000
STATUS:CONFIRMED
SUMMARY:ROTARY ROLLERS vs TEAM KIWANIS
URL:/League/Schedule/3020
DESCRIPTION:Regular Season match: ROTARY ROLLERS vs TEAM KIW
 ANIS
LOCATION:Martinez Court 4
END:VEVENT
BEGIN:VEVENT
DTSTAMP:20260419T000000Z
UID:4a0b7109-935d-491d-862e-800e202c54b8@ClaytonBocce
DTSTART;TZID=America/Los_Angeles:20260506T183000
DTEND;TZID=America/Los_Angeles:20260506T210000
STATUS:CONFIRMED
SUMMARY:ROTARY ROLLERS vs RAPID ROLLERS
URL:/League/Schedule/3020
DESCRIPTION:Regular Season match: ROTARY ROLLERS vs RAPID RO
 LLERS
LOCATION:Martinez Court 15
END:VEVENT
BEGIN:VEVENT
DTSTAMP:20260419T000000Z
UID:feb930f3-f02d-447f-824e-b44a71567d49@ClaytonBocce
DTSTART;TZID=America/Los_Angeles:20260513T183000
DTEND;TZID=America/Los_Angeles:20260513T210000
STATUS:CONFIRMED
SUMMARY:ROTARY ROLLERS vs HOLD MY BEER
URL:/League/Schedule/3020
DESCRIPTION:Regular Season match: ROTARY ROLLERS vs HOLD MY 
 BEER
LOCATION:Martinez Court 2
END:VEVENT
BEGIN:VEVENT
DTSTAMP:20260419T000000Z
UID:bee8379c-afbc-48c0-ac46-4b759a0258e9@ClaytonBocce
DTSTART;TZID=America/Los_Angeles:20260520T183000
DTEND;TZID=America/Los_Angeles:20260520T210000
STATUS:CONFIRMED
SUMMARY:ROTARY ROLLERS vs WE'RE IN THERE
URL:/League/Schedule/3020
DESCRIPTION:Regular Season match: ROTARY ROLLERS vs WE'RE IN
  THERE
LOCATION:Martinez Court 8
END:VEVENT
BEGIN:VEVENT
DTSTAMP:20260419T000000Z
UID:11e912e7-e3d0-4e80-9c8c-6322a3a661cd@ClaytonBocce
DTSTART;TZID=America/Los_Angeles:20260527T183000
DTEND;TZID=America/Los_Angeles:20260527T210000
STATUS:CONFIRMED
SUMMARY:ROTARY ROLLERS vs BORN AND RAISED
URL:/League/Schedule/3020
DESCRIPTION:Regular Season match: ROTARY ROLLERS vs BORN AND
  RAISED
LOCATION:Martinez Court 9
END:VEVENT
BEGIN:VEVENT
DTSTAMP:20260419T000000Z
UID:814d4f71-d41d-4c2b-8fde-859c1900f6d3@ClaytonBocce
DTSTART;TZID=America/Los_Angeles:20260603T183000
DTEND;TZID=America/Los_Angeles:20260603T210000
STATUS:CONFIRMED
SUMMARY:ROTARY ROLLERS vs BOCCE BENE
URL:/League/Schedule/3020
DESCRIPTION:Regular Season match: ROTARY ROLLERS vs BOCCE BE
 NE
LOCATION:Martinez Court 12
END:VEVENT
BEGIN:VEVENT
DTSTAMP:20260419T000000Z
UID:9174dd62-0456-45be-b151-db7f24708035@ClaytonBocce
DTSTART;TZID=America/Los_Angeles:20260610T183000
DTEND;TZID=America/Los_Angeles:20260610T210000
STATUS:CONFIRMED
SUMMARY:ROTARY ROLLERS vs TEAM KIWANIS
URL:/League/Schedule/3020
DESCRIPTION:Regular Season match: ROTARY ROLLERS vs TEAM KIW
 ANIS
LOCATION:Martinez Court 5
END:VEVENT
BEGIN:VEVENT
DTSTAMP:20260419T000000Z
UID:35accef1-d716-442e-b139-222931f4c443@ClaytonBocce
DTSTART;TZID=America/Los_Angeles:20260624T183000
DTEND;TZID=America/Los_Angeles:20260624T210000
STATUS:CONFIRMED
SUMMARY:ROTARY ROLLERS vs RAPID ROLLERS
URL:/League/Schedule/3020
DESCRIPTION:Regular Season match: ROTARY ROLLERS vs RAPID RO
 LLERS
LOCATION:Martinez Court 11
END:VEVENT
BEGIN:VEVENT
DTSTAMP:20260419T000000Z
UID:fb1c0803-5e65-4b0f-a741-852dbccec534@ClaytonBocce
DTSTART;TZID=America/Los_Angeles:20260708T183000
DTEND;TZID=America/Los_Angeles:20260708T210000
STATUS:CONFIRMED
SUMMARY:ROTARY ROLLERS vs HOLD MY BEER
URL:/League/Schedule/3020
DESCRIPTION:Regular Season match: ROTARY ROLLERS vs HOLD MY 
 BEER
LOCATION:Martinez Court 10
END:VEVENT
BEGIN:VEVENT
DTSTAMP:20260419T000000Z
UID:03856e66-1916-42ec-9acc-9803832f72ea@ClaytonBocce
DTSTART;TZID=America/Los_Angeles:20260715T183000
DTEND;TZID=America/Los_Angeles:20260715T210000
STATUS:CONFIRMED
SUMMARY:ROTARY ROLLERS vs WE'RE IN THERE
URL:/League/Schedule/3020
DESCRIPTION:Regular Season match: ROTARY ROLLERS vs WE'RE IN
  THERE
LOCATION:Martinez Court 13
END:VEVENT
BEGIN:VEVENT
DTSTAMP:20260419T000000Z
UID:41ed0de2-efbb-4c61-9431-55a8fc10cc13@ClaytonBocce
DTSTART;TZID=America/Los_Angeles:20260722T183000
DTEND;TZID=America/Los_Angeles:20260722T210000
STATUS:CONFIRMED
SUMMARY:ROTARY ROLLERS vs BORN AND RAISED
URL:/League/Schedule/3020
DESCRIPTION:Regular Season match: ROTARY ROLLERS vs BORN AND
  RAISED
LOCATION:Martinez Court 14
END:VEVENT
BEGIN:VEVENT
DTSTAMP:20260419T000000Z
UID:9e1fb313-af41-4a3a-bf41-a748efa0b744@ClaytonBocce
DTSTART;TZID=America/Los_Angeles:20260729T183000
DTEND;TZID=America/Los_Angeles:20260729T210000
STATUS:CONFIRMED
SUMMARY:ROTARY ROLLERS vs BOCCE BENE
URL:/League/Schedule/3020
DESCRIPTION:Regular Season match: ROTARY ROLLERS vs BOCCE BE
 NE
LOCATION:Martinez Court 5
END:VEVENT
BEGIN:VEVENT
DTSTAMP:20260419T000000Z
UID:38d7d8d6-87db-43aa-aa96-c7a36fb7fe17@ClaytonBocce
DTSTART;TZID=America/Los_Angeles:20260805T183000
DTEND;TZID=America/Los_Angeles:20260805T210000
STATUS:CONFIRMED
SUMMARY:ROTARY ROLLERS vs TEAM KIWANIS
URL:/League/Schedule/3020
DESCRIPTION:Regular Season match: ROTARY ROLLERS vs TEAM KIW
 ANIS
LOCATION:Martinez Court 12
END:VEVENT
BEGIN:VEVENT
DTSTAMP:20260419T000000Z
UID:63ee0d67-adb7-44ef-a9d0-9a96d2ac40ff@ClaytonBocce
DTSTART;TZID=America/Los_Angeles:20260819T183000
DTEND;TZID=America/Los_Angeles:20260819T210000
STATUS:CONFIRMED
SUMMARY:ROTARY ROLLERS vs RAPID ROLLERS
URL:/League/Schedule/3020
DESCRIPTION:Regular Season match: ROTARY ROLLERS vs RAPID RO
 LLERS
LOCATION:Martinez Court 3
END:VEVENT
BEGIN:VEVENT
DTSTAMP:20260419T000000Z
UID:81e24aae-aad4-486a-99e4-ed5c1cae07e3@ClaytonBocce
DTSTART;TZID=America/Los_Angeles:20260826T183000
DTEND;TZID=America/Los_Angeles:20260826T210000
STATUS:CONFIRMED
SUMMARY:ROTARY ROLLERS vs HOLD MY BEER
URL:/League/Schedule/3020
DESCRIPTION:Regular Season match: ROTARY ROLLERS vs HOLD MY 
 BEER
LOCATION:Martinez Court 6
END:VEVENT
BEGIN:VEVENT
DTSTAMP:20260419T000000Z
UID:6d4abb8e-f15c-4029-8a51-0ba22c59755e@ClaytonBocce
DTSTART;TZID=America/Los_Angeles:20260902T183000
DTEND;TZID=America/Los_Angeles:20260902T210000
STATUS:CONFIRMED
SUMMARY:ROTARY ROLLERS vs WE'RE IN THERE
URL:/League/Schedule/3020
DESCRIPTION:Regular Season match: ROTARY ROLLERS vs WE'RE IN
  THERE
LOCATION:Martinez Court 1
END:VEVENT
BEGIN:VEVENT
DTSTAMP:20260419T000000Z
UID:d544fd01-b778-4455-a934-5bbec464f84f@ClaytonBocce
DTSTART;TZID=America/Los_Angeles:20260909T183000
DTEND;TZID=America/Los_Angeles:20260909T210000
STATUS:CONFIRMED
SUMMARY:ROTARY ROLLERS vs BORN AND RAISED
URL:/League/Schedule/3020
DESCRIPTION:Regular Season match: ROTARY ROLLERS vs BORN AND
  RAISED
LOCATION:Martinez Court 13
END:VEVENT
BEGIN:VEVENT
DTSTAMP:20260419T000000Z
UID:144bde35-29a4-4313-81b3-888d347c0732@ClaytonBocce
DTSTART;TZID=America/Los_Angeles:20260916T183000
DTEND;TZID=America/Los_Angeles:20260916T210000
STATUS:CONFIRMED
SUMMARY:ROTARY ROLLERS vs BOCCE BENE
URL:/League/Schedule/3020
DESCRIPTION:Regular Season match: ROTARY ROLLERS vs BOCCE BE
 NE
LOCATION:Martinez Court 9
END:VEVENT
END:VCALENDAR
