BEGIN:VCALENDAR
VERSION:2.0
PRODID:-//Clayton Bocce League
METHOD:PUBLISH
BEGIN:VTIMEZONE
TZID:America/Los_Angeles
X-LIC-LOCATION:America/Los_Angeles
BEGIN:DAYLIGHT
TZOFFSETFROM:-0800
TZOFFSETTO:-0700
TZNAME:PDT
DTSTART:20070311T020000
RRULE:FREQ=YEARLY;BYMONTH=3;BYDAY=2SU
END:DAYLIGHT
BEGIN:STANDARD
TZOFFSETFROM:-0700
TZOFFSETTO:-0800
TZNAME:PST
DTSTART:20071104T020000
RRULE:FREQ=YEARLY;BYMONTH=11;BYDAY=1SU
END:STANDARD
END:VTIMEZONE
BEGIN:VEVENT
DTSTAMP:20260419T000000Z
UID:5c7ca387-5dc8-42a7-8890-de9f2a728591@ClaytonBocce
DTSTART;TZID=America/Los_Angeles:20260429T183000
DTEND;TZID=America/Los_Angeles:20260429T210000
STATUS:CONFIRMED
SUMMARY:CROCKETT ROCKETS vs RED HOOK RED DEVILS
URL:/League/Schedule/3014
DESCRIPTION:Regular Season match: CROCKETT ROCKETS vs RED HO
 OK RED DEVILS
LOCATION:Martinez Court 8
END:VEVENT
BEGIN:VEVENT
DTSTAMP:20260419T000000Z
UID:ab6078a3-1e7e-479c-9c1d-4ffb91decaf1@ClaytonBocce
DTSTART;TZID=America/Los_Angeles:20260506T183000
DTEND;TZID=America/Los_Angeles:20260506T210000
STATUS:CONFIRMED
SUMMARY:CROCKETT ROCKETS vs DELLA PIPA
URL:/League/Schedule/3014
DESCRIPTION:Regular Season match: CROCKETT ROCKETS vs DELLA 
 PIPA
LOCATION:Martinez Court 13
END:VEVENT
BEGIN:VEVENT
DTSTAMP:20260419T000000Z
UID:3e5e162d-4ec7-4ac9-9e3e-911a9deb1c5e@ClaytonBocce
DTSTART;TZID=America/Los_Angeles:20260513T183000
DTEND;TZID=America/Los_Angeles:20260513T210000
STATUS:CONFIRMED
SUMMARY:CROCKETT ROCKETS vs MAINLY GREEKS
URL:/League/Schedule/3014
DESCRIPTION:Regular Season match: CROCKETT ROCKETS vs MAINLY
  GREEKS
LOCATION:Martinez Court 1
END:VEVENT
BEGIN:VEVENT
DTSTAMP:20260419T000000Z
UID:4b0556f1-e248-40eb-a403-942cc5147dfd@ClaytonBocce
DTSTART;TZID=America/Los_Angeles:20260520T183000
DTEND;TZID=America/Los_Angeles:20260520T210000
STATUS:CONFIRMED
SUMMARY:CROCKETT ROCKETS vs PICNIC DUCKS
URL:/League/Schedule/3014
DESCRIPTION:Regular Season match: CROCKETT ROCKETS vs PICNIC
  DUCKS
LOCATION:Martinez Court 5
END:VEVENT
BEGIN:VEVENT
DTSTAMP:20260419T000000Z
UID:57f61cde-0e5d-44a5-9d2f-eec7bf064a7e@ClaytonBocce
DTSTART;TZID=America/Los_Angeles:20260527T183000
DTEND;TZID=America/Los_Angeles:20260527T210000
STATUS:CONFIRMED
SUMMARY:CROCKETT ROCKETS vs BOCCE INC.
URL:/League/Schedule/3014
DESCRIPTION:Regular Season match: CROCKETT ROCKETS vs BOCCE 
 INC.
LOCATION:Martinez Court 4
END:VEVENT
BEGIN:VEVENT
DTSTAMP:20260419T000000Z
UID:9fec17eb-57ad-494c-b73e-acd3ffc9bcf1@ClaytonBocce
DTSTART;TZID=America/Los_Angeles:20260603T183000
DTEND;TZID=America/Los_Angeles:20260603T210000
STATUS:CONFIRMED
SUMMARY:CROCKETT ROCKETS vs LA MACCHINA
URL:/League/Schedule/3014
DESCRIPTION:Regular Season match: CROCKETT ROCKETS vs LA MAC
 CHINA
LOCATION:Martinez Court 11
END:VEVENT
BEGIN:VEVENT
DTSTAMP:20260419T000000Z
UID:379ffc77-d6a0-49e6-8358-c9a30dfdd88b@ClaytonBocce
DTSTART;TZID=America/Los_Angeles:20260617T183000
DTEND;TZID=America/Los_Angeles:20260617T210000
STATUS:CONFIRMED
SUMMARY:CROCKETT ROCKETS vs RED HOOK RED DEVILS
URL:/League/Schedule/3014
DESCRIPTION:Regular Season match: CROCKETT ROCKETS vs RED HO
 OK RED DEVILS
LOCATION:Martinez Court 12
END:VEVENT
BEGIN:VEVENT
DTSTAMP:20260419T000000Z
UID:2981880b-ba6d-48e0-802c-832aba762cf4@ClaytonBocce
DTSTART;TZID=America/Los_Angeles:20260624T183000
DTEND;TZID=America/Los_Angeles:20260624T210000
STATUS:CONFIRMED
SUMMARY:CROCKETT ROCKETS vs DELLA PIPA
URL:/League/Schedule/3014
DESCRIPTION:Regular Season match: CROCKETT ROCKETS vs DELLA 
 PIPA
LOCATION:Martinez Court 14
END:VEVENT
BEGIN:VEVENT
DTSTAMP:20260419T000000Z
UID:65751176-dd9c-4dc4-942f-37afbf3b2f54@ClaytonBocce
DTSTART;TZID=America/Los_Angeles:20260708T183000
DTEND;TZID=America/Los_Angeles:20260708T210000
STATUS:CONFIRMED
SUMMARY:CROCKETT ROCKETS vs MAINLY GREEKS
URL:/League/Schedule/3014
DESCRIPTION:Regular Season match: CROCKETT ROCKETS vs MAINLY
  GREEKS
LOCATION:Martinez Court 9
END:VEVENT
BEGIN:VEVENT
DTSTAMP:20260419T000000Z
UID:752a6eec-2e1b-4d66-93a0-68eff6486978@ClaytonBocce
DTSTART;TZID=America/Los_Angeles:20260715T183000
DTEND;TZID=America/Los_Angeles:20260715T210000
STATUS:CONFIRMED
SUMMARY:CROCKETT ROCKETS vs PICNIC DUCKS
URL:/League/Schedule/3014
DESCRIPTION:Regular Season match: CROCKETT ROCKETS vs PICNIC
  DUCKS
LOCATION:Martinez Court 10
END:VEVENT
BEGIN:VEVENT
DTSTAMP:20260419T000000Z
UID:a185443c-8729-4562-b544-350c28687f81@ClaytonBocce
DTSTART;TZID=America/Los_Angeles:20260722T183000
DTEND;TZID=America/Los_Angeles:20260722T210000
STATUS:CONFIRMED
SUMMARY:CROCKETT ROCKETS vs BOCCE INC.
URL:/League/Schedule/3014
DESCRIPTION:Regular Season match: CROCKETT ROCKETS vs BOCCE 
 INC.
LOCATION:Martinez Court 7
END:VEVENT
BEGIN:VEVENT
DTSTAMP:20260419T000000Z
UID:de6b138e-ec6c-45f6-94a9-4499afb54426@ClaytonBocce
DTSTART;TZID=America/Los_Angeles:20260729T183000
DTEND;TZID=America/Los_Angeles:20260729T210000
STATUS:CONFIRMED
SUMMARY:CROCKETT ROCKETS vs LA MACCHINA
URL:/League/Schedule/3014
DESCRIPTION:Regular Season match: CROCKETT ROCKETS vs LA MAC
 CHINA
LOCATION:Martinez Court 15
END:VEVENT
BEGIN:VEVENT
DTSTAMP:20260419T000000Z
UID:da313f35-8306-42c3-9624-2c6c93f7c38b@ClaytonBocce
DTSTART;TZID=America/Los_Angeles:20260812T183000
DTEND;TZID=America/Los_Angeles:20260812T210000
STATUS:CONFIRMED
SUMMARY:CROCKETT ROCKETS vs RED HOOK RED DEVILS
URL:/League/Schedule/3014
DESCRIPTION:Regular Season match: CROCKETT ROCKETS vs RED HO
 OK RED DEVILS
LOCATION:Martinez Court 6
END:VEVENT
BEGIN:VEVENT
DTSTAMP:20260419T000000Z
UID:f0111107-a514-496d-a7f0-f65d4c61704a@ClaytonBocce
DTSTART;TZID=America/Los_Angeles:20260819T183000
DTEND;TZID=America/Los_Angeles:20260819T210000
STATUS:CONFIRMED
SUMMARY:CROCKETT ROCKETS vs DELLA PIPA
URL:/League/Schedule/3014
DESCRIPTION:Regular Season match: CROCKETT ROCKETS vs DELLA 
 PIPA
LOCATION:Martinez Court 5
END:VEVENT
BEGIN:VEVENT
DTSTAMP:20260419T000000Z
UID:d2c36869-d586-4b79-836c-f32e71a77118@ClaytonBocce
DTSTART;TZID=America/Los_Angeles:20260826T183000
DTEND;TZID=America/Los_Angeles:20260826T210000
STATUS:CONFIRMED
SUMMARY:CROCKETT ROCKETS vs MAINLY GREEKS
URL:/League/Schedule/3014
DESCRIPTION:Regular Season match: CROCKETT ROCKETS vs MAINLY
  GREEKS
LOCATION:Martinez Court 14
END:VEVENT
BEGIN:VEVENT
DTSTAMP:20260419T000000Z
UID:bad0eba5-16ce-447c-9aa6-168e3283ffc3@ClaytonBocce
DTSTART;TZID=America/Los_Angeles:20260902T183000
DTEND;TZID=America/Los_Angeles:20260902T210000
STATUS:CONFIRMED
SUMMARY:CROCKETT ROCKETS vs PICNIC DUCKS
URL:/League/Schedule/3014
DESCRIPTION:Regular Season match: CROCKETT ROCKETS vs PICNIC
  DUCKS
LOCATION:Martinez Court 10
END:VEVENT
BEGIN:VEVENT
DTSTAMP:20260419T000000Z
UID:de2f05e6-24f5-4368-8bde-0d1ffbdeab7b@ClaytonBocce
DTSTART;TZID=America/Los_Angeles:20260909T183000
DTEND;TZID=America/Los_Angeles:20260909T210000
STATUS:CONFIRMED
SUMMARY:CROCKETT ROCKETS vs BOCCE INC.
URL:/League/Schedule/3014
DESCRIPTION:Regular Season match: CROCKETT ROCKETS vs BOCCE 
 INC.
LOCATION:Martinez Court 2
END:VEVENT
BEGIN:VEVENT
DTSTAMP:20260419T000000Z
UID:18b67e69-60c3-4371-9974-51f943ab95e4@ClaytonBocce
DTSTART;TZID=America/Los_Angeles:20260916T183000
DTEND;TZID=America/Los_Angeles:20260916T210000
STATUS:CONFIRMED
SUMMARY:CROCKETT ROCKETS vs LA MACCHINA
URL:/League/Schedule/3014
DESCRIPTION:Regular Season match: CROCKETT ROCKETS vs LA MAC
 CHINA
LOCATION:Martinez Court 3
END:VEVENT
END:VCALENDAR
