BEGIN:VCALENDAR
VERSION:2.0
PRODID:-//Clayton Bocce League
METHOD:PUBLISH
BEGIN:VTIMEZONE
TZID:America/Los_Angeles
X-LIC-LOCATION:America/Los_Angeles
BEGIN:DAYLIGHT
TZOFFSETFROM:-0800
TZOFFSETTO:-0700
TZNAME:PDT
DTSTART:20070311T020000
RRULE:FREQ=YEARLY;BYMONTH=3;BYDAY=2SU
END:DAYLIGHT
BEGIN:STANDARD
TZOFFSETFROM:-0700
TZOFFSETTO:-0800
TZNAME:PST
DTSTART:20071104T020000
RRULE:FREQ=YEARLY;BYMONTH=11;BYDAY=1SU
END:STANDARD
END:VTIMEZONE
BEGIN:VEVENT
DTSTAMP:20260419T000000Z
UID:1aa80768-a634-4ff2-87ac-5440a1f4ee7e@ClaytonBocce
DTSTART;TZID=America/Los_Angeles:20260422T183000
DTEND;TZID=America/Los_Angeles:20260422T210000
STATUS:CONFIRMED
SUMMARY:MAINLY GREEKS vs LA MACCHINA
URL:/League/Schedule/3009
DESCRIPTION:Regular Season match: MAINLY GREEKS vs LA MACCHI
 NA
LOCATION:Martinez Court 2
END:VEVENT
BEGIN:VEVENT
DTSTAMP:20260419T000000Z
UID:d24730c2-b3c4-46d1-b63c-be8b71b42b78@ClaytonBocce
DTSTART;TZID=America/Los_Angeles:20260429T183000
DTEND;TZID=America/Los_Angeles:20260429T210000
STATUS:CONFIRMED
SUMMARY:MAINLY GREEKS vs DELLA PIPA
URL:/League/Schedule/3009
DESCRIPTION:Regular Season match: MAINLY GREEKS vs DELLA PIP
 A
LOCATION:Martinez Court 7
END:VEVENT
BEGIN:VEVENT
DTSTAMP:20260419T000000Z
UID:6f90bc36-91d1-4c71-a985-5130137104d6@ClaytonBocce
DTSTART;TZID=America/Los_Angeles:20260506T183000
DTEND;TZID=America/Los_Angeles:20260506T210000
STATUS:CONFIRMED
SUMMARY:MAINLY GREEKS vs PICNIC DUCKS
URL:/League/Schedule/3009
DESCRIPTION:Regular Season match: MAINLY GREEKS vs PICNIC DU
 CKS
LOCATION:Martinez Court 12
END:VEVENT
BEGIN:VEVENT
DTSTAMP:20260419T000000Z
UID:3e5e162d-4ec7-4ac9-9e3e-911a9deb1c5e@ClaytonBocce
DTSTART;TZID=America/Los_Angeles:20260513T183000
DTEND;TZID=America/Los_Angeles:20260513T210000
STATUS:CONFIRMED
SUMMARY:MAINLY GREEKS vs CROCKETT ROCKETS
URL:/League/Schedule/3009
DESCRIPTION:Regular Season match: MAINLY GREEKS vs CROCKETT 
 ROCKETS
LOCATION:Martinez Court 1
END:VEVENT
BEGIN:VEVENT
DTSTAMP:20260419T000000Z
UID:5f916dd7-dfb7-4a26-beda-7d3f0d7ca60e@ClaytonBocce
DTSTART;TZID=America/Los_Angeles:20260520T183000
DTEND;TZID=America/Los_Angeles:20260520T210000
STATUS:CONFIRMED
SUMMARY:MAINLY GREEKS vs BOCCE INC.
URL:/League/Schedule/3009
DESCRIPTION:Regular Season match: MAINLY GREEKS vs BOCCE INC
 .
LOCATION:Martinez Court 3
END:VEVENT
BEGIN:VEVENT
DTSTAMP:20260419T000000Z
UID:08488c3e-685c-4602-95f0-7d16437112a6@ClaytonBocce
DTSTART;TZID=America/Los_Angeles:20260603T183000
DTEND;TZID=America/Los_Angeles:20260603T210000
STATUS:CONFIRMED
SUMMARY:MAINLY GREEKS vs RED HOOK RED DEVILS
URL:/League/Schedule/3009
DESCRIPTION:Regular Season match: MAINLY GREEKS vs RED HOOK 
 RED DEVILS
LOCATION:Martinez Court 10
END:VEVENT
BEGIN:VEVENT
DTSTAMP:20260419T000000Z
UID:3cdcfdcf-3113-4ba8-8197-03953c7f2ba8@ClaytonBocce
DTSTART;TZID=America/Los_Angeles:20260610T183000
DTEND;TZID=America/Los_Angeles:20260610T210000
STATUS:CONFIRMED
SUMMARY:MAINLY GREEKS vs LA MACCHINA
URL:/League/Schedule/3009
DESCRIPTION:Regular Season match: MAINLY GREEKS vs LA MACCHI
 NA
LOCATION:Martinez Court 8
END:VEVENT
BEGIN:VEVENT
DTSTAMP:20260419T000000Z
UID:38a3ffef-1520-4f93-af8a-79b37f489a9f@ClaytonBocce
DTSTART;TZID=America/Los_Angeles:20260617T183000
DTEND;TZID=America/Los_Angeles:20260617T210000
STATUS:CONFIRMED
SUMMARY:MAINLY GREEKS vs DELLA PIPA
URL:/League/Schedule/3009
DESCRIPTION:Regular Season match: MAINLY GREEKS vs DELLA PIP
 A
LOCATION:Martinez Court 4
END:VEVENT
BEGIN:VEVENT
DTSTAMP:20260419T000000Z
UID:50511425-643d-4dbe-b7a6-c74970352074@ClaytonBocce
DTSTART;TZID=America/Los_Angeles:20260624T183000
DTEND;TZID=America/Los_Angeles:20260624T210000
STATUS:CONFIRMED
SUMMARY:MAINLY GREEKS vs PICNIC DUCKS
URL:/League/Schedule/3009
DESCRIPTION:Regular Season match: MAINLY GREEKS vs PICNIC DU
 CKS
LOCATION:Martinez Court 15
END:VEVENT
BEGIN:VEVENT
DTSTAMP:20260419T000000Z
UID:65751176-dd9c-4dc4-942f-37afbf3b2f54@ClaytonBocce
DTSTART;TZID=America/Los_Angeles:20260708T183000
DTEND;TZID=America/Los_Angeles:20260708T210000
STATUS:CONFIRMED
SUMMARY:MAINLY GREEKS vs CROCKETT ROCKETS
URL:/League/Schedule/3009
DESCRIPTION:Regular Season match: MAINLY GREEKS vs CROCKETT 
 ROCKETS
LOCATION:Martinez Court 9
END:VEVENT
BEGIN:VEVENT
DTSTAMP:20260419T000000Z
UID:80a15e9e-7d44-4d3d-9def-4aee22fdbf2c@ClaytonBocce
DTSTART;TZID=America/Los_Angeles:20260715T183000
DTEND;TZID=America/Los_Angeles:20260715T210000
STATUS:CONFIRMED
SUMMARY:MAINLY GREEKS vs BOCCE INC.
URL:/League/Schedule/3009
DESCRIPTION:Regular Season match: MAINLY GREEKS vs BOCCE INC
 .
LOCATION:Martinez Court 5
END:VEVENT
BEGIN:VEVENT
DTSTAMP:20260419T000000Z
UID:ac240ad9-74fc-4390-8f88-206bd68850cc@ClaytonBocce
DTSTART;TZID=America/Los_Angeles:20260729T183000
DTEND;TZID=America/Los_Angeles:20260729T210000
STATUS:CONFIRMED
SUMMARY:MAINLY GREEKS vs RED HOOK RED DEVILS
URL:/League/Schedule/3009
DESCRIPTION:Regular Season match: MAINLY GREEKS vs RED HOOK 
 RED DEVILS
LOCATION:Martinez Court 13
END:VEVENT
BEGIN:VEVENT
DTSTAMP:20260419T000000Z
UID:17005c9f-13dd-41a3-a0a3-ce18d0e3d054@ClaytonBocce
DTSTART;TZID=America/Los_Angeles:20260805T183000
DTEND;TZID=America/Los_Angeles:20260805T210000
STATUS:CONFIRMED
SUMMARY:MAINLY GREEKS vs LA MACCHINA
URL:/League/Schedule/3009
DESCRIPTION:Regular Season match: MAINLY GREEKS vs LA MACCHI
 NA
LOCATION:Martinez Court 10
END:VEVENT
BEGIN:VEVENT
DTSTAMP:20260419T000000Z
UID:9b97bb70-382a-41fc-b3c6-40e54f5d7566@ClaytonBocce
DTSTART;TZID=America/Los_Angeles:20260812T183000
DTEND;TZID=America/Los_Angeles:20260812T210000
STATUS:CONFIRMED
SUMMARY:MAINLY GREEKS vs DELLA PIPA
URL:/League/Schedule/3009
DESCRIPTION:Regular Season match: MAINLY GREEKS vs DELLA PIP
 A
LOCATION:Martinez Court 2
END:VEVENT
BEGIN:VEVENT
DTSTAMP:20260419T000000Z
UID:388e2602-7a31-4dc1-9373-76cace612aef@ClaytonBocce
DTSTART;TZID=America/Los_Angeles:20260819T183000
DTEND;TZID=America/Los_Angeles:20260819T210000
STATUS:CONFIRMED
SUMMARY:MAINLY GREEKS vs PICNIC DUCKS
URL:/League/Schedule/3009
DESCRIPTION:Regular Season match: MAINLY GREEKS vs PICNIC DU
 CKS
LOCATION:Martinez Court 6
END:VEVENT
BEGIN:VEVENT
DTSTAMP:20260419T000000Z
UID:d2c36869-d586-4b79-836c-f32e71a77118@ClaytonBocce
DTSTART;TZID=America/Los_Angeles:20260826T183000
DTEND;TZID=America/Los_Angeles:20260826T210000
STATUS:CONFIRMED
SUMMARY:MAINLY GREEKS vs CROCKETT ROCKETS
URL:/League/Schedule/3009
DESCRIPTION:Regular Season match: MAINLY GREEKS vs CROCKETT 
 ROCKETS
LOCATION:Martinez Court 14
END:VEVENT
BEGIN:VEVENT
DTSTAMP:20260419T000000Z
UID:3b1dc68a-b7ef-4b0b-a957-7f335c2947cd@ClaytonBocce
DTSTART;TZID=America/Los_Angeles:20260902T183000
DTEND;TZID=America/Los_Angeles:20260902T210000
STATUS:CONFIRMED
SUMMARY:MAINLY GREEKS vs BOCCE INC.
URL:/League/Schedule/3009
DESCRIPTION:Regular Season match: MAINLY GREEKS vs BOCCE INC
 .
LOCATION:Martinez Court 11
END:VEVENT
BEGIN:VEVENT
DTSTAMP:20260419T000000Z
UID:a47543c9-6a0a-4a00-a1bf-fd1912dd4fd8@ClaytonBocce
DTSTART;TZID=America/Los_Angeles:20260916T183000
DTEND;TZID=America/Los_Angeles:20260916T210000
STATUS:CONFIRMED
SUMMARY:MAINLY GREEKS vs RED HOOK RED DEVILS
URL:/League/Schedule/3009
DESCRIPTION:Regular Season match: MAINLY GREEKS vs RED HOOK 
 RED DEVILS
LOCATION:Martinez Court 15
END:VEVENT
END:VCALENDAR
