BEGIN:VCALENDAR
VERSION:2.0
PRODID:-//Clayton Bocce League
METHOD:PUBLISH
BEGIN:VTIMEZONE
TZID:America/Los_Angeles
X-LIC-LOCATION:America/Los_Angeles
BEGIN:DAYLIGHT
TZOFFSETFROM:-0800
TZOFFSETTO:-0700
TZNAME:PDT
DTSTART:20070311T020000
RRULE:FREQ=YEARLY;BYMONTH=3;BYDAY=2SU
END:DAYLIGHT
BEGIN:STANDARD
TZOFFSETFROM:-0700
TZOFFSETTO:-0800
TZNAME:PST
DTSTART:20071104T020000
RRULE:FREQ=YEARLY;BYMONTH=11;BYDAY=1SU
END:STANDARD
END:VTIMEZONE
BEGIN:VEVENT
DTSTAMP:20260419T000000Z
UID:1aa80768-a634-4ff2-87ac-5440a1f4ee7e@ClaytonBocce
DTSTART;TZID=America/Los_Angeles:20260422T183000
DTEND;TZID=America/Los_Angeles:20260422T210000
STATUS:CONFIRMED
SUMMARY:LA MACCHINA vs MAINLY GREEKS
URL:/League/Schedule/3012
DESCRIPTION:Regular Season match: LA MACCHINA vs MAINLY GREE
 KS
LOCATION:Martinez Court 2
END:VEVENT
BEGIN:VEVENT
DTSTAMP:20260419T000000Z
UID:a88c8324-2d52-429d-a07e-373497a8bf88@ClaytonBocce
DTSTART;TZID=America/Los_Angeles:20260429T183000
DTEND;TZID=America/Los_Angeles:20260429T210000
STATUS:CONFIRMED
SUMMARY:LA MACCHINA vs BOCCE INC.
URL:/League/Schedule/3012
DESCRIPTION:Regular Season match: LA MACCHINA vs BOCCE INC.
LOCATION:Martinez Court 6
END:VEVENT
BEGIN:VEVENT
DTSTAMP:20260419T000000Z
UID:464bf5e5-6659-46ce-91e6-a498e6ee31ae@ClaytonBocce
DTSTART;TZID=America/Los_Angeles:20260513T183000
DTEND;TZID=America/Los_Angeles:20260513T210000
STATUS:CONFIRMED
SUMMARY:LA MACCHINA vs PICNIC DUCKS
URL:/League/Schedule/3012
DESCRIPTION:Regular Season match: LA MACCHINA vs PICNIC DUCK
 S
LOCATION:Martinez Court 14
END:VEVENT
BEGIN:VEVENT
DTSTAMP:20260419T000000Z
UID:82dab6bc-0772-4428-acdf-87f8c97e136f@ClaytonBocce
DTSTART;TZID=America/Los_Angeles:20260520T183000
DTEND;TZID=America/Los_Angeles:20260520T210000
STATUS:CONFIRMED
SUMMARY:LA MACCHINA vs RED HOOK RED DEVILS
URL:/League/Schedule/3012
DESCRIPTION:Regular Season match: LA MACCHINA vs RED HOOK RE
 D DEVILS
LOCATION:Martinez Court 4
END:VEVENT
BEGIN:VEVENT
DTSTAMP:20260419T000000Z
UID:5dd9c09e-55d0-4db1-9da4-c73ea249cba6@ClaytonBocce
DTSTART;TZID=America/Los_Angeles:20260527T183000
DTEND;TZID=America/Los_Angeles:20260527T210000
STATUS:CONFIRMED
SUMMARY:LA MACCHINA vs DELLA PIPA
URL:/League/Schedule/3012
DESCRIPTION:Regular Season match: LA MACCHINA vs DELLA PIPA
LOCATION:Martinez Court 5
END:VEVENT
BEGIN:VEVENT
DTSTAMP:20260419T000000Z
UID:9fec17eb-57ad-494c-b73e-acd3ffc9bcf1@ClaytonBocce
DTSTART;TZID=America/Los_Angeles:20260603T183000
DTEND;TZID=America/Los_Angeles:20260603T210000
STATUS:CONFIRMED
SUMMARY:LA MACCHINA vs CROCKETT ROCKETS
URL:/League/Schedule/3012
DESCRIPTION:Regular Season match: LA MACCHINA vs CROCKETT RO
 CKETS
LOCATION:Martinez Court 11
END:VEVENT
BEGIN:VEVENT
DTSTAMP:20260419T000000Z
UID:3cdcfdcf-3113-4ba8-8197-03953c7f2ba8@ClaytonBocce
DTSTART;TZID=America/Los_Angeles:20260610T183000
DTEND;TZID=America/Los_Angeles:20260610T210000
STATUS:CONFIRMED
SUMMARY:LA MACCHINA vs MAINLY GREEKS
URL:/League/Schedule/3012
DESCRIPTION:Regular Season match: LA MACCHINA vs MAINLY GREE
 KS
LOCATION:Martinez Court 8
END:VEVENT
BEGIN:VEVENT
DTSTAMP:20260419T000000Z
UID:c82388f8-fba5-42ca-b697-68cd056a9d4d@ClaytonBocce
DTSTART;TZID=America/Los_Angeles:20260617T183000
DTEND;TZID=America/Los_Angeles:20260617T210000
STATUS:CONFIRMED
SUMMARY:LA MACCHINA vs BOCCE INC.
URL:/League/Schedule/3012
DESCRIPTION:Regular Season match: LA MACCHINA vs BOCCE INC.
LOCATION:Martinez Court 10
END:VEVENT
BEGIN:VEVENT
DTSTAMP:20260419T000000Z
UID:d2562f18-dc06-42c6-8b75-9f74dc790eb3@ClaytonBocce
DTSTART;TZID=America/Los_Angeles:20260708T183000
DTEND;TZID=America/Los_Angeles:20260708T210000
STATUS:CONFIRMED
SUMMARY:LA MACCHINA vs PICNIC DUCKS
URL:/League/Schedule/3012
DESCRIPTION:Regular Season match: LA MACCHINA vs PICNIC DUCK
 S
LOCATION:Martinez Court 7
END:VEVENT
BEGIN:VEVENT
DTSTAMP:20260419T000000Z
UID:22117f1d-b392-44e6-a9ee-0b36f83d58ea@ClaytonBocce
DTSTART;TZID=America/Los_Angeles:20260715T183000
DTEND;TZID=America/Los_Angeles:20260715T210000
STATUS:CONFIRMED
SUMMARY:LA MACCHINA vs RED HOOK RED DEVILS
URL:/League/Schedule/3012
DESCRIPTION:Regular Season match: LA MACCHINA vs RED HOOK RE
 D DEVILS
LOCATION:Martinez Court 9
END:VEVENT
BEGIN:VEVENT
DTSTAMP:20260419T000000Z
UID:b9933c6c-02b5-41ac-8835-7355fa7a4aef@ClaytonBocce
DTSTART;TZID=America/Los_Angeles:20260722T183000
DTEND;TZID=America/Los_Angeles:20260722T210000
STATUS:CONFIRMED
SUMMARY:LA MACCHINA vs DELLA PIPA
URL:/League/Schedule/3012
DESCRIPTION:Regular Season match: LA MACCHINA vs DELLA PIPA
LOCATION:Martinez Court 12
END:VEVENT
BEGIN:VEVENT
DTSTAMP:20260419T000000Z
UID:de6b138e-ec6c-45f6-94a9-4499afb54426@ClaytonBocce
DTSTART;TZID=America/Los_Angeles:20260729T183000
DTEND;TZID=America/Los_Angeles:20260729T210000
STATUS:CONFIRMED
SUMMARY:LA MACCHINA vs CROCKETT ROCKETS
URL:/League/Schedule/3012
DESCRIPTION:Regular Season match: LA MACCHINA vs CROCKETT RO
 CKETS
LOCATION:Martinez Court 15
END:VEVENT
BEGIN:VEVENT
DTSTAMP:20260419T000000Z
UID:17005c9f-13dd-41a3-a0a3-ce18d0e3d054@ClaytonBocce
DTSTART;TZID=America/Los_Angeles:20260805T183000
DTEND;TZID=America/Los_Angeles:20260805T210000
STATUS:CONFIRMED
SUMMARY:LA MACCHINA vs MAINLY GREEKS
URL:/League/Schedule/3012
DESCRIPTION:Regular Season match: LA MACCHINA vs MAINLY GREE
 KS
LOCATION:Martinez Court 10
END:VEVENT
BEGIN:VEVENT
DTSTAMP:20260419T000000Z
UID:49a6d15a-95ba-4a82-b530-ef14ad401600@ClaytonBocce
DTSTART;TZID=America/Los_Angeles:20260812T183000
DTEND;TZID=America/Los_Angeles:20260812T210000
STATUS:CONFIRMED
SUMMARY:LA MACCHINA vs BOCCE INC.
URL:/League/Schedule/3012
DESCRIPTION:Regular Season match: LA MACCHINA vs BOCCE INC.
LOCATION:Martinez Court 3
END:VEVENT
BEGIN:VEVENT
DTSTAMP:20260419T000000Z
UID:9199576c-5e9a-4a82-98a8-dba5c99d16a8@ClaytonBocce
DTSTART;TZID=America/Los_Angeles:20260826T183000
DTEND;TZID=America/Los_Angeles:20260826T210000
STATUS:CONFIRMED
SUMMARY:LA MACCHINA vs PICNIC DUCKS
URL:/League/Schedule/3012
DESCRIPTION:Regular Season match: LA MACCHINA vs PICNIC DUCK
 S
LOCATION:Martinez Court 13
END:VEVENT
BEGIN:VEVENT
DTSTAMP:20260419T000000Z
UID:d1ffcd20-b015-4b61-a5db-ed373f83638f@ClaytonBocce
DTSTART;TZID=America/Los_Angeles:20260902T183000
DTEND;TZID=America/Los_Angeles:20260902T210000
STATUS:CONFIRMED
SUMMARY:LA MACCHINA vs RED HOOK RED DEVILS
URL:/League/Schedule/3012
DESCRIPTION:Regular Season match: LA MACCHINA vs RED HOOK RE
 D DEVILS
LOCATION:Martinez Court 2
END:VEVENT
BEGIN:VEVENT
DTSTAMP:20260419T000000Z
UID:f0d793db-f97a-40f1-8a34-7b66bf966946@ClaytonBocce
DTSTART;TZID=America/Los_Angeles:20260909T183000
DTEND;TZID=America/Los_Angeles:20260909T210000
STATUS:CONFIRMED
SUMMARY:LA MACCHINA vs DELLA PIPA
URL:/League/Schedule/3012
DESCRIPTION:Regular Season match: LA MACCHINA vs DELLA PIPA
LOCATION:Martinez Court 6
END:VEVENT
BEGIN:VEVENT
DTSTAMP:20260419T000000Z
UID:18b67e69-60c3-4371-9974-51f943ab95e4@ClaytonBocce
DTSTART;TZID=America/Los_Angeles:20260916T183000
DTEND;TZID=America/Los_Angeles:20260916T210000
STATUS:CONFIRMED
SUMMARY:LA MACCHINA vs CROCKETT ROCKETS
URL:/League/Schedule/3012
DESCRIPTION:Regular Season match: LA MACCHINA vs CROCKETT RO
 CKETS
LOCATION:Martinez Court 3
END:VEVENT
END:VCALENDAR
